| Back to Workflows build report for BioC 3.9 |
This page was generated on 2019-01-30 16:00:23 -0500 (Wed, 30 Jan 2019).
| Package 22/23 | Hostname | OS / Arch | INSTALL | BUILD | ||||||
| TCGAWorkflow 1.7.0 Tiago Chedraoui Silva
| malbec2 | Linux (Ubuntu 18.04.1 LTS) / x86_64 | OK | OK | ||||||
| tokay2 | Windows Server 2012 R2 Standard / x64 | [ OK ] | ERROR |
| Package: TCGAWorkflow |
| Version: 1.7.0 |
| Command: C:\cygwin\bin\curl.exe -O https://malbec2.bioconductor.org/BBS/3.9/workflows/src/contrib/TCGAWorkflow_1.7.0.tar.gz && rm -rf TCGAWorkflow.buildbin-libdir && mkdir TCGAWorkflow.buildbin-libdir && C:\Users\biocbuild\bbs-3.9-bioc\R\bin\R.exe CMD INSTALL --merge-multiarch --build --library=TCGAWorkflow.buildbin-libdir TCGAWorkflow_1.7.0.tar.gz && C:\Users\biocbuild\bbs-3.9-bioc\R\bin\R.exe CMD INSTALL TCGAWorkflow_1.7.0.zip && rm TCGAWorkflow_1.7.0.tar.gz TCGAWorkflow_1.7.0.zip |
| StartedAt: 2019-01-30 09:35:22 -0500 (Wed, 30 Jan 2019) |
| EndedAt: 2019-01-30 09:37:47 -0500 (Wed, 30 Jan 2019) |
| EllapsedTime: 144.6 seconds |
| RetCode: 0 |
| Status: OK |
##############################################################################
##############################################################################
###
### Running command:
###
### C:\cygwin\bin\curl.exe -O https://malbec2.bioconductor.org/BBS/3.9/workflows/src/contrib/TCGAWorkflow_1.7.0.tar.gz && rm -rf TCGAWorkflow.buildbin-libdir && mkdir TCGAWorkflow.buildbin-libdir && C:\Users\biocbuild\bbs-3.9-bioc\R\bin\R.exe CMD INSTALL --merge-multiarch --build --library=TCGAWorkflow.buildbin-libdir TCGAWorkflow_1.7.0.tar.gz && C:\Users\biocbuild\bbs-3.9-bioc\R\bin\R.exe CMD INSTALL TCGAWorkflow_1.7.0.zip && rm TCGAWorkflow_1.7.0.tar.gz TCGAWorkflow_1.7.0.zip
###
##############################################################################
##############################################################################
% Total % Received % Xferd Average Speed Time Time Time Current
Dload Upload Total Spent Left Speed
0 0 0 0 0 0 0 0 --:--:-- --:--:-- --:--:-- 0
0 0 0 0 0 0 0 0 --:--:-- 0:00:03 --:--:-- 0
0 0 0 0 0 0 0 0 --:--:-- 0:00:04 --:--:-- 0
0 207k 0 0 0 0 0 0 --:--:-- 0:00:05 --:--:-- 0
100 207k 100 207k 0 0 40862 0 0:00:05 0:00:05 --:--:-- 43553
install for i386
* installing *source* package 'TCGAWorkflow' ...
** R
** byte-compile and prepare package for lazy loading
** help
*** installing help indices
converting help for package 'TCGAWorkflow'
finding HTML links ... done
TCGAWorkflow html
** building package indices
** installing vignettes
** testing if installed package can be loaded
install for x64
* installing *source* package 'TCGAWorkflow' ...
** testing if installed package can be loaded
* MD5 sums
packaged installation of 'TCGAWorkflow' as TCGAWorkflow_1.7.0.zip
* DONE (TCGAWorkflow)
* installing to library 'C:/Users/biocbuild/bbs-3.9-bioc/R/library'
package 'TCGAWorkflow' successfully unpacked and MD5 sums checked