Back to Multiple platform build/check report for BioC 3.9 |
|
This page was generated on 2019-04-03 11:28:39 -0400 (Wed, 03 Apr 2019).
Package 868/1696 | Hostname | OS / Arch | INSTALL | BUILD | CHECK | BUILD BIN | ||||||
LowMACA 1.13.1 Stefano de Pretis
| malbec2 | Linux (Ubuntu 18.04.2 LTS) / x86_64 | OK | OK | [ OK ] | ![]() | ||||||
tokay2 | Windows Server 2012 R2 Standard / x64 | OK | OK | OK | OK | ![]() | ||||||
celaya2 | OS X 10.11.6 El Capitan / x86_64 | OK | OK | OK | OK | ![]() | ||||||
merida2 | OS X 10.11.6 El Capitan / x86_64 | OK | OK | OK | OK |
Package: LowMACA |
Version: 1.13.1 |
Command: /home/biocbuild/bbs-3.9-bioc/R/bin/R CMD check --install=check:LowMACA.install-out.txt --library=/home/biocbuild/bbs-3.9-bioc/R/library --no-vignettes --timings LowMACA_1.13.1.tar.gz |
StartedAt: 2019-04-03 02:17:30 -0400 (Wed, 03 Apr 2019) |
EndedAt: 2019-04-03 02:30:25 -0400 (Wed, 03 Apr 2019) |
EllapsedTime: 774.4 seconds |
RetCode: 0 |
Status: OK |
CheckDir: LowMACA.Rcheck |
Warnings: 0 |
############################################################################## ############################################################################## ### ### Running command: ### ### /home/biocbuild/bbs-3.9-bioc/R/bin/R CMD check --install=check:LowMACA.install-out.txt --library=/home/biocbuild/bbs-3.9-bioc/R/library --no-vignettes --timings LowMACA_1.13.1.tar.gz ### ############################################################################## ############################################################################## * using log directory ‘/home/biocbuild/bbs-3.9-bioc/meat/LowMACA.Rcheck’ * using R Under development (unstable) (2019-03-18 r76245) * using platform: x86_64-pc-linux-gnu (64-bit) * using session charset: UTF-8 * using option ‘--no-vignettes’ * checking for file ‘LowMACA/DESCRIPTION’ ... OK * checking extension type ... Package * this is package ‘LowMACA’ version ‘1.13.1’ * checking package namespace information ... OK * checking package dependencies ... OK * checking if this is a source package ... OK * checking if there is a namespace ... OK * checking for hidden files and directories ... OK * checking for portable file names ... OK * checking for sufficient/correct file permissions ... OK * checking whether package ‘LowMACA’ can be installed ... OK * checking installed package size ... OK * checking package directory ... OK * checking ‘build’ directory ... OK * checking DESCRIPTION meta-information ... OK * checking top-level files ... OK * checking for left-over files ... OK * checking index information ... OK * checking package subdirectories ... OK * checking R files for non-ASCII characters ... OK * checking R files for syntax errors ... OK * checking whether the package can be loaded ... OK * checking whether the package can be loaded with stated dependencies ... OK * checking whether the package can be unloaded cleanly ... OK * checking whether the namespace can be loaded with stated dependencies ... OK * checking whether the namespace can be unloaded cleanly ... OK * checking dependencies in R code ... OK * checking S3 generic/method consistency ... OK * checking replacement functions ... OK * checking foreign function calls ... OK * checking R code for possible problems ... OK * checking Rd files ... OK * checking Rd metadata ... OK * checking Rd cross-references ... OK * checking for missing documentation entries ... OK * checking for code/documentation mismatches ... OK * checking Rd \usage sections ... OK * checking Rd contents ... OK * checking for unstated dependencies in examples ... OK * checking contents of ‘data’ directory ... OK * checking data for non-ASCII characters ... OK * checking data for ASCII and uncompressed saves ... OK * checking files in ‘vignettes’ ... OK * checking examples ... OK Examples with CPU or elapsed time > 5s user system elapsed allPfamAnalysis 183.587 12.722 204.352 lfmSingleSequence 99.513 6.485 111.748 LowMACA-class 10.033 2.921 38.817 LowMACA-package 9.526 2.705 28.086 setup 8.041 1.284 82.524 lmPlotSingleSequence 4.768 3.039 7.833 alignSequences 5.597 0.723 19.639 getMutations 1.026 0.273 9.330 * checking for unstated dependencies in vignettes ... OK * checking package vignettes in ‘inst/doc’ ... OK * checking running R code from vignettes ... SKIPPED * checking re-building of vignette outputs ... SKIPPED * checking PDF version of manual ... OK * DONE Status: OK
LowMACA.Rcheck/00install.out
############################################################################## ############################################################################## ### ### Running command: ### ### /home/biocbuild/bbs-3.9-bioc/R/bin/R CMD INSTALL LowMACA ### ############################################################################## ############################################################################## * installing to library ‘/home/biocbuild/bbs-3.9-bioc/R/library’ * installing *source* package ‘LowMACA’ ... ** using staged installation ** R ** data ** inst ** byte-compile and prepare package for lazy loading ** help *** installing help indices ** building package indices ** installing vignettes ** testing if installed package can be loaded from temporary location Checking if clustalo is in the PATH... Checking clustalo Version... Checking perl installation... Checking perl modules XML::Simple and LWP... ** testing if installed package can be loaded from final location Checking if clustalo is in the PATH... Checking clustalo Version... Checking perl installation... Checking perl modules XML::Simple and LWP... ** testing if installed package keeps a record of temporary installation path * DONE (LowMACA)
LowMACA.Rcheck/LowMACA-Ex.timings
name | user | system | elapsed | |
BLOSUM62 | 0.010 | 0.004 | 0.015 | |
LowMACA-class | 10.033 | 2.921 | 38.817 | |
LowMACA-package | 9.526 | 2.705 | 28.086 | |
LowMACA_AML | 0.034 | 0.000 | 0.051 | |
alignSequences | 5.597 | 0.723 | 19.639 | |
allPfamAnalysis | 183.587 | 12.722 | 204.352 | |
bpAll | 1.255 | 0.020 | 1.302 | |
entropy | 1.232 | 0.000 | 1.282 | |
getMutations | 1.026 | 0.273 | 9.330 | |
lfm | 2.088 | 0.067 | 2.185 | |
lfmSingleSequence | 99.513 | 6.485 | 111.748 | |
lmAlignment | 0.076 | 0.004 | 0.079 | |
lmEntropy | 1.284 | 0.024 | 1.309 | |
lmMutations | 0.054 | 0.000 | 0.054 | |
lmObj | 0.089 | 0.004 | 0.092 | |
lmParams | 0.615 | 0.256 | 0.870 | |
lmPlot | 1.430 | 0.084 | 1.516 | |
lmPlotSingleSequence | 4.768 | 3.039 | 7.833 | |
mapMutations | 0.635 | 0.015 | 0.650 | |
newLowMACA | 3.307 | 0.085 | 3.392 | |
nullProfile | 1.310 | 0.021 | 1.331 | |
parallelize | 0.779 | 0.000 | 0.779 | |
protter | 1.254 | 0.024 | 3.758 | |
setup | 8.041 | 1.284 | 82.524 | |
showTumorType | 0.053 | 0.128 | 0.500 | |