This page was generated on 2019-04-16 17:26:32 -0400 (Tue, 16 Apr 2019).
malbec1 |
Linux (Ubuntu 16.04.6 LTS) / x86_64 | | | |
|
annotation 1.4.0 | Bioconductor Package Maintainer | OK | OK | ![UNNEEDED, same version exists in internal repository UNNEEDED, same version exists in internal repository](120px-Blue_Light_Icon.svg.png) |
arrays 1.6.0 | Bioconductor Package Maintainer | OK | OK | ![UNNEEDED, same version exists in internal repository UNNEEDED, same version exists in internal repository](120px-Blue_Light_Icon.svg.png) |
BiocMetaWorkflow 1.2.0 | Mike Smith | OK | OK | ![UNNEEDED, same version exists in internal repository UNNEEDED, same version exists in internal repository](120px-Blue_Light_Icon.svg.png) |
chipseqDB 1.4.1 | Aaron Lun | OK | OK | ![UNNEEDED, same version exists in internal repository UNNEEDED, same version exists in internal repository](120px-Blue_Light_Icon.svg.png) |
cytofWorkflow 1.4.1 | Malgorzata Nowicka | OK | OK | ![UNNEEDED, same version exists in internal repository UNNEEDED, same version exists in internal repository](120px-Blue_Light_Icon.svg.png) |
EGSEA123 1.4.1 | Matthew Ritchie | OK | OK | ![UNNEEDED, same version exists in internal repository UNNEEDED, same version exists in internal repository](120px-Blue_Light_Icon.svg.png) |
eQTL 1.4.0 | Vincent Carey | OK | OK | ![UNNEEDED, same version exists in internal repository UNNEEDED, same version exists in internal repository](120px-Blue_Light_Icon.svg.png) |
ExpressionNormalizationWorkflow 1.6.1 | Karthikeyan Murugesan | OK | OK | ![UNNEEDED, same version exists in internal repository UNNEEDED, same version exists in internal repository](120px-Blue_Light_Icon.svg.png) |
generegulation 1.4.0 | Bioconductor Package Maintainer | OK | OK | ![UNNEEDED, same version exists in internal repository UNNEEDED, same version exists in internal repository](120px-Blue_Light_Icon.svg.png) |
highthroughputassays 1.4.1 | Bioconductor Package Maintainer | OK | OK | ![UNNEEDED, same version exists in internal repository UNNEEDED, same version exists in internal repository](120px-Blue_Light_Icon.svg.png) |
liftOver 1.4.0 | Bioconductor Package Maintainer | OK | OK | ![UNNEEDED, same version exists in internal repository UNNEEDED, same version exists in internal repository](120px-Blue_Light_Icon.svg.png) |
maEndToEnd 2.0.0 | Bernd Klaus | OK | OK | ![UNNEEDED, same version exists in internal repository UNNEEDED, same version exists in internal repository](120px-Blue_Light_Icon.svg.png) |
methylationArrayAnalysis 1.4.0 | Jovana Maksimovic | OK | OK | ![UNNEEDED, same version exists in internal repository UNNEEDED, same version exists in internal repository](120px-Blue_Light_Icon.svg.png) |
proteomics 1.4.1 | Laurent Gatto | OK | OK | ![UNNEEDED, same version exists in internal repository UNNEEDED, same version exists in internal repository](120px-Blue_Light_Icon.svg.png) |
recountWorkflow 1.4.2 | Leonardo Collado-Torres | OK | OK | ![UNNEEDED, same version exists in internal repository UNNEEDED, same version exists in internal repository](120px-Blue_Light_Icon.svg.png) |
RNAseq123 1.4.3 | Matthew Ritchie | OK | OK | ![UNNEEDED, same version exists in internal repository UNNEEDED, same version exists in internal repository](120px-Blue_Light_Icon.svg.png) |
rnaseqDTU 1.0.1 | Michael Love | OK | OK | ![UNNEEDED, same version exists in internal repository UNNEEDED, same version exists in internal repository](120px-Blue_Light_Icon.svg.png) |
rnaseqGene 1.4.1 | Michael Love | OK | OK | ![UNNEEDED, same version exists in internal repository UNNEEDED, same version exists in internal repository](120px-Blue_Light_Icon.svg.png) |
RnaSeqGeneEdgeRQL 1.4.1 | Yunshun Chen | OK | OK | ![UNNEEDED, same version exists in internal repository UNNEEDED, same version exists in internal repository](120px-Blue_Light_Icon.svg.png) |
sequencing 1.4.1 | Martin Morgan | OK | OK | ![UNNEEDED, same version exists in internal repository UNNEEDED, same version exists in internal repository](120px-Blue_Light_Icon.svg.png) |
simpleSingleCell 1.4.1 | Aaron Lun | OK | ERROR | |
TCGAWorkflow 1.4.1 | Tiago Chedraoui Silva | OK | OK | ![UNNEEDED, same version exists in internal repository UNNEEDED, same version exists in internal repository](120px-Blue_Light_Icon.svg.png) |
variants 1.4.1 | Bioconductor Package Maintainer | OK | OK | ![UNNEEDED, same version exists in internal repository UNNEEDED, same version exists in internal repository](120px-Blue_Light_Icon.svg.png) |