| Back to Workflows build report for BioC 3.8 |
This page was generated on 2019-04-16 17:26:32 -0400 (Tue, 16 Apr 2019).
| Package 17/23 | Hostname | OS / Arch | INSTALL | BUILD | ||||||
| rnaseqDTU 1.0.1 Michael Love
| malbec1 | Linux (Ubuntu 16.04.6 LTS) / x86_64 | OK | [ OK ] |
| Package: rnaseqDTU |
| Version: 1.0.1 |
| Command: /home/biocbuild/bbs-3.8-bioc/R/bin/R CMD build --keep-empty-dirs --no-resave-data rnaseqDTU |
| StartedAt: 2019-04-16 16:44:16 -0400 (Tue, 16 Apr 2019) |
| EndedAt: 2019-04-16 16:46:27 -0400 (Tue, 16 Apr 2019) |
| EllapsedTime: 130.9 seconds |
| RetCode: 0 |
| Status: OK |
| PackageFile: rnaseqDTU_1.0.1.tar.gz |
| PackageFileSize: 8.701 MiB |
############################################################################## ############################################################################## ### ### Running command: ### ### /home/biocbuild/bbs-3.8-bioc/R/bin/R CMD build --keep-empty-dirs --no-resave-data rnaseqDTU ### ############################################################################## ############################################################################## * checking for file ‘rnaseqDTU/DESCRIPTION’ ... OK * preparing ‘rnaseqDTU’: * checking DESCRIPTION meta-information ... OK * installing the package to build vignettes * creating vignettes ... OK * checking for LF line-endings in source and make files and shell scripts * checking for empty or unneeded directories * looking to see if a ‘data/datalist’ file should be added * building ‘rnaseqDTU_1.0.1.tar.gz’