| Back to Workflows build report for BioC 3.8 |
This page was generated on 2019-04-16 17:26:32 -0400 (Tue, 16 Apr 2019).
| Package 12/23 | Hostname | OS / Arch | INSTALL | BUILD | ||||||
| maEndToEnd 2.0.0 Bernd Klaus
| malbec1 | Linux (Ubuntu 16.04.6 LTS) / x86_64 | OK | [ OK ] |
| Package: maEndToEnd |
| Version: 2.0.0 |
| Command: /home/biocbuild/bbs-3.8-bioc/R/bin/R CMD build --keep-empty-dirs --no-resave-data maEndToEnd |
| StartedAt: 2019-04-16 16:43:58 -0400 (Tue, 16 Apr 2019) |
| EndedAt: 2019-04-16 16:58:22 -0400 (Tue, 16 Apr 2019) |
| EllapsedTime: 863.9 seconds |
| RetCode: 0 |
| Status: OK |
| PackageFile: maEndToEnd_2.0.0.tar.gz |
| PackageFileSize: 5.447 MiB |
############################################################################## ############################################################################## ### ### Running command: ### ### /home/biocbuild/bbs-3.8-bioc/R/bin/R CMD build --keep-empty-dirs --no-resave-data maEndToEnd ### ############################################################################## ############################################################################## * checking for file ‘maEndToEnd/DESCRIPTION’ ... OK * preparing ‘maEndToEnd’: * checking DESCRIPTION meta-information ... OK * installing the package to build vignettes * creating vignettes ... OK * checking for LF line-endings in source and make files and shell scripts * checking for empty or unneeded directories * building ‘maEndToEnd_2.0.0.tar.gz’