| Back to Workflows build report for BioC 3.8 | 
This page was generated on 2019-04-16 17:26:32 -0400 (Tue, 16 Apr 2019).
| Package 9/23 | Hostname | OS / Arch | INSTALL | BUILD | ||||||
| generegulation 1.4.0 Bioconductor Package Maintainer 
 | malbec1 | Linux (Ubuntu 16.04.6 LTS) / x86_64 | [ OK ] | OK |  | 
| Package: generegulation | 
| Version: 1.4.0 | 
| Command: /home/biocbuild/bbs-3.8-bioc/R/bin/R CMD INSTALL generegulation | 
| StartedAt: 2019-04-16 16:34:35 -0400 (Tue, 16 Apr 2019) | 
| EndedAt: 2019-04-16 16:34:57 -0400 (Tue, 16 Apr 2019) | 
| EllapsedTime: 22.1 seconds | 
| RetCode: 0 | 
| Status: OK | 
##############################################################################
##############################################################################
###
### Running command:
###
###   /home/biocbuild/bbs-3.8-bioc/R/bin/R CMD INSTALL generegulation
###
##############################################################################
##############################################################################
* installing to library ‘/home/biocbuild/bbs-3.8-bioc/R/library’
* installing *source* package ‘generegulation’ ...
** help
No man pages found in package  ‘generegulation’ 
*** installing help indices
** building package indices
** installing vignettes
** testing if installed package can be loaded
See system.file("LICENSE", package="MotifDb") for use restrictions.
* DONE (generegulation)