| Back to Workflows build report for BioC 3.8 |
This page was generated on 2019-04-16 17:26:32 -0400 (Tue, 16 Apr 2019).
| Package 15/23 | Hostname | OS / Arch | INSTALL | BUILD | ||||||
| recountWorkflow 1.4.2 Leonardo Collado-Torres
| malbec1 | Linux (Ubuntu 16.04.6 LTS) / x86_64 | OK | [ OK ] |
| Package: recountWorkflow |
| Version: 1.4.2 |
| Command: /home/biocbuild/bbs-3.8-bioc/R/bin/R CMD build --keep-empty-dirs --no-resave-data recountWorkflow |
| StartedAt: 2019-04-16 16:36:30 -0400 (Tue, 16 Apr 2019) |
| EndedAt: 2019-04-16 16:54:37 -0400 (Tue, 16 Apr 2019) |
| EllapsedTime: 1086.2 seconds |
| RetCode: 0 |
| Status: OK |
| PackageFile: recountWorkflow_1.4.2.tar.gz |
| PackageFileSize: 1.744 MiB |
############################################################################## ############################################################################## ### ### Running command: ### ### /home/biocbuild/bbs-3.8-bioc/R/bin/R CMD build --keep-empty-dirs --no-resave-data recountWorkflow ### ############################################################################## ############################################################################## * checking for file ‘recountWorkflow/DESCRIPTION’ ... OK * preparing ‘recountWorkflow’: * checking DESCRIPTION meta-information ... OK * installing the package to build vignettes * creating vignettes ... OK * checking for LF line-endings in source and make files and shell scripts * checking for empty or unneeded directories * building ‘recountWorkflow_1.4.2.tar.gz’