Back to Multiple platform build/check report for BioC 3.21:   simplified   long
[A]BCDEFGHIJKLMNOPQRSTUVWXYZ

This page was generated on 2025-02-15 11:40 -0500 (Sat, 15 Feb 2025).

HostnameOSArch (*)R versionInstalled pkgs
nebbiolo1Linux (Ubuntu 24.04.1 LTS)x86_64R Under development (unstable) (2025-01-20 r87609) -- "Unsuffered Consequences" 4720
palomino7Windows Server 2022 Datacenterx64R Under development (unstable) (2025-01-21 r87610 ucrt) -- "Unsuffered Consequences" 4482
lconwaymacOS 12.7.1 Montereyx86_64R Under development (unstable) (2025-01-22 r87618) -- "Unsuffered Consequences" 4493
kjohnson3macOS 13.7.1 Venturaarm64R Under development (unstable) (2025-01-20 r87609) -- "Unsuffered Consequences" 4446
Click on any hostname to see more info about the system (e.g. compilers)      (*) as reported by 'uname -p', except on Windows and Mac OS X

Package 116/2295HostnameOS / ArchINSTALLBUILDCHECKBUILD BIN
autonomics 1.15.143  (landing page)
Aditya Bhagwat
Snapshot Date: 2025-02-14 13:40 -0500 (Fri, 14 Feb 2025)
git_url: https://git.bioconductor.org/packages/autonomics
git_branch: devel
git_last_commit: d6a7703
git_last_commit_date: 2025-01-28 04:51:36 -0500 (Tue, 28 Jan 2025)
nebbiolo1Linux (Ubuntu 24.04.1 LTS) / x86_64  OK    OK    OK  UNNEEDED, same version is already published
palomino7Windows Server 2022 Datacenter / x64  OK    OK    OK    OK  UNNEEDED, same version is already published
lconwaymacOS 12.7.1 Monterey / x86_64  OK    OK    OK    OK  UNNEEDED, same version is already published
kjohnson3macOS 13.7.1 Ventura / arm64  OK    OK    OK    OK  UNNEEDED, same version is already published


CHECK results for autonomics on palomino7

To the developers/maintainers of the autonomics package:
- Allow up to 24 hours (and sometimes 48 hours) for your latest push to git@git.bioconductor.org:packages/autonomics.git to reflect on this report. See Troubleshooting Build Report for more information.
- Use the following Renviron settings to reproduce errors and warnings.
- If 'R CMD check' started to fail recently on the Linux builder(s) over a missing dependency, add the missing dependency to 'Suggests:' in your DESCRIPTION file. See Renviron.bioc for more information.

raw results


Summary

Package: autonomics
Version: 1.15.143
Command: E:\biocbuild\bbs-3.21-bioc\R\bin\R.exe CMD check --no-multiarch --install=check:autonomics.install-out.txt --library=E:\biocbuild\bbs-3.21-bioc\R\library --no-vignettes --timings autonomics_1.15.143.tar.gz
StartedAt: 2025-02-14 22:45:13 -0500 (Fri, 14 Feb 2025)
EndedAt: 2025-02-14 23:06:10 -0500 (Fri, 14 Feb 2025)
EllapsedTime: 1257.3 seconds
RetCode: 0
Status:   OK  
CheckDir: autonomics.Rcheck
Warnings: 0

Command output

##############################################################################
##############################################################################
###
### Running command:
###
###   E:\biocbuild\bbs-3.21-bioc\R\bin\R.exe CMD check --no-multiarch --install=check:autonomics.install-out.txt --library=E:\biocbuild\bbs-3.21-bioc\R\library --no-vignettes --timings autonomics_1.15.143.tar.gz
###
##############################################################################
##############################################################################


* using log directory 'E:/biocbuild/bbs-3.21-bioc/meat/autonomics.Rcheck'
* using R Under development (unstable) (2025-01-21 r87610 ucrt)
* using platform: x86_64-w64-mingw32
* R was compiled by
    gcc.exe (GCC) 13.3.0
    GNU Fortran (GCC) 13.3.0
* running under: Windows Server 2022 x64 (build 20348)
* using session charset: UTF-8
* using option '--no-vignettes'
* checking for file 'autonomics/DESCRIPTION' ... OK
* checking extension type ... Package
* this is package 'autonomics' version '1.15.143'
* package encoding: UTF-8
* checking package namespace information ... OK
* checking package dependencies ... OK
* checking if this is a source package ... OK
* checking if there is a namespace ... OK
* checking for hidden files and directories ... NOTE
Found the following hidden files and directories:
  .BBSoptions
These were most likely included in error. See section 'Package
structure' in the 'Writing R Extensions' manual.
* checking for portable file names ... OK
* checking whether package 'autonomics' can be installed ... OK
* checking installed package size ... OK
* checking package directory ... OK
* checking 'build' directory ... OK
* checking DESCRIPTION meta-information ... OK
* checking top-level files ... OK
* checking for left-over files ... OK
* checking index information ... OK
* checking package subdirectories ... OK
* checking code files for non-ASCII characters ... OK
* checking R files for syntax errors ... OK
* checking whether the package can be loaded ... OK
* checking whether the package can be loaded with stated dependencies ... OK
* checking whether the package can be unloaded cleanly ... OK
* checking whether the namespace can be loaded with stated dependencies ... OK
* checking whether the namespace can be unloaded cleanly ... OK
* checking dependencies in R code ... OK
* checking S3 generic/method consistency ... OK
* checking replacement functions ... OK
* checking foreign function calls ... OK
* checking R code for possible problems ... OK
* checking Rd files ... OK
* checking Rd metadata ... OK
* checking Rd cross-references ... OK
* checking for missing documentation entries ... OK
* checking for code/documentation mismatches ... OK
* checking Rd \usage sections ... OK
* checking Rd contents ... OK
* checking for unstated dependencies in examples ... OK
* checking files in 'vignettes' ... OK
* checking examples ... OK
Examples with CPU (user + system) or elapsed time > 5s
                           user system elapsed
read_diann_proteingroups 149.11   4.70  150.57
read_rnaseq_counts        42.85   2.12   45.27
fit_linmod                39.32   0.36   39.72
rm_diann_contaminants     29.63   1.23   30.14
plot_exprs_per_coef       29.33   0.34   29.67
plot_exprs                27.15   0.37   27.55
default_formula           22.02   0.58   22.67
read_somascan             19.16   0.17   19.33
plot_summary              17.91   0.28   18.19
read_metabolon            17.58   0.24   17.82
analyze                   17.21   0.30   17.55
plot_volcano              14.73   0.24   15.00
read_fragpipe             11.36   0.20   11.33
ftype                     10.12   0.47   10.63
plot_densities            10.28   0.21   10.48
fcluster                   8.56   0.13    8.68
extract_coef_features      8.31   0.09    8.41
plot_sample_nas            8.00   0.08    8.07
reset_fit                  7.75   0.19    7.94
fit_survival               6.43   0.17    6.67
biplot_covariates          6.18   0.14    6.31
code                       6.05   0.16    6.25
plot_subgroup_points       5.87   0.13    6.00
subtract_baseline          5.79   0.17    5.98
biplot                     5.09   0.11    5.22
plot_violins               5.00   0.20    5.20
* checking for unstated dependencies in 'tests' ... OK
* checking tests ...
  Running 'testthat.R'
 OK
* checking for unstated dependencies in vignettes ... OK
* checking package vignettes ... OK
* checking running R code from vignettes ... SKIPPED
* checking re-building of vignette outputs ... SKIPPED
* checking PDF version of manual ... OK
* DONE

Status: 1 NOTE
See
  'E:/biocbuild/bbs-3.21-bioc/meat/autonomics.Rcheck/00check.log'
for details.


Installation output

autonomics.Rcheck/00install.out

##############################################################################
##############################################################################
###
### Running command:
###
###   E:\biocbuild\bbs-3.21-bioc\R\bin\R.exe CMD INSTALL autonomics
###
##############################################################################
##############################################################################


* installing to library 'E:/biocbuild/bbs-3.21-bioc/R/library'
* installing *source* package 'autonomics' ...
** this is package 'autonomics' version '1.15.143'
** using staged installation
** R
** inst
** byte-compile and prepare package for lazy loading
** help
*** installing help indices
** building package indices
** installing vignettes
** testing if installed package can be loaded from temporary location
** testing if installed package can be loaded from final location
** testing if installed package keeps a record of temporary installation path
* DONE (autonomics)

Tests output

autonomics.Rcheck/tests/testthat.Rout


R Under development (unstable) (2025-01-21 r87610 ucrt) -- "Unsuffered Consequences"
Copyright (C) 2025 The R Foundation for Statistical Computing
Platform: x86_64-w64-mingw32/x64

R is free software and comes with ABSOLUTELY NO WARRANTY.
You are welcome to redistribute it under certain conditions.
Type 'license()' or 'licence()' for distribution details.

R is a collaborative project with many contributors.
Type 'contributors()' for more information and
'citation()' on how to cite R or R packages in publications.

Type 'demo()' for some demos, 'help()' for on-line help, or
'help.start()' for an HTML browser interface to help.
Type 'q()' to quit R.

> library(testthat)
> library(autonomics)

Attaching package: 'autonomics'

The following objects are masked from 'package:stats':

    biplot, loadings

The following object is masked from 'package:base':

    beta

> 
> test_check("autonomics")
[ FAIL 0 | WARN 2 | SKIP 0 | PASS 158 ]

[ FAIL 0 | WARN 2 | SKIP 0 | PASS 158 ]
> 
> proc.time()
   user  system elapsed 
 177.96   11.68  201.68 

Example timings

autonomics.Rcheck/autonomics-Ex.timings

nameusersystemelapsed
AUTONOMICS_DATASETS000
COMPOUNDDISCOVERER_PATTERNS000
FITSEP000
LINMODENGINES000
MAXQUANT_PATTERNS000
SURVIVALENGINES000
TAXON_TO_ORGNAME000
TESTS000
X1.910.082.03
abstract_fit2.810.112.92
add_adjusted_pvalues0.730.020.75
add_assay_means0.490.030.51
add_facetvars1.920.112.05
add_opentargets_by_uniprot0.390.000.41
add_psp0.620.010.65
add_smiles0.550.030.58
analysis0.530.020.56
analyze17.21 0.3017.55
annotate_maxquant1.310.101.42
annotate_uniprot_rest0.060.021.50
assert_is_valid_sumexp0.590.090.69
bin0.490.020.50
biplot5.090.115.22
biplot_corrections4.420.174.59
biplot_covariates6.180.146.31
block2lme000
center1.860.081.93
code6.050.166.25
coefs1.090.041.15
collapsed_entrezg_to_symbol000
contrast_subgroup_cols0.710.050.75
count_in000
counts0.460.000.46
counts2cpm0.320.000.32
counts2tpm0.290.000.29
cpm0.380.020.39
create_design0.760.070.85
default_formula22.02 0.5822.67
default_geom0.640.100.73
default_sfile000
demultiplex0.030.000.04
dequantify000
dequantify_compounddiscoverer000
dot-coxph0.610.090.70
dot-merge0.020.000.01
dot-read_maxquant_proteingroups0.120.000.13
download_data000
download_gtf000
download_mcclain21000
dt2mat000
enrichment1.890.031.92
entrezg_to_symbol000
extract_coef_features8.310.098.41
extract_rectangle0.180.080.25
fcluster8.560.138.68
fcor1.670.001.68
fdata0.670.010.70
fdr2p1.250.021.27
filter_exprs_replicated_in_some_subgroup1.220.081.29
filter_features0.630.060.69
filter_medoid0.990.061.04
filter_samples0.750.030.78
fit_linmod39.32 0.3639.72
fit_survival6.430.176.67
fitcoefs1.040.111.16
fits0.880.050.92
fix_xlgenes000
flevels0.580.030.61
fnames0.560.000.56
formula2str000
ftype10.12 0.4710.63
fvalues0.520.000.51
fvars0.550.000.57
genome_to_orgdb000
group_by_level000
guess_compounddiscoverer_quantity000
guess_fitsep0.670.020.70
guess_maxquant_quantity0.010.000.02
guess_sep0.690.060.75
has_multiple_levels0.080.000.07
hdlproteins0.050.050.13
impute3.910.033.94
invert_subgroups0.670.010.69
is_collapsed_subset000
is_correlation_matrix000
is_diann_report0.300.060.55
is_fastadt0.080.000.08
is_file000
is_fraction0.020.000.02
is_imputed1.010.001.01
is_positive_number000
is_scalar_subset0.280.020.31
is_sig2.240.022.25
is_valid_formula0.060.000.07
keep_connected_blocks0.640.010.66
keep_connected_features0.920.030.95
keep_replicated_features0.970.021.00
label2index000
list2mat000
log2counts0.260.030.30
log2cpm0.250.020.26
log2diffs0.410.000.41
log2proteins0.500.030.53
log2sites0.320.000.31
log2tpm0.340.010.36
log2transform4.800.084.87
logical2factor000
make_alpha_palette0.710.030.73
make_colors000
make_volcano_dt1.070.001.08
map_fvalues0.610.020.63
matrix2sumexp1.080.071.14
merge_sample_file0.560.000.57
merge_sdata0.680.060.73
message_df000
model_coefs0.650.030.69
modelvar4.240.094.34
order_on_p1.360.071.42
pca3.540.043.60
pg_to_canonical0.020.000.01
plot_coef_densities1.510.141.66
plot_contrast_venn3.050.083.14
plot_contrastogram3.520.193.77
plot_data1.530.091.62
plot_densities10.28 0.2110.48
plot_design0.720.000.72
plot_exprs27.15 0.3727.55
plot_exprs_per_coef29.33 0.3429.67
plot_fit_summary2.440.082.52
plot_heatmap3.030.003.03
plot_joint_density3.300.103.39
plot_matrix0.720.040.77
plot_sample_nas8.000.088.07
plot_subgroup_points5.870.136.00
plot_summary17.91 0.2818.19
plot_survival4.400.064.47
plot_venn000
plot_venn_heatmap0.040.000.03
plot_violins5.00.25.2
plot_volcano14.73 0.2415.00
preprocess_rnaseq_counts0.390.000.39
pull_columns000
read_affymetrix000
read_diann_proteingroups149.11 4.70150.57
read_fragpipe11.36 0.2011.33
read_maxquant_phosphosites2.140.032.18
read_maxquant_proteingroups1.590.051.64
read_metabolon17.58 0.2417.82
read_msigdt000
read_olink1.660.071.82
read_rectangles0.230.070.30
read_rnaseq_counts42.85 2.1245.27
read_salmon000
read_somascan19.16 0.1719.33
read_uniprotdt0.440.020.45
reset_fit7.750.197.94
rm_diann_contaminants29.63 1.2330.14
rm_missing_in_some_samples0.560.130.68
rm_unmatched_samples0.780.000.79
scaledlibsizes0.420.000.42
scoremat1.460.091.54
slevels0.510.030.55
snames0.490.020.50
split_extract_fixed0.540.040.61
split_samples1.300.051.34
stri_any_regex000
stri_detect_fixed_in_collapsed0.510.000.52
subgroup_matrix0.680.030.70
subtract_baseline5.790.175.98
sumexp_to_longdt2.390.142.53
sumexp_to_tsv0.520.060.72
sumexplist_to_longdt1.950.052.01
summarize_fit1.830.121.96
svalues0.530.000.53
svars0.440.000.44
systematic_nas0.840.000.84
tag_features0.980.081.06
tag_hdlproteins0.630.030.66
taxon2org000
tpm0.400.020.42
uncollapse0.050.000.05
values0.520.000.51
varlevels_dont_clash0.030.000.03
venn_detects0.760.000.77
weights0.330.000.33
write_xl0.780.080.86
zero_to_na000