| Back to Multiple platform build/check report for BioC 3.21: simplified long |
|
This page was generated on 2025-04-22 13:15 -0400 (Tue, 22 Apr 2025).
| Hostname | OS | Arch (*) | R version | Installed pkgs |
|---|---|---|---|---|
| nebbiolo1 | Linux (Ubuntu 24.04.1 LTS) | x86_64 | 4.5.0 RC (2025-04-04 r88126) -- "How About a Twenty-Six" | 4831 |
| palomino7 | Windows Server 2022 Datacenter | x64 | 4.5.0 RC (2025-04-04 r88126 ucrt) -- "How About a Twenty-Six" | 4573 |
| lconway | macOS 12.7.1 Monterey | x86_64 | 4.5.0 RC (2025-04-04 r88126) -- "How About a Twenty-Six" | 4599 |
| kjohnson3 | macOS 13.7.1 Ventura | arm64 | 4.5.0 RC (2025-04-04 r88126) -- "How About a Twenty-Six" | 4553 |
| kunpeng2 | Linux (openEuler 24.03 LTS) | aarch64 | R Under development (unstable) (2025-02-19 r87757) -- "Unsuffered Consequences" | 4570 |
| Click on any hostname to see more info about the system (e.g. compilers) (*) as reported by 'uname -p', except on Windows and Mac OS X | ||||
| Package 117/2341 | Hostname | OS / Arch | INSTALL | BUILD | CHECK | BUILD BIN | ||||||||
| autonomics 1.16.0 (landing page) Aditya Bhagwat
| nebbiolo1 | Linux (Ubuntu 24.04.1 LTS) / x86_64 | OK | OK | OK | |||||||||
| palomino7 | Windows Server 2022 Datacenter / x64 | OK | OK | OK | OK | |||||||||
| lconway | macOS 12.7.1 Monterey / x86_64 | OK | OK | OK | OK | |||||||||
| kjohnson3 | macOS 13.7.1 Ventura / arm64 | OK | OK | OK | OK | |||||||||
| kunpeng2 | Linux (openEuler 24.03 LTS) / aarch64 | OK | OK | OK | ||||||||||
|
To the developers/maintainers of the autonomics package: - Allow up to 24 hours (and sometimes 48 hours) for your latest push to git@git.bioconductor.org:packages/autonomics.git to reflect on this report. See Troubleshooting Build Report for more information. - Use the following Renviron settings to reproduce errors and warnings. - If 'R CMD check' started to fail recently on the Linux builder(s) over a missing dependency, add the missing dependency to 'Suggests:' in your DESCRIPTION file. See Renviron.bioc for more information. |
| Package: autonomics |
| Version: 1.16.0 |
| Command: /Library/Frameworks/R.framework/Resources/bin/R CMD check --install=check:autonomics.install-out.txt --library=/Library/Frameworks/R.framework/Resources/library --no-vignettes --timings autonomics_1.16.0.tar.gz |
| StartedAt: 2025-04-21 19:07:42 -0400 (Mon, 21 Apr 2025) |
| EndedAt: 2025-04-21 19:25:58 -0400 (Mon, 21 Apr 2025) |
| EllapsedTime: 1095.9 seconds |
| RetCode: 0 |
| Status: OK |
| CheckDir: autonomics.Rcheck |
| Warnings: 0 |
##############################################################################
##############################################################################
###
### Running command:
###
### /Library/Frameworks/R.framework/Resources/bin/R CMD check --install=check:autonomics.install-out.txt --library=/Library/Frameworks/R.framework/Resources/library --no-vignettes --timings autonomics_1.16.0.tar.gz
###
##############################################################################
##############################################################################
* using log directory ‘/Users/biocbuild/bbs-3.21-bioc/meat/autonomics.Rcheck’
* using R version 4.5.0 RC (2025-04-04 r88126)
* using platform: x86_64-apple-darwin20
* R was compiled by
Apple clang version 14.0.0 (clang-1400.0.29.202)
GNU Fortran (GCC) 14.2.0
* running under: macOS Monterey 12.7.6
* using session charset: UTF-8
* using option ‘--no-vignettes’
* checking for file ‘autonomics/DESCRIPTION’ ... OK
* checking extension type ... Package
* this is package ‘autonomics’ version ‘1.16.0’
* package encoding: UTF-8
* checking package namespace information ... OK
* checking package dependencies ... INFO
Imports includes 30 non-default packages.
Importing from so many packages makes the package vulnerable to any of
them becoming unavailable. Move as many as possible to Suggests and
use conditionally.
* checking if this is a source package ... OK
* checking if there is a namespace ... OK
* checking for hidden files and directories ... NOTE
Found the following hidden files and directories:
.BBSoptions
These were most likely included in error. See section ‘Package
structure’ in the ‘Writing R Extensions’ manual.
* checking for portable file names ... OK
* checking for sufficient/correct file permissions ... OK
* checking whether package ‘autonomics’ can be installed ... OK
* checking installed package size ... OK
* checking package directory ... OK
* checking ‘build’ directory ... OK
* checking DESCRIPTION meta-information ... OK
* checking top-level files ... OK
* checking for left-over files ... OK
* checking index information ... OK
* checking package subdirectories ... OK
* checking code files for non-ASCII characters ... OK
* checking R files for syntax errors ... OK
* checking whether the package can be loaded ... OK
* checking whether the package can be loaded with stated dependencies ... OK
* checking whether the package can be unloaded cleanly ... OK
* checking whether the namespace can be loaded with stated dependencies ... OK
* checking whether the namespace can be unloaded cleanly ... OK
* checking dependencies in R code ... OK
* checking S3 generic/method consistency ... OK
* checking replacement functions ... OK
* checking foreign function calls ... OK
* checking R code for possible problems ... OK
* checking Rd files ... OK
* checking Rd metadata ... OK
* checking Rd cross-references ... NOTE
Non-topic package-anchored link(s) in Rd file 'reexports.Rd':
‘[magrittr:compound]{%<>%}’ ‘[magrittr:pipe]{%>%}’
‘[magrittr:aliases]{extract}’
See section 'Cross-references' in the 'Writing R Extensions' manual.
* checking for missing documentation entries ... OK
* checking for code/documentation mismatches ... OK
* checking Rd \usage sections ... OK
* checking Rd contents ... OK
* checking for unstated dependencies in examples ... OK
* checking files in ‘vignettes’ ... OK
* checking examples ... OK
Examples with CPU (user + system) or elapsed time > 5s
user system elapsed
read_diann_proteingroups 111.828 2.004 115.055
read_rnaseq_counts 36.233 3.254 40.137
fit_linmod 33.675 0.327 34.234
plot_exprs_per_coef 26.005 0.251 26.444
plot_exprs 24.342 0.185 24.656
rm_diann_contaminants 23.513 0.400 24.148
default_formula 17.804 0.386 18.334
read_somascan 16.697 0.130 16.991
read_metabolon 16.424 0.204 16.798
analyze 15.885 0.166 16.159
plot_summary 15.783 0.109 15.972
plot_volcano 14.128 0.152 14.383
ftype 8.785 0.258 9.102
plot_densities 8.818 0.166 9.040
read_fragpipe 8.266 0.230 8.596
extract_coef_features 7.338 0.078 7.450
plot_sample_nas 7.139 0.088 7.281
fcluster 7.049 0.074 7.150
fit_survival 5.861 0.074 5.981
subtract_baseline 5.796 0.111 5.981
reset_fit 5.809 0.089 5.963
code 5.649 0.079 5.755
biplot_covariates 5.378 0.073 5.480
plot_subgroup_points 5.276 0.078 5.390
annotate_uniprot_rest 0.072 0.012 8.226
* checking for unstated dependencies in ‘tests’ ... OK
* checking tests ...
Running ‘testthat.R’
OK
* checking for unstated dependencies in vignettes ... OK
* checking package vignettes ... OK
* checking running R code from vignettes ... SKIPPED
* checking re-building of vignette outputs ... SKIPPED
* checking PDF version of manual ... OK
* DONE
Status: 2 NOTEs
See
‘/Users/biocbuild/bbs-3.21-bioc/meat/autonomics.Rcheck/00check.log’
for details.
autonomics.Rcheck/00install.out
############################################################################## ############################################################################## ### ### Running command: ### ### /Library/Frameworks/R.framework/Resources/bin/R CMD INSTALL autonomics ### ############################################################################## ############################################################################## * installing to library ‘/Library/Frameworks/R.framework/Versions/4.5-x86_64/Resources/library’ * installing *source* package ‘autonomics’ ... ** this is package ‘autonomics’ version ‘1.16.0’ ** using staged installation ** R ** inst ** byte-compile and prepare package for lazy loading ** help *** installing help indices ** building package indices ** installing vignettes ** testing if installed package can be loaded from temporary location ** testing if installed package can be loaded from final location ** testing if installed package keeps a record of temporary installation path * DONE (autonomics)
autonomics.Rcheck/tests/testthat.Rout
R version 4.5.0 RC (2025-04-04 r88126) -- "How About a Twenty-Six"
Copyright (C) 2025 The R Foundation for Statistical Computing
Platform: x86_64-apple-darwin20
R is free software and comes with ABSOLUTELY NO WARRANTY.
You are welcome to redistribute it under certain conditions.
Type 'license()' or 'licence()' for distribution details.
R is a collaborative project with many contributors.
Type 'contributors()' for more information and
'citation()' on how to cite R or R packages in publications.
Type 'demo()' for some demos, 'help()' for on-line help, or
'help.start()' for an HTML browser interface to help.
Type 'q()' to quit R.
> library(testthat)
> library(autonomics)
Attaching package: 'autonomics'
The following objects are masked from 'package:stats':
biplot, loadings
The following object is masked from 'package:base':
beta
>
> test_check("autonomics")
[ FAIL 0 | WARN 2 | SKIP 0 | PASS 158 ]
[ FAIL 0 | WARN 2 | SKIP 0 | PASS 158 ]
>
> proc.time()
user system elapsed
153.440 9.314 207.272
autonomics.Rcheck/autonomics-Ex.timings
| name | user | system | elapsed | |
| AUTONOMICS_DATASETS | 0.000 | 0.001 | 0.001 | |
| COMPOUNDDISCOVERER_PATTERNS | 0 | 0 | 0 | |
| FITSEP | 0 | 0 | 0 | |
| LINMODENGINES | 0 | 0 | 0 | |
| MAXQUANT_PATTERNS | 0.001 | 0.001 | 0.000 | |
| SURVIVALENGINES | 0 | 0 | 0 | |
| TAXON_TO_ORGNAME | 0 | 0 | 0 | |
| TESTS | 0 | 0 | 0 | |
| X | 1.667 | 0.082 | 1.765 | |
| abstract_fit | 2.558 | 0.094 | 2.672 | |
| add_adjusted_pvalues | 0.684 | 0.029 | 0.721 | |
| add_assay_means | 0.391 | 0.009 | 0.402 | |
| add_facetvars | 1.722 | 0.065 | 1.804 | |
| add_opentargets_by_uniprot | 0.453 | 0.010 | 0.470 | |
| add_psp | 0.578 | 0.016 | 0.598 | |
| add_smiles | 0.503 | 0.044 | 0.552 | |
| analysis | 0.404 | 0.007 | 0.414 | |
| analyze | 15.885 | 0.166 | 16.159 | |
| annotate_maxquant | 0.964 | 0.100 | 1.072 | |
| annotate_uniprot_rest | 0.072 | 0.012 | 8.226 | |
| assert_is_valid_sumexp | 0.710 | 0.075 | 0.796 | |
| bin | 1.141 | 0.015 | 1.164 | |
| biplot | 3.631 | 0.065 | 3.715 | |
| biplot_corrections | 3.266 | 0.068 | 3.362 | |
| biplot_covariates | 5.378 | 0.073 | 5.480 | |
| block2lme | 0.002 | 0.000 | 0.004 | |
| center | 1.513 | 0.020 | 1.542 | |
| code | 5.649 | 0.079 | 5.755 | |
| coefs | 0.877 | 0.042 | 0.922 | |
| collapsed_entrezg_to_symbol | 0 | 0 | 0 | |
| contrast_subgroup_cols | 0.585 | 0.043 | 0.632 | |
| count_in | 0.000 | 0.001 | 0.001 | |
| counts | 1.151 | 0.006 | 1.160 | |
| counts2cpm | 0.325 | 0.002 | 0.328 | |
| counts2tpm | 0.317 | 0.003 | 0.321 | |
| cpm | 0.340 | 0.003 | 0.342 | |
| create_design | 0.709 | 0.041 | 0.753 | |
| default_formula | 17.804 | 0.386 | 18.334 | |
| default_geom | 0.617 | 0.051 | 0.676 | |
| default_sfile | 0.001 | 0.000 | 0.002 | |
| demultiplex | 0.016 | 0.001 | 0.017 | |
| dequantify | 0.002 | 0.000 | 0.002 | |
| dequantify_compounddiscoverer | 0.001 | 0.000 | 0.001 | |
| dot-coxph | 0.456 | 0.049 | 0.510 | |
| dot-merge | 0.024 | 0.001 | 0.025 | |
| dot-read_maxquant_proteingroups | 0.119 | 0.006 | 0.125 | |
| download_data | 0.000 | 0.001 | 0.001 | |
| download_gtf | 0 | 0 | 0 | |
| download_mcclain21 | 0 | 0 | 0 | |
| dt2mat | 0.003 | 0.000 | 0.003 | |
| enrichment | 2.005 | 0.011 | 2.022 | |
| entrezg_to_symbol | 0.001 | 0.000 | 0.001 | |
| extract_coef_features | 7.338 | 0.078 | 7.450 | |
| extract_rectangle | 0.152 | 0.041 | 0.196 | |
| fcluster | 7.049 | 0.074 | 7.150 | |
| fcor | 1.145 | 0.032 | 1.183 | |
| fdata | 0.602 | 0.010 | 0.628 | |
| fdr2p | 1.174 | 0.046 | 1.226 | |
| filter_exprs_replicated_in_some_subgroup | 1.095 | 0.046 | 1.151 | |
| filter_features | 0.642 | 0.043 | 0.689 | |
| filter_medoid | 0.787 | 0.021 | 0.811 | |
| filter_samples | 0.603 | 0.044 | 0.651 | |
| fit_linmod | 33.675 | 0.327 | 34.234 | |
| fit_survival | 5.861 | 0.074 | 5.981 | |
| fitcoefs | 1.034 | 0.047 | 1.089 | |
| fits | 0.846 | 0.046 | 0.901 | |
| fix_xlgenes | 0.002 | 0.001 | 0.003 | |
| flevels | 0.429 | 0.006 | 0.437 | |
| fnames | 0.594 | 0.007 | 0.604 | |
| formula2str | 0 | 0 | 0 | |
| ftype | 8.785 | 0.258 | 9.102 | |
| fvalues | 0.474 | 0.006 | 0.485 | |
| fvars | 1.340 | 0.025 | 1.374 | |
| genome_to_orgdb | 0.000 | 0.000 | 0.001 | |
| group_by_level | 0.001 | 0.001 | 0.001 | |
| guess_compounddiscoverer_quantity | 0.001 | 0.001 | 0.001 | |
| guess_fitsep | 0.520 | 0.007 | 0.530 | |
| guess_maxquant_quantity | 0.006 | 0.002 | 0.009 | |
| guess_sep | 0.571 | 0.060 | 0.641 | |
| has_multiple_levels | 0.061 | 0.005 | 0.066 | |
| hdlproteins | 0.046 | 0.033 | 0.082 | |
| impute | 3.323 | 0.044 | 3.431 | |
| invert_subgroups | 0.800 | 0.011 | 0.817 | |
| is_collapsed_subset | 0.001 | 0.001 | 0.000 | |
| is_correlation_matrix | 0.002 | 0.001 | 0.001 | |
| is_diann_report | 0.243 | 0.050 | 0.369 | |
| is_fastadt | 0.065 | 0.002 | 0.067 | |
| is_file | 0.001 | 0.000 | 0.001 | |
| is_fraction | 0.002 | 0.000 | 0.002 | |
| is_imputed | 0.889 | 0.011 | 0.909 | |
| is_positive_number | 0.002 | 0.000 | 0.003 | |
| is_scalar_subset | 0.406 | 0.007 | 0.416 | |
| is_sig | 1.910 | 0.016 | 1.937 | |
| is_valid_formula | 0.056 | 0.002 | 0.057 | |
| keep_connected_blocks | 0.557 | 0.049 | 0.613 | |
| keep_connected_features | 0.787 | 0.047 | 0.841 | |
| keep_replicated_features | 0.849 | 0.047 | 0.902 | |
| label2index | 0.001 | 0.000 | 0.001 | |
| list2mat | 0.000 | 0.001 | 0.001 | |
| log2counts | 0.397 | 0.005 | 0.406 | |
| log2cpm | 0.392 | 0.005 | 0.398 | |
| log2diffs | 0.363 | 0.007 | 0.373 | |
| log2proteins | 0.347 | 0.005 | 0.354 | |
| log2sites | 0.377 | 0.006 | 0.386 | |
| log2tpm | 0.381 | 0.004 | 0.386 | |
| log2transform | 4.130 | 0.055 | 4.230 | |
| logical2factor | 0.001 | 0.000 | 0.001 | |
| make_alpha_palette | 0.567 | 0.044 | 0.618 | |
| make_colors | 0.009 | 0.002 | 0.012 | |
| make_volcano_dt | 0.986 | 0.014 | 1.006 | |
| map_fvalues | 0.434 | 0.009 | 0.446 | |
| matrix2sumexp | 1.054 | 0.049 | 1.116 | |
| merge_sample_file | 0.496 | 0.010 | 0.508 | |
| merge_sdata | 0.616 | 0.066 | 0.694 | |
| message_df | 0.003 | 0.000 | 0.003 | |
| model_coefs | 0.818 | 0.048 | 0.875 | |
| modelvar | 4.101 | 0.067 | 4.194 | |
| order_on_p | 1.337 | 0.049 | 1.396 | |
| pca | 3.276 | 0.066 | 3.364 | |
| pg_to_canonical | 0.006 | 0.001 | 0.007 | |
| plot_coef_densities | 1.331 | 0.053 | 1.396 | |
| plot_contrast_venn | 2.852 | 0.092 | 2.967 | |
| plot_contrastogram | 3.200 | 0.130 | 3.364 | |
| plot_data | 1.425 | 0.056 | 1.493 | |
| plot_densities | 8.818 | 0.166 | 9.040 | |
| plot_design | 0.745 | 0.009 | 0.760 | |
| plot_exprs | 24.342 | 0.185 | 24.656 | |
| plot_exprs_per_coef | 26.005 | 0.251 | 26.444 | |
| plot_fit_summary | 2.388 | 0.070 | 2.486 | |
| plot_heatmap | 2.684 | 0.030 | 2.755 | |
| plot_joint_density | 3.302 | 0.092 | 3.435 | |
| plot_matrix | 0.543 | 0.059 | 0.617 | |
| plot_sample_nas | 7.139 | 0.088 | 7.281 | |
| plot_subgroup_points | 5.276 | 0.078 | 5.390 | |
| plot_summary | 15.783 | 0.109 | 15.972 | |
| plot_survival | 3.777 | 0.027 | 3.817 | |
| plot_venn | 0.004 | 0.001 | 0.006 | |
| plot_venn_heatmap | 0.021 | 0.002 | 0.023 | |
| plot_violins | 4.441 | 0.088 | 4.593 | |
| plot_volcano | 14.128 | 0.152 | 14.383 | |
| preprocess_rnaseq_counts | 0.360 | 0.004 | 0.366 | |
| pull_columns | 0.002 | 0.001 | 0.003 | |
| read_affymetrix | 0.000 | 0.000 | 0.001 | |
| read_diann_proteingroups | 111.828 | 2.004 | 115.055 | |
| read_fragpipe | 8.266 | 0.230 | 8.596 | |
| read_maxquant_phosphosites | 1.726 | 0.043 | 1.784 | |
| read_maxquant_proteingroups | 1.408 | 0.027 | 1.449 | |
| read_metabolon | 16.424 | 0.204 | 16.798 | |
| read_msigdt | 0.001 | 0.000 | 0.002 | |
| read_olink | 1.499 | 0.063 | 1.585 | |
| read_rectangles | 0.261 | 0.036 | 0.301 | |
| read_rnaseq_counts | 36.233 | 3.254 | 40.137 | |
| read_salmon | 0.000 | 0.001 | 0.000 | |
| read_somascan | 16.697 | 0.130 | 16.991 | |
| read_uniprotdt | 0.401 | 0.026 | 0.430 | |
| reset_fit | 5.809 | 0.089 | 5.963 | |
| rm_diann_contaminants | 23.513 | 0.400 | 24.148 | |
| rm_missing_in_some_samples | 0.625 | 0.056 | 0.691 | |
| rm_unmatched_samples | 0.793 | 0.031 | 0.888 | |
| scaledlibsizes | 0.364 | 0.005 | 0.373 | |
| scoremat | 1.214 | 0.061 | 1.291 | |
| slevels | 0.482 | 0.009 | 0.507 | |
| snames | 0.471 | 0.008 | 0.483 | |
| split_extract_fixed | 0.669 | 0.047 | 0.722 | |
| split_samples | 1.461 | 0.057 | 1.552 | |
| stri_any_regex | 0.000 | 0.001 | 0.001 | |
| stri_detect_fixed_in_collapsed | 0.399 | 0.008 | 0.412 | |
| subgroup_matrix | 1.783 | 0.139 | 1.958 | |
| subtract_baseline | 5.796 | 0.111 | 5.981 | |
| sumexp_to_longdt | 2.220 | 0.192 | 2.477 | |
| sumexp_to_tsv | 0.551 | 0.008 | 0.566 | |
| sumexplist_to_longdt | 1.739 | 0.030 | 1.791 | |
| summarize_fit | 1.919 | 0.072 | 2.021 | |
| svalues | 0.514 | 0.009 | 0.529 | |
| svars | 0.549 | 0.010 | 0.566 | |
| systematic_nas | 0.661 | 0.009 | 0.695 | |
| tag_features | 1.192 | 0.046 | 1.254 | |
| tag_hdlproteins | 0.621 | 0.043 | 0.677 | |
| taxon2org | 0.001 | 0.000 | 0.001 | |
| tpm | 0.395 | 0.006 | 0.409 | |
| uncollapse | 0.038 | 0.002 | 0.039 | |
| values | 0.553 | 0.011 | 0.570 | |
| varlevels_dont_clash | 0.025 | 0.002 | 0.029 | |
| venn_detects | 0.655 | 0.015 | 0.677 | |
| weights | 0.395 | 0.005 | 0.403 | |
| write_xl | 0.957 | 0.069 | 1.241 | |
| zero_to_na | 0.002 | 0.002 | 0.003 | |