Back to Multiple platform build/check report for BioC 3.21: simplified long |
|
This page was generated on 2025-02-13 11:39 -0500 (Thu, 13 Feb 2025).
Hostname | OS | Arch (*) | R version | Installed pkgs |
---|---|---|---|---|
nebbiolo1 | Linux (Ubuntu 24.04.1 LTS) | x86_64 | R Under development (unstable) (2025-01-20 r87609) -- "Unsuffered Consequences" | 4719 |
palomino7 | Windows Server 2022 Datacenter | x64 | R Under development (unstable) (2025-01-21 r87610 ucrt) -- "Unsuffered Consequences" | 4481 |
lconway | macOS 12.7.1 Monterey | x86_64 | R Under development (unstable) (2025-01-22 r87618) -- "Unsuffered Consequences" | 4492 |
kjohnson3 | macOS 13.7.1 Ventura | arm64 | R Under development (unstable) (2025-01-20 r87609) -- "Unsuffered Consequences" | 4445 |
Click on any hostname to see more info about the system (e.g. compilers) (*) as reported by 'uname -p', except on Windows and Mac OS X |
Package 116/2295 | Hostname | OS / Arch | INSTALL | BUILD | CHECK | BUILD BIN | ||||||||
autonomics 1.15.143 (landing page) Aditya Bhagwat
| nebbiolo1 | Linux (Ubuntu 24.04.1 LTS) / x86_64 | OK | OK | OK | ![]() | ||||||||
palomino7 | Windows Server 2022 Datacenter / x64 | OK | OK | OK | OK | ![]() | ||||||||
lconway | macOS 12.7.1 Monterey / x86_64 | OK | OK | OK | OK | ![]() | ||||||||
kjohnson3 | macOS 13.7.1 Ventura / arm64 | OK | OK | OK | OK | ![]() | ||||||||
To the developers/maintainers of the autonomics package: - Allow up to 24 hours (and sometimes 48 hours) for your latest push to git@git.bioconductor.org:packages/autonomics.git to reflect on this report. See Troubleshooting Build Report for more information. - Use the following Renviron settings to reproduce errors and warnings. - If 'R CMD check' started to fail recently on the Linux builder(s) over a missing dependency, add the missing dependency to 'Suggests:' in your DESCRIPTION file. See Renviron.bioc for more information. |
Package: autonomics |
Version: 1.15.143 |
Command: /home/biocbuild/bbs-3.21-bioc/R/bin/R CMD check --install=check:autonomics.install-out.txt --library=/home/biocbuild/bbs-3.21-bioc/R/site-library --timings autonomics_1.15.143.tar.gz |
StartedAt: 2025-02-12 20:02:25 -0500 (Wed, 12 Feb 2025) |
EndedAt: 2025-02-12 20:18:38 -0500 (Wed, 12 Feb 2025) |
EllapsedTime: 973.3 seconds |
RetCode: 0 |
Status: OK |
CheckDir: autonomics.Rcheck |
Warnings: 0 |
############################################################################## ############################################################################## ### ### Running command: ### ### /home/biocbuild/bbs-3.21-bioc/R/bin/R CMD check --install=check:autonomics.install-out.txt --library=/home/biocbuild/bbs-3.21-bioc/R/site-library --timings autonomics_1.15.143.tar.gz ### ############################################################################## ############################################################################## * using log directory ‘/home/biocbuild/bbs-3.21-bioc/meat/autonomics.Rcheck’ * using R Under development (unstable) (2025-01-20 r87609) * using platform: x86_64-pc-linux-gnu * R was compiled by gcc (Ubuntu 13.3.0-6ubuntu2~24.04) 13.3.0 GNU Fortran (Ubuntu 13.3.0-6ubuntu2~24.04) 13.3.0 * running under: Ubuntu 24.04.1 LTS * using session charset: UTF-8 * checking for file ‘autonomics/DESCRIPTION’ ... OK * checking extension type ... Package * this is package ‘autonomics’ version ‘1.15.143’ * package encoding: UTF-8 * checking package namespace information ... OK * checking package dependencies ... INFO Imports includes 30 non-default packages. Importing from so many packages makes the package vulnerable to any of them becoming unavailable. Move as many as possible to Suggests and use conditionally. * checking if this is a source package ... OK * checking if there is a namespace ... OK * checking for hidden files and directories ... NOTE Found the following hidden files and directories: .BBSoptions These were most likely included in error. See section ‘Package structure’ in the ‘Writing R Extensions’ manual. * checking for portable file names ... OK * checking for sufficient/correct file permissions ... OK * checking whether package ‘autonomics’ can be installed ... OK * checking installed package size ... OK * checking package directory ... OK * checking ‘build’ directory ... OK * checking DESCRIPTION meta-information ... OK * checking top-level files ... OK * checking for left-over files ... OK * checking index information ... OK * checking package subdirectories ... OK * checking code files for non-ASCII characters ... OK * checking R files for syntax errors ... OK * checking whether the package can be loaded ... OK * checking whether the package can be loaded with stated dependencies ... OK * checking whether the package can be unloaded cleanly ... OK * checking whether the namespace can be loaded with stated dependencies ... OK * checking whether the namespace can be unloaded cleanly ... OK * checking loading without being on the library search path ... OK * checking dependencies in R code ... OK * checking S3 generic/method consistency ... OK * checking replacement functions ... OK * checking foreign function calls ... OK * checking R code for possible problems ... OK * checking Rd files ... OK * checking Rd metadata ... OK * checking Rd cross-references ... NOTE Non-topic package-anchored link(s) in Rd file 'reexports.Rd': ‘[magrittr:compound]{%<>%}’ ‘[magrittr:pipe]{%>%}’ ‘[magrittr:aliases]{extract}’ See section 'Cross-references' in the 'Writing R Extensions' manual. * checking for missing documentation entries ... OK * checking for code/documentation mismatches ... OK * checking Rd \usage sections ... OK * checking Rd contents ... OK * checking for unstated dependencies in examples ... OK * checking files in ‘vignettes’ ... OK * checking examples ... OK Examples with CPU (user + system) or elapsed time > 5s user system elapsed read_diann_proteingroups 94.943 1.475 91.645 read_rnaseq_counts 33.742 2.402 35.809 fit_linmod 30.377 0.332 30.201 plot_exprs_per_coef 22.990 0.205 23.095 plot_exprs 21.622 0.120 21.627 rm_diann_contaminants 19.840 0.459 18.942 default_formula 16.713 0.543 16.837 read_somascan 15.672 0.301 15.915 read_metabolon 15.254 0.016 15.149 plot_summary 14.536 0.082 14.531 analyze 14.253 0.104 14.230 plot_volcano 12.616 0.174 12.749 ftype 8.787 0.453 8.962 plot_densities 7.799 0.142 7.820 reset_fit 6.441 0.332 6.665 extract_coef_features 6.441 0.104 6.528 plot_sample_nas 6.271 0.109 6.333 fcluster 5.919 0.068 5.912 read_fragpipe 5.833 0.020 5.567 code 5.141 0.158 5.279 fit_survival 4.983 0.173 5.144 biplot_covariates 4.928 0.205 5.118 * checking for unstated dependencies in ‘tests’ ... OK * checking tests ... Running ‘testthat.R’ OK * checking for unstated dependencies in vignettes ... OK * checking package vignettes ... OK * checking re-building of vignette outputs ... OK * checking PDF version of manual ... OK * DONE Status: 2 NOTEs See ‘/home/biocbuild/bbs-3.21-bioc/meat/autonomics.Rcheck/00check.log’ for details.
autonomics.Rcheck/00install.out
############################################################################## ############################################################################## ### ### Running command: ### ### /home/biocbuild/bbs-3.21-bioc/R/bin/R CMD INSTALL autonomics ### ############################################################################## ############################################################################## * installing to library ‘/home/biocbuild/bbs-3.21-bioc/R/site-library’ * installing *source* package ‘autonomics’ ... ** this is package ‘autonomics’ version ‘1.15.143’ ** using staged installation ** R ** inst ** byte-compile and prepare package for lazy loading ** help *** installing help indices ** building package indices ** installing vignettes ** testing if installed package can be loaded from temporary location ** testing if installed package can be loaded from final location ** testing if installed package keeps a record of temporary installation path * DONE (autonomics)
autonomics.Rcheck/tests/testthat.Rout
R Under development (unstable) (2025-01-20 r87609) -- "Unsuffered Consequences" Copyright (C) 2025 The R Foundation for Statistical Computing Platform: x86_64-pc-linux-gnu R is free software and comes with ABSOLUTELY NO WARRANTY. You are welcome to redistribute it under certain conditions. Type 'license()' or 'licence()' for distribution details. R is a collaborative project with many contributors. Type 'contributors()' for more information and 'citation()' on how to cite R or R packages in publications. Type 'demo()' for some demos, 'help()' for on-line help, or 'help.start()' for an HTML browser interface to help. Type 'q()' to quit R. > library(testthat) > library(autonomics) Attaching package: 'autonomics' The following objects are masked from 'package:stats': biplot, loadings The following object is masked from 'package:base': beta > > test_check("autonomics") [ FAIL 0 | WARN 2 | SKIP 0 | PASS 158 ] [ FAIL 0 | WARN 2 | SKIP 0 | PASS 158 ] > > proc.time() user system elapsed 150.326 5.557 153.203
autonomics.Rcheck/autonomics-Ex.timings
name | user | system | elapsed | |
AUTONOMICS_DATASETS | 0.001 | 0.001 | 0.000 | |
COMPOUNDDISCOVERER_PATTERNS | 0 | 0 | 0 | |
FITSEP | 0 | 0 | 0 | |
LINMODENGINES | 0 | 0 | 0 | |
MAXQUANT_PATTERNS | 0.000 | 0.000 | 0.001 | |
SURVIVALENGINES | 0 | 0 | 0 | |
TAXON_TO_ORGNAME | 0 | 0 | 0 | |
TESTS | 0 | 0 | 0 | |
X | 1.526 | 0.035 | 1.539 | |
abstract_fit | 2.297 | 0.098 | 2.375 | |
add_adjusted_pvalues | 0.552 | 0.023 | 0.575 | |
add_assay_means | 0.356 | 0.018 | 0.375 | |
add_facetvars | 1.546 | 0.030 | 1.548 | |
add_opentargets_by_uniprot | 0.363 | 0.004 | 0.368 | |
add_psp | 0.476 | 0.022 | 0.499 | |
add_smiles | 0.426 | 0.039 | 0.445 | |
analysis | 0.363 | 0.018 | 0.380 | |
analyze | 14.253 | 0.104 | 14.230 | |
annotate_maxquant | 0.972 | 0.098 | 1.070 | |
annotate_uniprot_rest | 0.309 | 0.019 | 2.034 | |
assert_is_valid_sumexp | 1.366 | 0.123 | 1.468 | |
bin | 0.351 | 0.003 | 0.355 | |
biplot | 3.372 | 0.034 | 3.385 | |
biplot_corrections | 3.039 | 0.141 | 3.150 | |
biplot_covariates | 4.928 | 0.205 | 5.118 | |
block2lme | 0.003 | 0.000 | 0.003 | |
center | 1.383 | 0.024 | 1.407 | |
code | 5.141 | 0.158 | 5.279 | |
coefs | 1.824 | 0.137 | 1.939 | |
collapsed_entrezg_to_symbol | 0.000 | 0.001 | 0.001 | |
contrast_subgroup_cols | 0.565 | 0.046 | 0.588 | |
count_in | 0.001 | 0.000 | 0.001 | |
counts | 0.305 | 0.011 | 0.316 | |
counts2cpm | 0.287 | 0.002 | 0.288 | |
counts2tpm | 0.264 | 0.006 | 0.270 | |
cpm | 0.278 | 0.004 | 0.281 | |
create_design | 0.662 | 0.024 | 0.662 | |
default_formula | 16.713 | 0.543 | 16.837 | |
default_geom | 0.489 | 0.021 | 0.486 | |
default_sfile | 0.002 | 0.000 | 0.001 | |
demultiplex | 0.014 | 0.000 | 0.014 | |
dequantify | 0.002 | 0.000 | 0.003 | |
dequantify_compounddiscoverer | 0.001 | 0.001 | 0.002 | |
dot-coxph | 0.379 | 0.015 | 0.394 | |
dot-merge | 0.018 | 0.002 | 0.020 | |
dot-read_maxquant_proteingroups | 0.114 | 0.003 | 0.117 | |
download_data | 0.000 | 0.000 | 0.001 | |
download_gtf | 0 | 0 | 0 | |
download_mcclain21 | 0.000 | 0.000 | 0.001 | |
dt2mat | 0.003 | 0.001 | 0.004 | |
enrichment | 1.783 | 0.025 | 1.809 | |
entrezg_to_symbol | 0.000 | 0.000 | 0.001 | |
extract_coef_features | 6.441 | 0.104 | 6.528 | |
extract_rectangle | 0.094 | 0.018 | 0.113 | |
fcluster | 5.919 | 0.068 | 5.912 | |
fcor | 0.978 | 0.062 | 1.041 | |
fdata | 0.502 | 0.015 | 0.517 | |
fdr2p | 0.953 | 0.014 | 0.946 | |
filter_exprs_replicated_in_some_subgroup | 0.943 | 0.020 | 0.905 | |
filter_features | 0.535 | 0.033 | 0.547 | |
filter_medoid | 0.656 | 0.009 | 0.664 | |
filter_samples | 0.557 | 0.013 | 0.546 | |
fit_linmod | 30.377 | 0.332 | 30.201 | |
fit_survival | 4.983 | 0.173 | 5.144 | |
fitcoefs | 0.910 | 0.064 | 0.951 | |
fits | 0.717 | 0.033 | 0.728 | |
fix_xlgenes | 0.001 | 0.001 | 0.002 | |
flevels | 0.494 | 0.010 | 0.504 | |
fnames | 0.468 | 0.011 | 0.479 | |
formula2str | 0 | 0 | 0 | |
ftype | 8.787 | 0.453 | 8.962 | |
fvalues | 0.422 | 0.005 | 0.427 | |
fvars | 0.393 | 0.016 | 0.409 | |
genome_to_orgdb | 0.000 | 0.001 | 0.001 | |
group_by_level | 0.001 | 0.001 | 0.002 | |
guess_compounddiscoverer_quantity | 0.001 | 0.001 | 0.002 | |
guess_fitsep | 0.412 | 0.006 | 0.418 | |
guess_maxquant_quantity | 0.006 | 0.000 | 0.006 | |
guess_sep | 0.461 | 0.018 | 0.458 | |
has_multiple_levels | 0.054 | 0.003 | 0.058 | |
hdlproteins | 0.044 | 0.031 | 0.078 | |
impute | 2.883 | 0.027 | 2.911 | |
invert_subgroups | 0.582 | 0.012 | 0.594 | |
is_collapsed_subset | 0 | 0 | 0 | |
is_correlation_matrix | 0.001 | 0.000 | 0.001 | |
is_diann_report | 0.444 | 0.060 | 0.458 | |
is_fastadt | 0.056 | 0.001 | 0.057 | |
is_file | 0.001 | 0.000 | 0.001 | |
is_fraction | 0.001 | 0.001 | 0.002 | |
is_imputed | 0.651 | 0.011 | 0.662 | |
is_positive_number | 0.001 | 0.001 | 0.002 | |
is_scalar_subset | 0.291 | 0.015 | 0.306 | |
is_sig | 1.659 | 0.081 | 1.740 | |
is_valid_formula | 0.07 | 0.01 | 0.08 | |
keep_connected_blocks | 0.473 | 0.019 | 0.465 | |
keep_connected_features | 0.659 | 0.039 | 0.652 | |
keep_replicated_features | 0.794 | 0.048 | 0.777 | |
label2index | 0.001 | 0.000 | 0.001 | |
list2mat | 0 | 0 | 0 | |
log2counts | 0.277 | 0.010 | 0.286 | |
log2cpm | 0.287 | 0.004 | 0.290 | |
log2diffs | 0.293 | 0.010 | 0.304 | |
log2proteins | 0.316 | 0.004 | 0.320 | |
log2sites | 0.292 | 0.003 | 0.294 | |
log2tpm | 0.277 | 0.000 | 0.277 | |
log2transform | 3.500 | 0.074 | 3.574 | |
logical2factor | 0.002 | 0.000 | 0.002 | |
make_alpha_palette | 0.524 | 0.051 | 0.552 | |
make_colors | 0.008 | 0.003 | 0.010 | |
make_volcano_dt | 0.891 | 0.015 | 0.906 | |
map_fvalues | 0.382 | 0.021 | 0.402 | |
matrix2sumexp | 0.893 | 0.053 | 0.924 | |
merge_sample_file | 0.457 | 0.012 | 0.469 | |
merge_sdata | 0.538 | 0.026 | 0.524 | |
message_df | 0.003 | 0.000 | 0.002 | |
model_coefs | 0.737 | 0.042 | 0.740 | |
modelvar | 3.539 | 0.031 | 3.513 | |
order_on_p | 1.170 | 0.029 | 1.171 | |
pca | 2.870 | 0.061 | 2.909 | |
pg_to_canonical | 0.004 | 0.002 | 0.006 | |
plot_coef_densities | 1.154 | 0.057 | 1.190 | |
plot_contrast_venn | 2.484 | 0.069 | 2.408 | |
plot_contrastogram | 2.787 | 0.068 | 2.758 | |
plot_data | 1.173 | 0.039 | 1.190 | |
plot_densities | 7.799 | 0.142 | 7.820 | |
plot_design | 0.567 | 0.019 | 0.586 | |
plot_exprs | 21.622 | 0.120 | 21.627 | |
plot_exprs_per_coef | 22.990 | 0.205 | 23.095 | |
plot_fit_summary | 2.221 | 0.023 | 2.118 | |
plot_heatmap | 2.122 | 0.008 | 2.130 | |
plot_joint_density | 2.851 | 0.029 | 2.856 | |
plot_matrix | 0.494 | 0.015 | 0.486 | |
plot_sample_nas | 6.271 | 0.109 | 6.333 | |
plot_subgroup_points | 4.542 | 0.071 | 4.571 | |
plot_summary | 14.536 | 0.082 | 14.531 | |
plot_survival | 3.545 | 0.021 | 3.554 | |
plot_venn | 0.005 | 0.000 | 0.004 | |
plot_venn_heatmap | 0.024 | 0.000 | 0.023 | |
plot_violins | 3.923 | 0.029 | 3.930 | |
plot_volcano | 12.616 | 0.174 | 12.749 | |
preprocess_rnaseq_counts | 0.302 | 0.013 | 0.315 | |
pull_columns | 0.002 | 0.002 | 0.004 | |
read_affymetrix | 0.001 | 0.000 | 0.000 | |
read_diann_proteingroups | 94.943 | 1.475 | 91.645 | |
read_fragpipe | 5.833 | 0.020 | 5.567 | |
read_maxquant_phosphosites | 1.435 | 0.008 | 1.442 | |
read_maxquant_proteingroups | 1.222 | 0.008 | 1.230 | |
read_metabolon | 15.254 | 0.016 | 15.149 | |
read_msigdt | 0.001 | 0.001 | 0.000 | |
read_olink | 1.317 | 0.016 | 1.264 | |
read_rectangles | 0.182 | 0.005 | 0.187 | |
read_rnaseq_counts | 33.742 | 2.402 | 35.809 | |
read_salmon | 0.000 | 0.000 | 0.001 | |
read_somascan | 15.672 | 0.301 | 15.915 | |
read_uniprotdt | 0.308 | 0.018 | 0.327 | |
reset_fit | 6.441 | 0.332 | 6.665 | |
rm_diann_contaminants | 19.840 | 0.459 | 18.942 | |
rm_missing_in_some_samples | 0.487 | 0.009 | 0.465 | |
rm_unmatched_samples | 0.661 | 0.004 | 0.666 | |
scaledlibsizes | 0.294 | 0.006 | 0.300 | |
scoremat | 1.262 | 0.041 | 1.280 | |
slevels | 0.383 | 0.005 | 0.389 | |
snames | 0.399 | 0.010 | 0.409 | |
split_extract_fixed | 0.583 | 0.017 | 0.578 | |
split_samples | 1.238 | 0.058 | 1.272 | |
stri_any_regex | 0.000 | 0.000 | 0.001 | |
stri_detect_fixed_in_collapsed | 0.399 | 0.011 | 0.410 | |
subgroup_matrix | 0.509 | 0.012 | 0.499 | |
subtract_baseline | 4.453 | 0.122 | 4.519 | |
sumexp_to_longdt | 1.776 | 0.058 | 1.778 | |
sumexp_to_tsv | 0.489 | 0.004 | 0.494 | |
sumexplist_to_longdt | 1.424 | 0.010 | 1.434 | |
summarize_fit | 1.890 | 0.016 | 1.837 | |
svalues | 0.441 | 0.006 | 0.447 | |
svars | 0.476 | 0.005 | 0.480 | |
systematic_nas | 0.610 | 0.004 | 0.615 | |
tag_features | 1.009 | 0.031 | 1.040 | |
tag_hdlproteins | 0.628 | 0.034 | 0.662 | |
taxon2org | 0.001 | 0.001 | 0.002 | |
tpm | 0.313 | 0.003 | 0.316 | |
uncollapse | 0.028 | 0.001 | 0.029 | |
values | 0.425 | 0.002 | 0.427 | |
varlevels_dont_clash | 0.032 | 0.000 | 0.032 | |
venn_detects | 0.624 | 0.006 | 0.630 | |
weights | 0.322 | 0.000 | 0.322 | |
write_xl | 0.701 | 0.015 | 0.693 | |
zero_to_na | 0.002 | 0.000 | 0.002 | |