Back to Multiple platform build/check report for BioC 3.21:   simplified   long
[A]BCDEFGHIJKLMNOPQRSTUVWXYZ

This page was generated on 2025-02-11 11:43 -0500 (Tue, 11 Feb 2025).

HostnameOSArch (*)R versionInstalled pkgs
nebbiolo1Linux (Ubuntu 24.04.1 LTS)x86_64R Under development (unstable) (2025-01-20 r87609) -- "Unsuffered Consequences" 4719
palomino7Windows Server 2022 Datacenterx64R Under development (unstable) (2025-01-21 r87610 ucrt) -- "Unsuffered Consequences" 4480
lconwaymacOS 12.7.1 Montereyx86_64R Under development (unstable) (2025-01-22 r87618) -- "Unsuffered Consequences" 4491
kjohnson3macOS 13.7.1 Venturaarm64R Under development (unstable) (2025-01-20 r87609) -- "Unsuffered Consequences" 4444
Click on any hostname to see more info about the system (e.g. compilers)      (*) as reported by 'uname -p', except on Windows and Mac OS X

Package 116/2295HostnameOS / ArchINSTALLBUILDCHECKBUILD BIN
autonomics 1.15.143  (landing page)
Aditya Bhagwat
Snapshot Date: 2025-02-10 13:40 -0500 (Mon, 10 Feb 2025)
git_url: https://git.bioconductor.org/packages/autonomics
git_branch: devel
git_last_commit: d6a7703
git_last_commit_date: 2025-01-28 04:51:36 -0500 (Tue, 28 Jan 2025)
nebbiolo1Linux (Ubuntu 24.04.1 LTS) / x86_64  OK    OK    OK  UNNEEDED, same version is already published
palomino7Windows Server 2022 Datacenter / x64  OK    OK    OK    OK  UNNEEDED, same version is already published
lconwaymacOS 12.7.1 Monterey / x86_64  OK    OK    OK    OK  UNNEEDED, same version is already published
kjohnson3macOS 13.7.1 Ventura / arm64  OK    OK    OK    OK  UNNEEDED, same version is already published


CHECK results for autonomics on kjohnson3

To the developers/maintainers of the autonomics package:
- Allow up to 24 hours (and sometimes 48 hours) for your latest push to git@git.bioconductor.org:packages/autonomics.git to reflect on this report. See Troubleshooting Build Report for more information.
- Use the following Renviron settings to reproduce errors and warnings.
- If 'R CMD check' started to fail recently on the Linux builder(s) over a missing dependency, add the missing dependency to 'Suggests:' in your DESCRIPTION file. See Renviron.bioc for more information.

raw results


Summary

Package: autonomics
Version: 1.15.143
Command: /Library/Frameworks/R.framework/Resources/bin/R CMD check --install=check:autonomics.install-out.txt --library=/Library/Frameworks/R.framework/Resources/library --no-vignettes --timings autonomics_1.15.143.tar.gz
StartedAt: 2025-02-10 18:05:43 -0500 (Mon, 10 Feb 2025)
EndedAt: 2025-02-10 18:10:44 -0500 (Mon, 10 Feb 2025)
EllapsedTime: 301.4 seconds
RetCode: 0
Status:   OK  
CheckDir: autonomics.Rcheck
Warnings: 0

Command output

##############################################################################
##############################################################################
###
### Running command:
###
###   /Library/Frameworks/R.framework/Resources/bin/R CMD check --install=check:autonomics.install-out.txt --library=/Library/Frameworks/R.framework/Resources/library --no-vignettes --timings autonomics_1.15.143.tar.gz
###
##############################################################################
##############################################################################


* using log directory ‘/Users/biocbuild/bbs-3.21-bioc/meat/autonomics.Rcheck’
* using R Under development (unstable) (2025-01-20 r87609)
* using platform: aarch64-apple-darwin20
* R was compiled by
    Apple clang version 14.0.0 (clang-1400.0.29.202)
    GNU Fortran (GCC) 14.2.0
* running under: macOS Ventura 13.7.1
* using session charset: UTF-8
* using option ‘--no-vignettes’
* checking for file ‘autonomics/DESCRIPTION’ ... OK
* checking extension type ... Package
* this is package ‘autonomics’ version ‘1.15.143’
* package encoding: UTF-8
* checking package namespace information ... OK
* checking package dependencies ... INFO
Imports includes 30 non-default packages.
Importing from so many packages makes the package vulnerable to any of
them becoming unavailable.  Move as many as possible to Suggests and
use conditionally.
* checking if this is a source package ... OK
* checking if there is a namespace ... OK
* checking for hidden files and directories ... NOTE
Found the following hidden files and directories:
  .BBSoptions
These were most likely included in error. See section ‘Package
structure’ in the ‘Writing R Extensions’ manual.
* checking for portable file names ... OK
* checking for sufficient/correct file permissions ... OK
* checking whether package ‘autonomics’ can be installed ... OK
* checking installed package size ... OK
* checking package directory ... OK
* checking ‘build’ directory ... OK
* checking DESCRIPTION meta-information ... OK
* checking top-level files ... OK
* checking for left-over files ... OK
* checking index information ... OK
* checking package subdirectories ... OK
* checking code files for non-ASCII characters ... OK
* checking R files for syntax errors ... OK
* checking whether the package can be loaded ... OK
* checking whether the package can be loaded with stated dependencies ... OK
* checking whether the package can be unloaded cleanly ... OK
* checking whether the namespace can be loaded with stated dependencies ... OK
* checking whether the namespace can be unloaded cleanly ... OK
* checking dependencies in R code ... OK
* checking S3 generic/method consistency ... OK
* checking replacement functions ... OK
* checking foreign function calls ... OK
* checking R code for possible problems ... OK
* checking Rd files ... OK
* checking Rd metadata ... OK
* checking Rd cross-references ... OK
* checking for missing documentation entries ... OK
* checking for code/documentation mismatches ... OK
* checking Rd \usage sections ... OK
* checking Rd contents ... OK
* checking for unstated dependencies in examples ... OK
* checking files in ‘vignettes’ ... OK
* checking examples ... OK
Examples with CPU (user + system) or elapsed time > 5s
                           user system elapsed
read_diann_proteingroups 38.936  1.939  31.542
read_rnaseq_counts       13.666  1.137  11.286
fit_linmod               13.291  0.368   9.426
plot_exprs_per_coef       8.426  0.229   6.987
rm_diann_contaminants     8.164  0.453   6.350
plot_exprs                8.046  0.241   6.385
default_formula           6.888  0.288   5.434
read_metabolon            5.533  0.187   4.322
plot_summary              5.528  0.147   4.374
analyze                   5.499  0.146   4.143
read_somascan             5.419  0.111   4.336
* checking for unstated dependencies in ‘tests’ ... OK
* checking tests ...
  Running ‘testthat.R’
 OK
* checking for unstated dependencies in vignettes ... OK
* checking package vignettes ... OK
* checking running R code from vignettes ... SKIPPED
* checking re-building of vignette outputs ... SKIPPED
* checking PDF version of manual ... OK
* DONE

Status: 1 NOTE
See
  ‘/Users/biocbuild/bbs-3.21-bioc/meat/autonomics.Rcheck/00check.log’
for details.


Installation output

autonomics.Rcheck/00install.out

##############################################################################
##############################################################################
###
### Running command:
###
###   /Library/Frameworks/R.framework/Resources/bin/R CMD INSTALL autonomics
###
##############################################################################
##############################################################################


* installing to library ‘/Library/Frameworks/R.framework/Versions/4.5-arm64/Resources/library’
* installing *source* package ‘autonomics’ ...
** this is package ‘autonomics’ version ‘1.15.143’
** using staged installation
** R
** inst
** byte-compile and prepare package for lazy loading
** help
*** installing help indices
** building package indices
** installing vignettes
** testing if installed package can be loaded from temporary location
** testing if installed package can be loaded from final location
** testing if installed package keeps a record of temporary installation path
* DONE (autonomics)

Tests output

autonomics.Rcheck/tests/testthat.Rout


R Under development (unstable) (2025-01-20 r87609) -- "Unsuffered Consequences"
Copyright (C) 2025 The R Foundation for Statistical Computing
Platform: aarch64-apple-darwin20

R is free software and comes with ABSOLUTELY NO WARRANTY.
You are welcome to redistribute it under certain conditions.
Type 'license()' or 'licence()' for distribution details.

R is a collaborative project with many contributors.
Type 'contributors()' for more information and
'citation()' on how to cite R or R packages in publications.

Type 'demo()' for some demos, 'help()' for on-line help, or
'help.start()' for an HTML browser interface to help.
Type 'q()' to quit R.

> library(testthat)
> library(autonomics)

Attaching package: 'autonomics'

The following objects are masked from 'package:stats':

    biplot, loadings

The following object is masked from 'package:base':

    beta

> 
> test_check("autonomics")
[ FAIL 0 | WARN 2 | SKIP 0 | PASS 158 ]

[ FAIL 0 | WARN 2 | SKIP 0 | PASS 158 ]
> 
> proc.time()
   user  system elapsed 
 62.073   4.331  54.342 

Example timings

autonomics.Rcheck/autonomics-Ex.timings

nameusersystemelapsed
AUTONOMICS_DATASETS0.0000.0000.001
COMPOUNDDISCOVERER_PATTERNS000
FITSEP000
LINMODENGINES000
MAXQUANT_PATTERNS0.0000.0000.001
SURVIVALENGINES000
TAXON_TO_ORGNAME000
TESTS000
X0.6670.0330.490
abstract_fit0.9660.0380.794
add_adjusted_pvalues0.1750.0050.183
add_assay_means0.0960.0020.099
add_facetvars0.6160.0250.429
add_opentargets_by_uniprot0.1170.0020.122
add_psp0.1580.0040.165
add_smiles0.1580.0160.141
analysis0.2070.0080.114
analyze5.4990.1464.143
annotate_maxquant0.3390.0140.355
annotate_uniprot_rest0.0310.0072.463
assert_is_valid_sumexp0.2040.0160.176
bin0.2380.0080.123
biplot1.5410.0431.330
biplot_corrections1.4360.0271.250
biplot_covariates1.6370.0331.465
block2lme0.0010.0000.001
center0.4180.0080.425
code1.6480.0251.462
coefs0.3420.0290.244
collapsed_entrezg_to_symbol000
contrast_subgroup_cols0.3420.0290.204
count_in0.0010.0000.000
counts0.1850.0040.095
counts2cpm0.1090.0030.092
counts2tpm0.0780.0000.079
cpm0.0840.0010.084
create_design0.2850.0200.213
default_formula6.8880.2885.434
default_geom0.3280.0300.180
default_sfile0.0020.0010.001
demultiplex0.0070.0000.004
dequantify0.0020.0000.001
dequantify_compounddiscoverer0.0010.0000.000
dot-coxph0.2980.0200.161
dot-merge0.0070.0000.008
dot-read_maxquant_proteingroups0.0460.0020.048
download_data0.0000.0000.001
download_gtf000
download_mcclain210.0000.0000.001
dt2mat0.0010.0000.001
enrichment0.5020.0010.504
entrezg_to_symbol0.0010.0000.000
extract_coef_features2.1290.0261.959
extract_rectangle0.0560.0160.071
fcluster2.5460.0622.000
fcor0.3480.0080.360
fdata0.1690.0050.175
fdr2p0.4380.0370.296
filter_exprs_replicated_in_some_subgroup0.4780.0400.324
filter_features0.2910.0270.162
filter_medoid0.3740.0190.237
filter_samples0.2050.0190.182
fit_linmod13.291 0.368 9.426
fit_survival1.9900.0401.647
fitcoefs0.3940.0320.285
fits0.4410.0280.277
fix_xlgenes0.0010.0000.001
flevels0.1990.0070.128
fnames0.1690.0030.171
formula2str000
ftype4.1440.2683.074
fvalues0.2410.0140.134
fvars0.1480.0060.118
genome_to_orgdb000
group_by_level0.0010.0000.000
guess_compounddiscoverer_quantity0.0000.0000.001
guess_fitsep0.1270.0020.128
guess_maxquant_quantity0.0020.0010.002
guess_sep0.1680.0170.150
has_multiple_levels0.0280.0020.015
hdlproteins0.0440.0130.029
impute0.9480.0260.853
invert_subgroups0.1760.0030.179
is_collapsed_subset000
is_correlation_matrix0.0010.0000.000
is_diann_report0.2600.0350.178
is_fastadt0.0340.0020.018
is_file0.0010.0000.001
is_fraction0.0010.0000.000
is_imputed0.3300.0160.203
is_positive_number0.0010.0000.001
is_scalar_subset0.0980.0020.100
is_sig0.4710.0040.475
is_valid_formula0.0120.0000.012
keep_connected_blocks0.1760.0150.150
keep_connected_features0.4000.0310.220
keep_replicated_features0.4010.0380.238
label2index000
list2mat0.0000.0000.001
log2counts0.1610.0120.090
log2cpm0.1760.0070.092
log2diffs0.0960.0020.088
log2proteins0.0890.0010.091
log2sites0.0930.0010.095
log2tpm0.0810.0000.083
log2transform1.0770.0161.096
logical2factor0.0010.0000.000
make_alpha_palette0.2000.0210.174
make_colors0.0090.0000.005
make_volcano_dt0.3830.0180.247
map_fvalues0.1080.0020.115
matrix2sumexp0.4040.0280.277
merge_sample_file0.1750.0060.140
merge_sdata0.2110.0230.186
message_df0.0010.0000.001
model_coefs0.4220.0350.234
modelvar1.5110.0671.029
order_on_p0.5510.0340.376
pca1.0440.0370.878
pg_to_canonical0.0010.0000.001
plot_coef_densities0.5400.0530.439
plot_contrast_venn1.0610.0720.756
plot_contrastogram1.2820.1031.003
plot_data0.6090.0590.419
plot_densities3.4140.2242.729
plot_design0.2810.0140.194
plot_exprs8.0460.2416.385
plot_exprs_per_coef8.4260.2296.987
plot_fit_summary1.0340.0530.660
plot_heatmap0.6970.0080.657
plot_joint_density1.0950.0481.007
plot_matrix0.1970.0180.180
plot_sample_nas2.5710.0881.870
plot_subgroup_points2.0160.0871.423
plot_summary5.5280.1474.374
plot_survival1.3770.0411.050
plot_venn0.0010.0000.002
plot_venn_heatmap0.0060.0000.007
plot_violins1.3800.0631.272
plot_volcano4.0110.0823.649
preprocess_rnaseq_counts0.0820.0020.083
pull_columns0.0010.0000.001
read_affymetrix000
read_diann_proteingroups38.936 1.93931.542
read_fragpipe3.1430.1972.310
read_maxquant_phosphosites0.5970.0160.487
read_maxquant_proteingroups0.3760.0060.383
read_metabolon5.5330.1874.322
read_msigdt000
read_olink0.7300.0460.519
read_rectangles0.0590.0060.065
read_rnaseq_counts13.666 1.13711.286
read_salmon000
read_somascan5.4190.1114.336
read_uniprotdt0.1130.0050.119
reset_fit2.8110.1622.115
rm_diann_contaminants8.1640.4536.350
rm_missing_in_some_samples0.2750.0340.159
rm_unmatched_samples0.4500.0550.345
scaledlibsizes0.0890.0000.090
scoremat0.4590.0340.327
slevels0.1310.0030.119
snames0.1170.0010.119
split_extract_fixed0.1790.0300.166
split_samples0.6390.0590.366
stri_any_regex000
stri_detect_fixed_in_collapsed0.1300.0020.133
subgroup_matrix0.1940.0260.173
subtract_baseline1.7200.0851.342
sumexp_to_longdt0.9130.0870.593
sumexp_to_tsv0.1380.0020.140
sumexplist_to_longdt0.4400.0070.447
summarize_fit0.9150.1160.552
svalues0.2120.0220.123
svars0.1750.0100.119
systematic_nas0.1770.0040.180
tag_features0.3360.0150.351
tag_hdlproteins0.1950.0140.209
taxon2org0.0000.0000.001
tpm0.0880.0010.088
uncollapse0.0080.0000.008
values0.1250.0030.128
varlevels_dont_clash0.0070.0000.008
venn_detects0.1730.0060.182
weights0.0900.0010.091
write_xl0.2730.0210.204
zero_to_na0.0010.0000.001