| Back to Multiple platform build/check report for BioC 3.21: simplified long |
|
This page was generated on 2025-10-16 11:40 -0400 (Thu, 16 Oct 2025).
| Hostname | OS | Arch (*) | R version | Installed pkgs |
|---|---|---|---|---|
| nebbiolo1 | Linux (Ubuntu 24.04.3 LTS) | x86_64 | 4.5.1 (2025-06-13) -- "Great Square Root" | 4833 |
| merida1 | macOS 12.7.6 Monterey | x86_64 | 4.5.1 RC (2025-06-05 r88288) -- "Great Square Root" | 4614 |
| kjohnson1 | macOS 13.7.5 Ventura | arm64 | 4.5.1 Patched (2025-06-14 r88325) -- "Great Square Root" | 4555 |
| kunpeng2 | Linux (openEuler 24.03 LTS) | aarch64 | R Under development (unstable) (2025-02-19 r87757) -- "Unsuffered Consequences" | 4586 |
| Click on any hostname to see more info about the system (e.g. compilers) (*) as reported by 'uname -p', except on Windows and Mac OS X | ||||
| Package 830/2341 | Hostname | OS / Arch | INSTALL | BUILD | CHECK | BUILD BIN | ||||||||
| GenomAutomorphism 1.10.0 (landing page) Robersy Sanchez
| nebbiolo1 | Linux (Ubuntu 24.04.3 LTS) / x86_64 | OK | OK | OK | |||||||||
| merida1 | macOS 12.7.6 Monterey / x86_64 | OK | OK | OK | OK | |||||||||
| kjohnson1 | macOS 13.7.5 Ventura / arm64 | OK | OK | OK | OK | |||||||||
| kunpeng2 | Linux (openEuler 24.03 LTS) / aarch64 | OK | OK | OK | ||||||||||
|
To the developers/maintainers of the GenomAutomorphism package: - Allow up to 24 hours (and sometimes 48 hours) for your latest push to git@git.bioconductor.org:packages/GenomAutomorphism.git to reflect on this report. See Troubleshooting Build Report for more information. - Use the following Renviron settings to reproduce errors and warnings. - If 'R CMD check' started to fail recently on the Linux builder(s) over a missing dependency, add the missing dependency to 'Suggests:' in your DESCRIPTION file. See Renviron.bioc for more information. |
| Package: GenomAutomorphism |
| Version: 1.10.0 |
| Command: /Library/Frameworks/R.framework/Resources/bin/R CMD check --install=check:GenomAutomorphism.install-out.txt --library=/Library/Frameworks/R.framework/Resources/library --no-vignettes --timings GenomAutomorphism_1.10.0.tar.gz |
| StartedAt: 2025-10-14 22:36:06 -0400 (Tue, 14 Oct 2025) |
| EndedAt: 2025-10-14 22:43:05 -0400 (Tue, 14 Oct 2025) |
| EllapsedTime: 418.3 seconds |
| RetCode: 0 |
| Status: OK |
| CheckDir: GenomAutomorphism.Rcheck |
| Warnings: 0 |
##############################################################################
##############################################################################
###
### Running command:
###
### /Library/Frameworks/R.framework/Resources/bin/R CMD check --install=check:GenomAutomorphism.install-out.txt --library=/Library/Frameworks/R.framework/Resources/library --no-vignettes --timings GenomAutomorphism_1.10.0.tar.gz
###
##############################################################################
##############################################################################
* using log directory ‘/Users/biocbuild/bbs-3.21-bioc/meat/GenomAutomorphism.Rcheck’
* using R version 4.5.1 Patched (2025-06-14 r88325)
* using platform: aarch64-apple-darwin20
* R was compiled by
Apple clang version 16.0.0 (clang-1600.0.26.6)
GNU Fortran (GCC) 14.2.0
* running under: macOS Ventura 13.7.5
* using session charset: UTF-8
* using option ‘--no-vignettes’
* checking for file ‘GenomAutomorphism/DESCRIPTION’ ... OK
* this is package ‘GenomAutomorphism’ version ‘1.10.0’
* package encoding: UTF-8
* checking package namespace information ... OK
* checking package dependencies ... OK
* checking if this is a source package ... OK
* checking if there is a namespace ... OK
* checking for hidden files and directories ... OK
* checking for portable file names ... OK
* checking for sufficient/correct file permissions ... OK
* checking whether package ‘GenomAutomorphism’ can be installed ... OK
* checking installed package size ... OK
* checking package directory ... OK
* checking ‘build’ directory ... OK
* checking DESCRIPTION meta-information ... OK
* checking top-level files ... OK
* checking for left-over files ... OK
* checking index information ... OK
* checking package subdirectories ... OK
* checking code files for non-ASCII characters ... OK
* checking R files for syntax errors ... OK
* checking whether the package can be loaded ... OK
* checking whether the package can be loaded with stated dependencies ... OK
* checking whether the package can be unloaded cleanly ... OK
* checking whether the namespace can be loaded with stated dependencies ... OK
* checking whether the namespace can be unloaded cleanly ... OK
* checking dependencies in R code ... OK
* checking S3 generic/method consistency ... OK
* checking replacement functions ... OK
* checking foreign function calls ... OK
* checking R code for possible problems ... OK
* checking Rd files ... OK
* checking Rd metadata ... OK
* checking Rd cross-references ... NOTE
Non-topic package-anchored link(s) in Rd file 'reexports.Rd':
‘[S4Vectors:S4Vectors-internals]{setValidity2}’
See section 'Cross-references' in the 'Writing R Extensions' manual.
* checking for missing documentation entries ... OK
* checking for code/documentation mismatches ... OK
* checking Rd \usage sections ... OK
* checking Rd contents ... OK
* checking for unstated dependencies in examples ... OK
* checking contents of ‘data’ directory ... OK
* checking data for non-ASCII characters ... OK
* checking data for ASCII and uncompressed saves ... OK
* checking files in ‘vignettes’ ... OK
* checking examples ... OK
Examples with CPU (user + system) or elapsed time > 5s
user system elapsed
automorphisms 6.363 0.171 60.275
aminoacid_dist 3.811 1.065 11.364
autZ64 2.629 0.058 20.814
aut3D 2.387 0.166 21.975
autZ125 2.234 0.061 17.930
autZ5 1.719 0.062 20.886
codon_dist_matrix 0.049 0.010 6.721
* checking for unstated dependencies in ‘tests’ ... OK
* checking tests ...
Running ‘spelling.R’
Running ‘testthat.R’
OK
* checking for unstated dependencies in vignettes ... OK
* checking package vignettes ... OK
* checking running R code from vignettes ... SKIPPED
* checking re-building of vignette outputs ... SKIPPED
* checking PDF version of manual ... OK
* DONE
Status: 1 NOTE
See
‘/Users/biocbuild/bbs-3.21-bioc/meat/GenomAutomorphism.Rcheck/00check.log’
for details.
GenomAutomorphism.Rcheck/00install.out
############################################################################## ############################################################################## ### ### Running command: ### ### /Library/Frameworks/R.framework/Resources/bin/R CMD INSTALL GenomAutomorphism ### ############################################################################## ############################################################################## * installing to library ‘/Library/Frameworks/R.framework/Versions/4.5-arm64/Resources/library’ * installing *source* package ‘GenomAutomorphism’ ... ** this is package ‘GenomAutomorphism’ version ‘1.10.0’ ** using staged installation ** R ** data ** inst ** byte-compile and prepare package for lazy loading ** help *** installing help indices *** copying figures ** building package indices ** installing vignettes ** testing if installed package can be loaded from temporary location ** testing if installed package can be loaded from final location ** testing if installed package keeps a record of temporary installation path * DONE (GenomAutomorphism)
GenomAutomorphism.Rcheck/tests/spelling.Rout
R version 4.5.1 Patched (2025-06-14 r88325) -- "Great Square Root"
Copyright (C) 2025 The R Foundation for Statistical Computing
Platform: aarch64-apple-darwin20
R is free software and comes with ABSOLUTELY NO WARRANTY.
You are welcome to redistribute it under certain conditions.
Type 'license()' or 'licence()' for distribution details.
R is a collaborative project with many contributors.
Type 'contributors()' for more information and
'citation()' on how to cite R or R packages in publications.
Type 'demo()' for some demos, 'help()' for on-line help, or
'help.start()' for an HTML browser interface to help.
Type 'q()' to quit R.
> if (requireNamespace("spelling", quietly = TRUE)) {
+ spelling::spell_check_test(
+ vignettes = TRUE, error = FALSE,
+ skip_on_cran = TRUE
+ )
+ }
All Done!
>
> proc.time()
user system elapsed
0.215 0.070 0.275
GenomAutomorphism.Rcheck/tests/testthat.Rout
R version 4.5.1 Patched (2025-06-14 r88325) -- "Great Square Root"
Copyright (C) 2025 The R Foundation for Statistical Computing
Platform: aarch64-apple-darwin20
R is free software and comes with ABSOLUTELY NO WARRANTY.
You are welcome to redistribute it under certain conditions.
Type 'license()' or 'licence()' for distribution details.
R is a collaborative project with many contributors.
Type 'contributors()' for more information and
'citation()' on how to cite R or R packages in publications.
Type 'demo()' for some demos, 'help()' for on-line help, or
'help.start()' for an HTML browser interface to help.
Type 'q()' to quit R.
> library(testthat)
> library(GenomAutomorphism)
>
> test_check("GenomAutomorphism")
[ FAIL 0 | WARN 0 | SKIP 0 | PASS 34 ]
>
> proc.time()
user system elapsed
27.277 1.315 76.372
GenomAutomorphism.Rcheck/GenomAutomorphism-Ex.timings
| name | user | system | elapsed | |
| AutomorphismByCoef | 0.446 | 0.014 | 0.460 | |
| AutomorphismList | 2.806 | 0.066 | 2.879 | |
| CodonMatrix | 0.177 | 0.003 | 0.180 | |
| CodonSeq | 0.447 | 0.012 | 0.460 | |
| GRangesMatrixSeq | 0.227 | 0.014 | 0.242 | |
| ListCodonMatrix | 0.216 | 0.003 | 0.220 | |
| MatrixSeq | 0.141 | 0.014 | 0.155 | |
| aa_phychem_index | 0.132 | 0.024 | 0.156 | |
| aaindex1 | 0.049 | 0.007 | 0.055 | |
| aaindex2 | 0.021 | 0.006 | 0.030 | |
| aaindex3 | 0.014 | 0.007 | 0.035 | |
| aln | 0.121 | 0.003 | 0.140 | |
| aminoacid_dist | 3.811 | 1.065 | 11.364 | |
| as.AutomorphismList | 0.614 | 0.059 | 0.715 | |
| aut3D | 2.387 | 0.166 | 21.975 | |
| autZ125 | 2.234 | 0.061 | 17.930 | |
| autZ5 | 1.719 | 0.062 | 20.886 | |
| autZ64 | 2.629 | 0.058 | 20.814 | |
| autby_coef | 0.323 | 0.015 | 0.363 | |
| autm | 0.084 | 0.006 | 0.089 | |
| autm_3d | 0.133 | 0.009 | 0.143 | |
| autm_z125 | 0.108 | 0.009 | 0.116 | |
| automorphismByRanges | 0.160 | 0.009 | 0.168 | |
| automorphism_bycoef | 0.148 | 0.006 | 0.157 | |
| automorphism_prob | 0.989 | 0.027 | 1.025 | |
| automorphisms | 6.363 | 0.171 | 60.275 | |
| base2codon | 0.073 | 0.007 | 0.097 | |
| base2int | 0.006 | 0.001 | 0.007 | |
| base_methods | 0.453 | 0.038 | 0.492 | |
| brca1_aln | 0.062 | 0.009 | 0.072 | |
| brca1_aln2 | 0.063 | 0.009 | 0.072 | |
| brca1_autm | 0.465 | 0.013 | 0.478 | |
| cdm_z64 | 0.207 | 0.436 | 0.658 | |
| codon_coord | 0.713 | 0.034 | 0.840 | |
| codon_dist | 0.243 | 0.010 | 0.271 | |
| codon_dist_matrix | 0.049 | 0.010 | 6.721 | |
| codon_matrix | 0.588 | 0.019 | 0.612 | |
| conserved_regions | 0.327 | 0.008 | 0.339 | |
| covid_aln | 0.057 | 0.004 | 0.063 | |
| covid_autm | 0.059 | 0.004 | 0.072 | |
| cyc_aln | 0.120 | 0.005 | 0.124 | |
| cyc_autm | 0.230 | 0.007 | 0.238 | |
| dna_phyche | 0.005 | 0.003 | 0.008 | |
| dna_phychem | 0.001 | 0.000 | 0.001 | |
| extract-methods | 0.376 | 0.009 | 0.387 | |
| getAutomorphisms | 0.213 | 0.007 | 0.221 | |
| get_coord | 0.678 | 0.008 | 0.689 | |
| get_mutscore | 0.202 | 0.024 | 0.227 | |
| matrices | 0.656 | 0.014 | 0.680 | |
| mod | 0.002 | 0.001 | 0.002 | |
| modeq | 0.001 | 0.000 | 0.001 | |
| modlineq | 0.001 | 0.001 | 0.003 | |
| mut_type | 0.001 | 0.000 | 0.002 | |
| peptide_phychem_index | 0.152 | 0.022 | 0.175 | |
| reexports | 0.172 | 0.008 | 0.181 | |
| seqranges | 0.694 | 0.007 | 0.705 | |
| slapply | 0.002 | 0.001 | 0.003 | |
| sortByChromAndStart | 0.062 | 0.001 | 0.062 | |
| str2chr | 0.000 | 0.001 | 0.000 | |
| str2dig | 0 | 0 | 0 | |
| translation | 1.082 | 0.012 | 1.093 | |