| Back to Multiple platform build/check report for BioC 3.20: simplified long |
|
This page was generated on 2024-10-19 11:49 -0400 (Sat, 19 Oct 2024).
| Hostname | OS | Arch (*) | R version | Installed pkgs |
|---|---|---|---|---|
| teran2 | Linux (Ubuntu 24.04.1 LTS) | x86_64 | 4.4.1 (2024-06-14) -- "Race for Your Life" | 4474 |
| nebbiolo2 | Linux (Ubuntu 24.04.1 LTS) | x86_64 | 4.4.1 (2024-06-14) -- "Race for Your Life" | 4733 |
| palomino8 | Windows Server 2022 Datacenter | x64 | 4.4.1 (2024-06-14 ucrt) -- "Race for Your Life" | 4479 |
| lconway | macOS 12.7.1 Monterey | x86_64 | 4.4.1 (2024-06-14) -- "Race for Your Life" | 4509 |
| kunpeng2 | Linux (openEuler 22.03 LTS-SP1) | aarch64 | 4.4.1 (2024-06-14) -- "Race for Your Life" | 4457 |
| Click on any hostname to see more info about the system (e.g. compilers) (*) as reported by 'uname -p', except on Windows and Mac OS X | ||||
| Package 2073/2273 | Hostname | OS / Arch | INSTALL | BUILD | CHECK | BUILD BIN | ||||||||
| supraHex 1.43.0 (landing page) Hai Fang
| teran2 | Linux (Ubuntu 24.04.1 LTS) / x86_64 | OK | OK | OK | |||||||||
| nebbiolo2 | Linux (Ubuntu 24.04.1 LTS) / x86_64 | OK | OK | OK | ||||||||||
| palomino8 | Windows Server 2022 Datacenter / x64 | OK | OK | OK | OK | |||||||||
| lconway | macOS 12.7.1 Monterey / x86_64 | OK | OK | OK | OK | |||||||||
| kunpeng2 | Linux (openEuler 22.03 LTS-SP1) / aarch64 | OK | OK | OK | ||||||||||
|
To the developers/maintainers of the supraHex package: - Allow up to 24 hours (and sometimes 48 hours) for your latest push to git@git.bioconductor.org:packages/supraHex.git to reflect on this report. See Troubleshooting Build Report for more information. - Use the following Renviron settings to reproduce errors and warnings. - If 'R CMD check' started to fail recently on the Linux builder(s) over a missing dependency, add the missing dependency to 'Suggests:' in your DESCRIPTION file. See Renviron.bioc for more information. |
| Package: supraHex |
| Version: 1.43.0 |
| Command: /home/biocbuild/bbs-3.20-bioc/R/bin/R CMD check --install=check:supraHex.install-out.txt --library=/home/biocbuild/bbs-3.20-bioc/R/site-library --timings supraHex_1.43.0.tar.gz |
| StartedAt: 2024-10-19 08:49:43 -0400 (Sat, 19 Oct 2024) |
| EndedAt: 2024-10-19 08:54:26 -0400 (Sat, 19 Oct 2024) |
| EllapsedTime: 282.2 seconds |
| RetCode: 0 |
| Status: OK |
| CheckDir: supraHex.Rcheck |
| Warnings: 0 |
##############################################################################
##############################################################################
###
### Running command:
###
### /home/biocbuild/bbs-3.20-bioc/R/bin/R CMD check --install=check:supraHex.install-out.txt --library=/home/biocbuild/bbs-3.20-bioc/R/site-library --timings supraHex_1.43.0.tar.gz
###
##############################################################################
##############################################################################
* using log directory ‘/home/biocbuild/bbs-3.20-bioc/meat/supraHex.Rcheck’
* using R version 4.4.1 (2024-06-14)
* using platform: x86_64-pc-linux-gnu
* R was compiled by
gcc (Ubuntu 13.2.0-23ubuntu4) 13.2.0
GNU Fortran (Ubuntu 13.2.0-23ubuntu4) 13.2.0
* running under: Ubuntu 24.04.1 LTS
* using session charset: UTF-8
* checking for file ‘supraHex/DESCRIPTION’ ... OK
* checking extension type ... Package
* this is package ‘supraHex’ version ‘1.43.0’
* checking package namespace information ... OK
* checking package dependencies ...Warning: unable to access index for repository https://CRAN.R-project.org/src/contrib:
cannot open URL 'https://CRAN.R-project.org/src/contrib/PACKAGES'
OK
* checking if this is a source package ... OK
* checking if there is a namespace ... OK
* checking for hidden files and directories ... OK
* checking for portable file names ... OK
* checking for sufficient/correct file permissions ... OK
* checking whether package ‘supraHex’ can be installed ... OK
* checking installed package size ... OK
* checking package directory ... OK
* checking ‘build’ directory ... OK
* checking DESCRIPTION meta-information ... OK
* checking top-level files ... OK
* checking for left-over files ... OK
* checking index information ... OK
* checking package subdirectories ... OK
* checking code files for non-ASCII characters ... OK
* checking R files for syntax errors ... OK
* checking whether the package can be loaded ... OK
* checking whether the package can be loaded with stated dependencies ... OK
* checking whether the package can be unloaded cleanly ... OK
* checking whether the namespace can be loaded with stated dependencies ... OK
* checking whether the namespace can be unloaded cleanly ... OK
* checking loading without being on the library search path ... OK
* checking dependencies in R code ... OK
* checking S3 generic/method consistency ... OK
* checking replacement functions ... OK
* checking foreign function calls ... OK
* checking R code for possible problems ... OK
* checking Rd files ... OK
* checking Rd metadata ... OK
* checking Rd cross-references ... OK
* checking for missing documentation entries ... OK
* checking for code/documentation mismatches ... OK
* checking Rd \usage sections ... OK
* checking Rd contents ... OK
* checking for unstated dependencies in examples ... OK
* checking contents of ‘data’ directory ... OK
* checking data for non-ASCII characters ... OK
* checking data for ASCII and uncompressed saves ... OK
* checking files in ‘vignettes’ ... OK
* checking examples ... OK
* checking for unstated dependencies in vignettes ... OK
* checking package vignettes ... OK
* checking re-building of vignette outputs ... OK
* checking PDF version of manual ... OK
* DONE
Status: OK
supraHex.Rcheck/00install.out
############################################################################## ############################################################################## ### ### Running command: ### ### /home/biocbuild/bbs-3.20-bioc/R/bin/R CMD INSTALL supraHex ### ############################################################################## ############################################################################## * installing to library ‘/home/biocbuild/bbs-3.20-bioc/R/site-library’ * installing *source* package ‘supraHex’ ... ** using staged installation ** R ** data ** inst ** byte-compile and prepare package for lazy loading ** help *** installing help indices ** building package indices ** installing vignettes ** testing if installed package can be loaded from temporary location ** testing if installed package can be loaded from final location ** testing if installed package keeps a record of temporary installation path * DONE (supraHex)
supraHex.Rcheck/supraHex-Ex.timings
| name | user | system | elapsed | |
| sBMH | 0.055 | 0.003 | 0.058 | |
| sCompReorder | 1.972 | 0.050 | 2.023 | |
| sDistance | 0.233 | 0.002 | 0.235 | |
| sDmat | 0.259 | 0.000 | 0.260 | |
| sDmatCluster | 0.345 | 0.001 | 0.346 | |
| sDmatMinima | 0.260 | 0.001 | 0.262 | |
| sHexDist | 0.006 | 0.000 | 0.006 | |
| sHexGrid | 0.001 | 0.000 | 0.001 | |
| sHexGridVariant | 0.001 | 0.000 | 0.001 | |
| sHexPolygon | 0.071 | 0.000 | 0.071 | |
| sInitial | 0.006 | 0.000 | 0.006 | |
| sMapOverlay | 0.290 | 0.002 | 0.292 | |
| sNeighAny | 0.009 | 0.000 | 0.009 | |
| sNeighDirect | 0.006 | 0.001 | 0.006 | |
| sPipeline | 0 | 0 | 0 | |
| sTopology | 0.041 | 0.001 | 0.042 | |
| sTrainBatch | 0.038 | 0.001 | 0.039 | |
| sTrainSeq | 0.271 | 0.000 | 0.271 | |
| sTrainology | 0.007 | 0.000 | 0.007 | |
| sWriteData | 0.578 | 0.024 | 0.599 | |
| visColoralpha | 0.003 | 0.000 | 0.003 | |
| visColorbar | 0.018 | 0.000 | 0.018 | |
| visColormap | 0.001 | 0.000 | 0.003 | |
| visCompReorder | 2.704 | 0.055 | 2.759 | |
| visDmatCluster | 0.000 | 0.000 | 0.001 | |
| visDmatHeatmap | 0 | 0 | 0 | |
| visHeatmap | 0.077 | 0.000 | 0.076 | |
| visHeatmapAdv | 0.287 | 0.003 | 0.289 | |
| visHexAnimate | 0.001 | 0.000 | 0.001 | |
| visHexBarplot | 0.626 | 0.002 | 0.628 | |
| visHexComp | 0.232 | 0.000 | 0.232 | |
| visHexGrid | 0.228 | 0.000 | 0.227 | |
| visHexMapping | 1.229 | 0.044 | 1.272 | |
| visHexMulComp | 0.824 | 0.016 | 0.840 | |
| visHexPattern | 1.479 | 0.021 | 1.499 | |
| visKernels | 0.010 | 0.001 | 0.011 | |
| visTreeBSclust | 0.000 | 0.000 | 0.001 | |
| visTreeBootstrap | 0 | 0 | 0 | |
| visVp | 0.013 | 0.000 | 0.013 | |