| Back to Multiple platform build/check report for BioC 3.20: simplified long |
|
This page was generated on 2024-10-19 11:52 -0400 (Sat, 19 Oct 2024).
| Hostname | OS | Arch (*) | R version | Installed pkgs |
|---|---|---|---|---|
| teran2 | Linux (Ubuntu 24.04.1 LTS) | x86_64 | 4.4.1 (2024-06-14) -- "Race for Your Life" | 4474 |
| nebbiolo2 | Linux (Ubuntu 24.04.1 LTS) | x86_64 | 4.4.1 (2024-06-14) -- "Race for Your Life" | 4733 |
| palomino8 | Windows Server 2022 Datacenter | x64 | 4.4.1 (2024-06-14 ucrt) -- "Race for Your Life" | 4479 |
| lconway | macOS 12.7.1 Monterey | x86_64 | 4.4.1 (2024-06-14) -- "Race for Your Life" | 4509 |
| kunpeng2 | Linux (openEuler 22.03 LTS-SP1) | aarch64 | 4.4.1 (2024-06-14) -- "Race for Your Life" | 4457 |
| Click on any hostname to see more info about the system (e.g. compilers) (*) as reported by 'uname -p', except on Windows and Mac OS X | ||||
| Package 2073/2273 | Hostname | OS / Arch | INSTALL | BUILD | CHECK | BUILD BIN | ||||||||
| supraHex 1.43.0 (landing page) Hai Fang
| teran2 | Linux (Ubuntu 24.04.1 LTS) / x86_64 | OK | OK | OK | |||||||||
| nebbiolo2 | Linux (Ubuntu 24.04.1 LTS) / x86_64 | OK | OK | OK | ||||||||||
| palomino8 | Windows Server 2022 Datacenter / x64 | OK | OK | OK | OK | |||||||||
| lconway | macOS 12.7.1 Monterey / x86_64 | OK | OK | OK | OK | |||||||||
| kunpeng2 | Linux (openEuler 22.03 LTS-SP1) / aarch64 | OK | OK | OK | ||||||||||
|
To the developers/maintainers of the supraHex package: - Allow up to 24 hours (and sometimes 48 hours) for your latest push to git@git.bioconductor.org:packages/supraHex.git to reflect on this report. See Troubleshooting Build Report for more information. - Use the following Renviron settings to reproduce errors and warnings. - If 'R CMD check' started to fail recently on the Linux builder(s) over a missing dependency, add the missing dependency to 'Suggests:' in your DESCRIPTION file. See Renviron.bioc for more information. |
| Package: supraHex |
| Version: 1.43.0 |
| Command: /Library/Frameworks/R.framework/Resources/bin/R CMD check --install=check:supraHex.install-out.txt --library=/Library/Frameworks/R.framework/Resources/library --no-vignettes --timings supraHex_1.43.0.tar.gz |
| StartedAt: 2024-10-19 02:33:00 -0400 (Sat, 19 Oct 2024) |
| EndedAt: 2024-10-19 02:37:39 -0400 (Sat, 19 Oct 2024) |
| EllapsedTime: 279.1 seconds |
| RetCode: 0 |
| Status: OK |
| CheckDir: supraHex.Rcheck |
| Warnings: 0 |
##############################################################################
##############################################################################
###
### Running command:
###
### /Library/Frameworks/R.framework/Resources/bin/R CMD check --install=check:supraHex.install-out.txt --library=/Library/Frameworks/R.framework/Resources/library --no-vignettes --timings supraHex_1.43.0.tar.gz
###
##############################################################################
##############################################################################
* using log directory ‘/Users/biocbuild/bbs-3.20-bioc/meat/supraHex.Rcheck’
* using R version 4.4.1 (2024-06-14)
* using platform: x86_64-apple-darwin20
* R was compiled by
Apple clang version 14.0.0 (clang-1400.0.29.202)
GNU Fortran (GCC) 12.2.0
* running under: macOS Monterey 12.7.6
* using session charset: UTF-8
* using option ‘--no-vignettes’
* checking for file ‘supraHex/DESCRIPTION’ ... OK
* checking extension type ... Package
* this is package ‘supraHex’ version ‘1.43.0’
* checking package namespace information ... OK
* checking package dependencies ...Warning: unable to access index for repository https://CRAN.R-project.org/src/contrib:
cannot open URL 'https://CRAN.R-project.org/src/contrib/PACKAGES'
OK
* checking if this is a source package ... OK
* checking if there is a namespace ... OK
* checking for hidden files and directories ... OK
* checking for portable file names ... OK
* checking for sufficient/correct file permissions ... OK
* checking whether package ‘supraHex’ can be installed ... OK
* checking installed package size ... OK
* checking package directory ... OK
* checking ‘build’ directory ... OK
* checking DESCRIPTION meta-information ... OK
* checking top-level files ... OK
* checking for left-over files ... OK
* checking index information ... OK
* checking package subdirectories ... OK
* checking code files for non-ASCII characters ... OK
* checking R files for syntax errors ... OK
* checking whether the package can be loaded ... OK
* checking whether the package can be loaded with stated dependencies ... OK
* checking whether the package can be unloaded cleanly ... OK
* checking whether the namespace can be loaded with stated dependencies ... OK
* checking whether the namespace can be unloaded cleanly ... OK
* checking dependencies in R code ... OK
* checking S3 generic/method consistency ... OK
* checking replacement functions ... OK
* checking foreign function calls ... OK
* checking R code for possible problems ... OK
* checking Rd files ... OK
* checking Rd metadata ... OK
* checking Rd cross-references ... OK
* checking for missing documentation entries ... OK
* checking for code/documentation mismatches ... OK
* checking Rd \usage sections ... OK
* checking Rd contents ... OK
* checking for unstated dependencies in examples ... OK
* checking contents of ‘data’ directory ... OK
* checking data for non-ASCII characters ... OK
* checking data for ASCII and uncompressed saves ... OK
* checking sizes of PDF files under ‘inst/doc’ ... OK
* checking files in ‘vignettes’ ... OK
* checking examples ... OK
* checking for unstated dependencies in vignettes ... OK
* checking package vignettes ... OK
* checking running R code from vignettes ... SKIPPED
* checking re-building of vignette outputs ... SKIPPED
* checking PDF version of manual ... OK
* DONE
Status: OK
supraHex.Rcheck/00install.out
############################################################################## ############################################################################## ### ### Running command: ### ### /Library/Frameworks/R.framework/Resources/bin/R CMD INSTALL supraHex ### ############################################################################## ############################################################################## * installing to library ‘/Library/Frameworks/R.framework/Versions/4.4-x86_64/Resources/library’ * installing *source* package ‘supraHex’ ... ** using staged installation ** R ** data ** inst ** byte-compile and prepare package for lazy loading ** help *** installing help indices ** building package indices ** installing vignettes ** testing if installed package can be loaded from temporary location ** testing if installed package can be loaded from final location ** testing if installed package keeps a record of temporary installation path * DONE (supraHex)
supraHex.Rcheck/supraHex-Ex.timings
| name | user | system | elapsed | |
| sBMH | 0.045 | 0.006 | 0.051 | |
| sCompReorder | 1.766 | 0.146 | 1.913 | |
| sDistance | 0.215 | 0.008 | 0.223 | |
| sDmat | 0.243 | 0.009 | 0.254 | |
| sDmatCluster | 0.305 | 0.008 | 0.315 | |
| sDmatMinima | 0.235 | 0.004 | 0.240 | |
| sHexDist | 0.006 | 0.001 | 0.006 | |
| sHexGrid | 0.002 | 0.000 | 0.001 | |
| sHexGridVariant | 0.001 | 0.001 | 0.002 | |
| sHexPolygon | 0.066 | 0.000 | 0.067 | |
| sInitial | 0.006 | 0.000 | 0.006 | |
| sMapOverlay | 0.267 | 0.015 | 0.283 | |
| sNeighAny | 0.009 | 0.000 | 0.009 | |
| sNeighDirect | 0.007 | 0.000 | 0.008 | |
| sPipeline | 0.001 | 0.000 | 0.001 | |
| sTopology | 0.043 | 0.009 | 0.051 | |
| sTrainBatch | 0.033 | 0.002 | 0.035 | |
| sTrainSeq | 0.258 | 0.012 | 0.272 | |
| sTrainology | 0.007 | 0.000 | 0.007 | |
| sWriteData | 0.590 | 0.024 | 0.622 | |
| visColoralpha | 0.002 | 0.000 | 0.003 | |
| visColorbar | 0.015 | 0.001 | 0.016 | |
| visColormap | 0.002 | 0.000 | 0.003 | |
| visCompReorder | 2.427 | 0.309 | 2.742 | |
| visDmatCluster | 0 | 0 | 0 | |
| visDmatHeatmap | 0 | 0 | 0 | |
| visHeatmap | 0.061 | 0.002 | 0.064 | |
| visHeatmapAdv | 0.237 | 0.007 | 0.246 | |
| visHexAnimate | 0.001 | 0.000 | 0.001 | |
| visHexBarplot | 0.547 | 0.052 | 0.597 | |
| visHexComp | 0.201 | 0.007 | 0.208 | |
| visHexGrid | 0.198 | 0.004 | 0.202 | |
| visHexMapping | 1.008 | 0.080 | 1.088 | |
| visHexMulComp | 0.715 | 0.044 | 0.760 | |
| visHexPattern | 1.028 | 0.115 | 1.195 | |
| visKernels | 0.009 | 0.007 | 0.015 | |
| visTreeBSclust | 0.000 | 0.001 | 0.001 | |
| visTreeBootstrap | 0.000 | 0.001 | 0.001 | |
| visVp | 0.012 | 0.007 | 0.020 | |