| Back to Multiple platform build/check report for BioC 3.20: simplified long |
|
This page was generated on 2025-04-02 19:36 -0400 (Wed, 02 Apr 2025).
| Hostname | OS | Arch (*) | R version | Installed pkgs |
|---|---|---|---|---|
| nebbiolo2 | Linux (Ubuntu 24.04.1 LTS) | x86_64 | 4.4.3 (2025-02-28) -- "Trophy Case" | 4764 |
| palomino8 | Windows Server 2022 Datacenter | x64 | 4.4.3 (2025-02-28 ucrt) -- "Trophy Case" | 4495 |
| merida1 | macOS 12.7.5 Monterey | x86_64 | 4.4.3 (2025-02-28) -- "Trophy Case" | 4522 |
| kjohnson1 | macOS 13.6.6 Ventura | arm64 | 4.4.3 (2025-02-28) -- "Trophy Case" | 4449 |
| taishan | Linux (openEuler 24.03 LTS) | aarch64 | 4.4.3 (2025-02-28) -- "Trophy Case" | 4426 |
| Click on any hostname to see more info about the system (e.g. compilers) (*) as reported by 'uname -p', except on Windows and Mac OS X | ||||
| Package 2016/2289 | Hostname | OS / Arch | INSTALL | BUILD | CHECK | BUILD BIN | ||||||||
| spatialDE 1.12.0 (landing page) Gabriele Sales
| nebbiolo2 | Linux (Ubuntu 24.04.1 LTS) / x86_64 | OK | OK | OK | |||||||||
| palomino8 | Windows Server 2022 Datacenter / x64 | OK | OK | OK | OK | |||||||||
| merida1 | macOS 12.7.5 Monterey / x86_64 | OK | OK | OK | OK | |||||||||
| kjohnson1 | macOS 13.6.6 Ventura / arm64 | OK | OK | OK | OK | |||||||||
| taishan | Linux (openEuler 24.03 LTS) / aarch64 | OK | OK | OK | ||||||||||
|
To the developers/maintainers of the spatialDE package: - Allow up to 24 hours (and sometimes 48 hours) for your latest push to git@git.bioconductor.org:packages/spatialDE.git to reflect on this report. See Troubleshooting Build Report for more information. - Use the following Renviron settings to reproduce errors and warnings. - If 'R CMD check' started to fail recently on the Linux builder(s) over a missing dependency, add the missing dependency to 'Suggests:' in your DESCRIPTION file. See Renviron.bioc for more information. - See Martin Grigorov's blog post for how to debug Linux ARM64 related issues on a x86_64 host. |
| Package: spatialDE |
| Version: 1.12.0 |
| Command: /home/biocbuild/R/R/bin/R CMD check --install=check:spatialDE.install-out.txt --library=/home/biocbuild/R/R/site-library --no-vignettes --timings spatialDE_1.12.0.tar.gz |
| StartedAt: 2025-04-01 10:55:08 -0000 (Tue, 01 Apr 2025) |
| EndedAt: 2025-04-01 11:00:30 -0000 (Tue, 01 Apr 2025) |
| EllapsedTime: 321.4 seconds |
| RetCode: 0 |
| Status: OK |
| CheckDir: spatialDE.Rcheck |
| Warnings: 0 |
##############################################################################
##############################################################################
###
### Running command:
###
### /home/biocbuild/R/R/bin/R CMD check --install=check:spatialDE.install-out.txt --library=/home/biocbuild/R/R/site-library --no-vignettes --timings spatialDE_1.12.0.tar.gz
###
##############################################################################
##############################################################################
* using log directory ‘/home/biocbuild/bbs-3.20-bioc/meat/spatialDE.Rcheck’
* using R version 4.4.3 (2025-02-28)
* using platform: aarch64-unknown-linux-gnu
* R was compiled by
aarch64-unknown-linux-gnu-gcc (GCC) 14.2.0
GNU Fortran (GCC) 14.2.0
* running under: openEuler 24.03 (LTS)
* using session charset: UTF-8
* using option ‘--no-vignettes’
* checking for file ‘spatialDE/DESCRIPTION’ ... OK
* this is package ‘spatialDE’ version ‘1.12.0’
* package encoding: UTF-8
* checking package namespace information ... OK
* checking package dependencies ... OK
* checking if this is a source package ... OK
* checking if there is a namespace ... OK
* checking for hidden files and directories ... OK
* checking for portable file names ... OK
* checking for sufficient/correct file permissions ... OK
* checking whether package ‘spatialDE’ can be installed ... NOTE
Found the following notes/warnings:
Non-staged installation was used
See ‘/home/biocbuild/bbs-3.20-bioc/meat/spatialDE.Rcheck/00install.out’ for details.
* checking installed package size ... OK
* checking package directory ... OK
* checking ‘build’ directory ... OK
* checking DESCRIPTION meta-information ... OK
* checking top-level files ... OK
* checking for left-over files ... OK
* checking index information ... OK
* checking package subdirectories ... OK
* checking code files for non-ASCII characters ... OK
* checking R files for syntax errors ... OK
* checking whether the package can be loaded ... OK
* checking whether the package can be loaded with stated dependencies ... OK
* checking whether the package can be unloaded cleanly ... OK
* checking whether the namespace can be loaded with stated dependencies ... OK
* checking whether the namespace can be unloaded cleanly ... OK
* checking loading without being on the library search path ... OK
* checking dependencies in R code ... OK
* checking S3 generic/method consistency ... OK
* checking replacement functions ... OK
* checking foreign function calls ... OK
* checking R code for possible problems ... OK
* checking Rd files ... OK
* checking Rd metadata ... OK
* checking Rd cross-references ... OK
* checking for missing documentation entries ... OK
* checking for code/documentation mismatches ... OK
* checking Rd \usage sections ... OK
* checking Rd contents ... OK
* checking for unstated dependencies in examples ... OK
* checking contents of ‘data’ directory ... OK
* checking data for non-ASCII characters ... OK
* checking data for ASCII and uncompressed saves ... OK
* checking line endings in shell scripts ... OK
* checking files in ‘vignettes’ ... OK
* checking examples ... OK
Examples with CPU (user + system) or elapsed time > 5s
user system elapsed
spatial_patterns 23.380 0.019 23.452
FSV_sig 5.369 0.485 7.133
* checking for unstated dependencies in ‘tests’ ... OK
* checking tests ...
Running ‘testthat.R’
OK
* checking for unstated dependencies in vignettes ... OK
* checking package vignettes ... OK
* checking running R code from vignettes ... SKIPPED
* checking re-building of vignette outputs ... SKIPPED
* checking PDF version of manual ... OK
* DONE
Status: 1 NOTE
See
‘/home/biocbuild/bbs-3.20-bioc/meat/spatialDE.Rcheck/00check.log’
for details.
spatialDE.Rcheck/00install.out
############################################################################## ############################################################################## ### ### Running command: ### ### /home/biocbuild/R/R/bin/R CMD INSTALL spatialDE ### ############################################################################## ############################################################################## * installing to library ‘/home/biocbuild/R/R-4.4.3/site-library’ * installing *source* package ‘spatialDE’ ... ** using non-staged installation via StagedInstall field ** R ** data ** inst ** byte-compile and prepare package for lazy loading ** help *** installing help indices ** building package indices ** installing vignettes ** testing if installed package can be loaded * DONE (spatialDE)
spatialDE.Rcheck/tests/testthat.Rout
R version 4.4.3 (2025-02-28) -- "Trophy Case"
Copyright (C) 2025 The R Foundation for Statistical Computing
Platform: aarch64-unknown-linux-gnu
R is free software and comes with ABSOLUTELY NO WARRANTY.
You are welcome to redistribute it under certain conditions.
Type 'license()' or 'licence()' for distribution details.
R is a collaborative project with many contributors.
Type 'contributors()' for more information and
'citation()' on how to cite R or R packages in publications.
Type 'demo()' for some demos, 'help()' for on-line help, or
'help.start()' for an HTML browser interface to help.
Type 'q()' to quit R.
> library(testthat)
> library(spatialDE)
>
> test_check("spatialDE")
Loading required package: SingleCellExperiment
Loading required package: SummarizedExperiment
Loading required package: MatrixGenerics
Loading required package: matrixStats
Attaching package: 'MatrixGenerics'
The following objects are masked from 'package:matrixStats':
colAlls, colAnyNAs, colAnys, colAvgsPerRowSet, colCollapse,
colCounts, colCummaxs, colCummins, colCumprods, colCumsums,
colDiffs, colIQRDiffs, colIQRs, colLogSumExps, colMadDiffs,
colMads, colMaxs, colMeans2, colMedians, colMins, colOrderStats,
colProds, colQuantiles, colRanges, colRanks, colSdDiffs, colSds,
colSums2, colTabulates, colVarDiffs, colVars, colWeightedMads,
colWeightedMeans, colWeightedMedians, colWeightedSds,
colWeightedVars, rowAlls, rowAnyNAs, rowAnys, rowAvgsPerColSet,
rowCollapse, rowCounts, rowCummaxs, rowCummins, rowCumprods,
rowCumsums, rowDiffs, rowIQRDiffs, rowIQRs, rowLogSumExps,
rowMadDiffs, rowMads, rowMaxs, rowMeans2, rowMedians, rowMins,
rowOrderStats, rowProds, rowQuantiles, rowRanges, rowRanks,
rowSdDiffs, rowSds, rowSums2, rowTabulates, rowVarDiffs, rowVars,
rowWeightedMads, rowWeightedMeans, rowWeightedMedians,
rowWeightedSds, rowWeightedVars
Loading required package: GenomicRanges
Loading required package: stats4
Loading required package: BiocGenerics
Attaching package: 'BiocGenerics'
The following objects are masked from 'package:stats':
IQR, mad, sd, var, xtabs
The following objects are masked from 'package:base':
Filter, Find, Map, Position, Reduce, anyDuplicated, aperm, append,
as.data.frame, basename, cbind, colnames, dirname, do.call,
duplicated, eval, evalq, get, grep, grepl, intersect, is.unsorted,
lapply, mapply, match, mget, order, paste, pmax, pmax.int, pmin,
pmin.int, rank, rbind, rownames, sapply, saveRDS, setdiff, table,
tapply, union, unique, unsplit, which.max, which.min
Loading required package: S4Vectors
Attaching package: 'S4Vectors'
The following object is masked from 'package:utils':
findMatches
The following objects are masked from 'package:base':
I, expand.grid, unname
Loading required package: IRanges
Loading required package: GenomeInfoDb
Loading required package: Biobase
Welcome to Bioconductor
Vignettes contain introductory material; view with
'browseVignettes()'. To cite Bioconductor, see
'citation("Biobase")', and for packages 'citation("pkgname")'.
Attaching package: 'Biobase'
The following object is masked from 'package:MatrixGenerics':
rowMedians
The following objects are masked from 'package:matrixStats':
anyMissing, rowMedians
Models: 0%| | 0/10 [00:00<?, ?it/s]
0%| | 0/100 [00:00<?, ?it/s][A
26%|██▌ | 26/100 [00:00<00:00, 253.68it/s][A
52%|█████▏ | 52/100 [00:00<00:00, 246.19it/s][A
79%|███████▉ | 79/100 [00:00<00:00, 252.43it/s][A
[A
Models: 10%|█ | 1/10 [00:00<00:03, 2.47it/s]
0%| | 0/100 [00:00<?, ?it/s][A
22%|██▏ | 22/100 [00:00<00:00, 215.95it/s][A
44%|████▍ | 44/100 [00:00<00:00, 185.23it/s][A
63%|██████▎ | 63/100 [00:00<00:00, 183.05it/s][A
82%|████████▏ | 82/100 [00:00<00:00, 182.77it/s][A
[A
Models: 20%|██ | 2/10 [00:00<00:03, 2.06it/s]
0%| | 0/100 [00:00<?, ?it/s][A
20%|██ | 20/100 [00:00<00:00, 194.43it/s][A
40%|████ | 40/100 [00:00<00:00, 173.25it/s][A
58%|█████▊ | 58/100 [00:00<00:00, 174.06it/s][A
76%|███████▌ | 76/100 [00:00<00:00, 169.62it/s][A
94%|█████████▍| 94/100 [00:00<00:00, 166.46it/s][A
[A
Models: 30%|███ | 3/10 [00:01<00:03, 1.87it/s]
0%| | 0/100 [00:00<?, ?it/s][A
17%|█▋ | 17/100 [00:00<00:00, 167.95it/s][A
34%|███▍ | 34/100 [00:00<00:00, 159.92it/s][A
51%|█████ | 51/100 [00:00<00:00, 156.44it/s][A
67%|██████▋ | 67/100 [00:00<00:00, 155.69it/s][A
83%|████████▎ | 83/100 [00:00<00:00, 156.77it/s][A
99%|█████████▉| 99/100 [00:00<00:00, 156.52it/s][A
[A
Models: 40%|████ | 4/10 [00:02<00:03, 1.74it/s]
0%| | 0/100 [00:00<?, ?it/s][A
17%|█▋ | 17/100 [00:00<00:00, 167.23it/s][A
34%|███▍ | 34/100 [00:00<00:00, 157.39it/s][A
51%|█████ | 51/100 [00:00<00:00, 160.40it/s][A
68%|██████▊ | 68/100 [00:00<00:00, 157.80it/s][A
85%|████████▌ | 85/100 [00:00<00:00, 159.75it/s][A
[A
Models: 50%|█████ | 5/10 [00:02<00:02, 1.67it/s]
0%| | 0/100 [00:00<?, ?it/s][A
17%|█▋ | 17/100 [00:00<00:00, 169.15it/s][A
34%|███▍ | 34/100 [00:00<00:00, 160.80it/s][A
51%|█████ | 51/100 [00:00<00:00, 159.30it/s][A
68%|██████▊ | 68/100 [00:00<00:00, 162.65it/s][A
85%|████████▌ | 85/100 [00:00<00:00, 162.80it/s][A
[A
Models: 60%|██████ | 6/10 [00:03<00:02, 1.65it/s]
0%| | 0/100 [00:00<?, ?it/s][A
18%|█▊ | 18/100 [00:00<00:00, 173.22it/s][A
36%|███▌ | 36/100 [00:00<00:00, 167.57it/s][A
54%|█████▍ | 54/100 [00:00<00:00, 168.42it/s][A
71%|███████ | 71/100 [00:00<00:00, 163.21it/s][A
88%|████████▊ | 88/100 [00:00<00:00, 161.52it/s][A
[A
Models: 70%|███████ | 7/10 [00:04<00:01, 1.63it/s]
0%| | 0/100 [00:00<?, ?it/s][A
18%|█▊ | 18/100 [00:00<00:00, 168.54it/s][A
35%|███▌ | 35/100 [00:00<00:00, 161.43it/s][A
52%|█████▏ | 52/100 [00:00<00:00, 161.85it/s][A
69%|██████▉ | 69/100 [00:00<00:00, 161.87it/s][A
86%|████████▌ | 86/100 [00:00<00:00, 161.75it/s][A
[A
Models: 80%|████████ | 8/10 [00:04<00:01, 1.62it/s]
0%| | 0/100 [00:00<?, ?it/s][A
19%|█▉ | 19/100 [00:00<00:00, 184.38it/s][A
38%|███▊ | 38/100 [00:00<00:00, 172.72it/s][A
56%|█████▌ | 56/100 [00:00<00:00, 174.14it/s][A
74%|███████▍ | 74/100 [00:00<00:00, 146.68it/s][A
92%|█████████▏| 92/100 [00:00<00:00, 155.69it/s][A
[A
Models: 90%|█████████ | 9/10 [00:05<00:00, 1.61it/s]
0%| | 0/100 [00:00<?, ?it/s][A
22%|██▏ | 22/100 [00:00<00:00, 212.61it/s][A
44%|████▍ | 44/100 [00:00<00:00, 193.12it/s][A
65%|██████▌ | 65/100 [00:00<00:00, 197.74it/s][A
85%|████████▌ | 85/100 [00:00<00:00, 195.08it/s][A
[A
Models: 100%|██████████| 10/10 [00:05<00:00, 1.70it/s]
Models: 100%|██████████| 10/10 [00:05<00:00, 1.71it/s]
Models: 0%| | 0/10 [00:00<?, ?it/s]
0%| | 0/100 [00:00<?, ?it/s][A
27%|██▋ | 27/100 [00:00<00:00, 268.57it/s][A
54%|█████▍ | 54/100 [00:00<00:00, 247.19it/s][A
79%|███████▉ | 79/100 [00:00<00:00, 239.73it/s][A
[A
Models: 10%|█ | 1/10 [00:00<00:03, 2.43it/s]
0%| | 0/100 [00:00<?, ?it/s][A
22%|██▏ | 22/100 [00:00<00:00, 214.78it/s][A
44%|████▍ | 44/100 [00:00<00:00, 173.20it/s][A
62%|██████▏ | 62/100 [00:00<00:00, 169.38it/s][A
80%|████████ | 80/100 [00:00<00:00, 167.54it/s][A
97%|█████████▋| 97/100 [00:00<00:00, 163.50it/s][A
[A
Models: 20%|██ | 2/10 [00:01<00:04, 1.91it/s]
0%| | 0/100 [00:00<?, ?it/s][A
21%|██ | 21/100 [00:00<00:00, 205.95it/s][A
42%|████▏ | 42/100 [00:00<00:00, 168.86it/s][A
60%|██████ | 60/100 [00:00<00:00, 165.45it/s][A
77%|███████▋ | 77/100 [00:00<00:00, 164.81it/s][A
94%|█████████▍| 94/100 [00:00<00:00, 160.96it/s][A
[A
Models: 30%|███ | 3/10 [00:01<00:03, 1.78it/s]
0%| | 0/100 [00:00<?, ?it/s][A
20%|██ | 20/100 [00:00<00:00, 195.91it/s][A
40%|████ | 40/100 [00:00<00:00, 166.83it/s][A
57%|█████▋ | 57/100 [00:00<00:00, 163.06it/s][A
74%|███████▍ | 74/100 [00:00<00:00, 162.27it/s][A
91%|█████████ | 91/100 [00:00<00:00, 160.32it/s][A
[A
Models: 40%|████ | 4/10 [00:02<00:03, 1.72it/s]
0%| | 0/100 [00:00<?, ?it/s][A
20%|██ | 20/100 [00:00<00:00, 197.35it/s][A
40%|████ | 40/100 [00:00<00:00, 163.19it/s][A
57%|█████▋ | 57/100 [00:00<00:00, 160.00it/s][A
74%|███████▍ | 74/100 [00:00<00:00, 159.53it/s][A
91%|█████████ | 91/100 [00:00<00:00, 154.28it/s][A
[A
Models: 50%|█████ | 5/10 [00:02<00:02, 1.67it/s]
0%| | 0/100 [00:00<?, ?it/s][A
20%|██ | 20/100 [00:00<00:00, 198.74it/s][A
40%|████ | 40/100 [00:00<00:00, 169.89it/s][A
58%|█████▊ | 58/100 [00:00<00:00, 164.14it/s][A
75%|███████▌ | 75/100 [00:00<00:00, 163.12it/s][A
92%|█████████▏| 92/100 [00:00<00:00, 159.53it/s][A
[A
Models: 60%|██████ | 6/10 [00:03<00:02, 1.66it/s]
0%| | 0/100 [00:00<?, ?it/s][A
21%|██ | 21/100 [00:00<00:00, 202.06it/s][A
42%|████▏ | 42/100 [00:00<00:00, 173.47it/s][A
60%|██████ | 60/100 [00:00<00:00, 166.98it/s][A
77%|███████▋ | 77/100 [00:00<00:00, 166.73it/s][A
94%|█████████▍| 94/100 [00:00<00:00, 165.16it/s][A
[A
Models: 70%|███████ | 7/10 [00:04<00:01, 1.66it/s]
0%| | 0/100 [00:00<?, ?it/s][A
20%|██ | 20/100 [00:00<00:00, 192.00it/s][A
40%|████ | 40/100 [00:00<00:00, 169.42it/s][A
58%|█████▊ | 58/100 [00:00<00:00, 166.57it/s][A
75%|███████▌ | 75/100 [00:00<00:00, 165.35it/s][A
92%|█████████▏| 92/100 [00:00<00:00, 163.96it/s][A
[A
Models: 80%|████████ | 8/10 [00:04<00:01, 1.66it/s]
0%| | 0/100 [00:00<?, ?it/s][A
21%|██ | 21/100 [00:00<00:00, 202.29it/s][A
42%|████▏ | 42/100 [00:00<00:00, 171.92it/s][A
60%|██████ | 60/100 [00:00<00:00, 167.78it/s][A
78%|███████▊ | 78/100 [00:00<00:00, 169.05it/s][A
96%|█████████▌| 96/100 [00:00<00:00, 170.87it/s][A
[A
Models: 90%|█████████ | 9/10 [00:05<00:00, 1.68it/s]
0%| | 0/100 [00:00<?, ?it/s][A
20%|██ | 20/100 [00:00<00:00, 195.45it/s][A
40%|████ | 40/100 [00:00<00:00, 175.61it/s][A
58%|█████▊ | 58/100 [00:00<00:00, 176.15it/s][A
76%|███████▌ | 76/100 [00:00<00:00, 174.79it/s][A
95%|█████████▌| 95/100 [00:00<00:00, 177.21it/s][A
[A
Models: 100%|██████████| 10/10 [00:05<00:00, 1.70it/s]
Models: 100%|██████████| 10/10 [00:05<00:00, 1.72it/s]
/home/biocbuild/.cache/R/basilisk/1.18.0/spatialDE/1.12.0/env/lib/python3.10/site-packages/pandas/core/internals/blocks.py:351: RuntimeWarning: invalid value encountered in log
result = func(self.values, **kwargs)
Models: 0%| | 0/10 [00:00<?, ?it/s]
0%| | 0/100 [00:00<?, ?it/s][A
25%|██▌ | 25/100 [00:00<00:00, 243.74it/s][A
50%|█████ | 50/100 [00:00<00:00, 230.95it/s][A
76%|███████▌ | 76/100 [00:00<00:00, 241.25it/s][A
[A
Models: 10%|█ | 1/10 [00:00<00:03, 2.40it/s]
0%| | 0/100 [00:00<?, ?it/s][A
21%|██ | 21/100 [00:00<00:00, 201.69it/s][A
42%|████▏ | 42/100 [00:00<00:00, 187.37it/s][A
61%|██████ | 61/100 [00:00<00:00, 177.21it/s][A
80%|████████ | 80/100 [00:00<00:00, 180.57it/s][A
99%|█████████▉| 99/100 [00:00<00:00, 182.70it/s][A
[A
Models: 20%|██ | 2/10 [00:00<00:03, 2.02it/s]
0%| | 0/100 [00:00<?, ?it/s][A
21%|██ | 21/100 [00:00<00:00, 199.35it/s][A
41%|████ | 41/100 [00:00<00:00, 178.01it/s][A
59%|█████▉ | 59/100 [00:00<00:00, 170.71it/s][A
77%|███████▋ | 77/100 [00:00<00:00, 171.77it/s][A
95%|█████████▌| 95/100 [00:00<00:00, 172.71it/s][A
[A
Models: 30%|███ | 3/10 [00:01<00:03, 1.88it/s]
0%| | 0/100 [00:00<?, ?it/s][A
20%|██ | 20/100 [00:00<00:00, 192.65it/s][A
40%|████ | 40/100 [00:00<00:00, 170.93it/s][A
58%|█████▊ | 58/100 [00:00<00:00, 166.62it/s][A
76%|███████▌ | 76/100 [00:00<00:00, 168.93it/s][A
93%|█████████▎| 93/100 [00:00<00:00, 167.07it/s][A
[A
Models: 40%|████ | 4/10 [00:02<00:03, 1.80it/s]
0%| | 0/100 [00:00<?, ?it/s][A
20%|██ | 20/100 [00:00<00:00, 189.88it/s][A
39%|███▉ | 39/100 [00:00<00:00, 170.77it/s][A
57%|█████▋ | 57/100 [00:00<00:00, 165.32it/s][A
74%|███████▍ | 74/100 [00:00<00:00, 165.36it/s][A
91%|█████████ | 91/100 [00:00<00:00, 166.35it/s][A
[A
Models: 50%|█████ | 5/10 [00:02<00:02, 1.75it/s]
0%| | 0/100 [00:00<?, ?it/s][A
20%|██ | 20/100 [00:00<00:00, 187.48it/s][A
39%|███▉ | 39/100 [00:00<00:00, 168.35it/s][A
56%|█████▌ | 56/100 [00:00<00:00, 162.84it/s][A
73%|███████▎ | 73/100 [00:00<00:00, 161.56it/s][A
90%|█████████ | 90/100 [00:00<00:00, 160.07it/s][A
[A
Models: 60%|██████ | 6/10 [00:03<00:02, 1.71it/s]
0%| | 0/100 [00:00<?, ?it/s][A
20%|██ | 20/100 [00:00<00:00, 190.09it/s][A
40%|████ | 40/100 [00:00<00:00, 175.31it/s][A
58%|█████▊ | 58/100 [00:00<00:00, 168.23it/s][A
75%|███████▌ | 75/100 [00:00<00:00, 167.10it/s][A
92%|█████████▏| 92/100 [00:00<00:00, 166.92it/s][A
[A
Models: 70%|███████ | 7/10 [00:03<00:01, 1.70it/s]
0%| | 0/100 [00:00<?, ?it/s][A
20%|██ | 20/100 [00:00<00:00, 194.12it/s][A
40%|████ | 40/100 [00:00<00:00, 175.53it/s][A
58%|█████▊ | 58/100 [00:00<00:00, 169.63it/s][A
76%|███████▌ | 76/100 [00:00<00:00, 168.48it/s][A
93%|█████████▎| 93/100 [00:00<00:00, 167.33it/s][A
[A
Models: 80%|████████ | 8/10 [00:04<00:01, 1.70it/s]
0%| | 0/100 [00:00<?, ?it/s][A
21%|██ | 21/100 [00:00<00:00, 201.91it/s][A
42%|████▏ | 42/100 [00:00<00:00, 182.32it/s][A
61%|██████ | 61/100 [00:00<00:00, 173.80it/s][A
79%|███████▉ | 79/100 [00:00<00:00, 172.77it/s][A
97%|█████████▋| 97/100 [00:00<00:00, 171.96it/s][A
[A
Models: 90%|█████████ | 9/10 [00:05<00:00, 1.71it/s]
0%| | 0/100 [00:00<?, ?it/s][A
20%|██ | 20/100 [00:00<00:00, 187.21it/s][A
39%|███▉ | 39/100 [00:00<00:00, 185.44it/s][A
58%|█████▊ | 58/100 [00:00<00:00, 184.78it/s][A
77%|███████▋ | 77/100 [00:00<00:00, 186.12it/s][A
96%|█████████▌| 96/100 [00:00<00:00, 185.12it/s][A
[A
Models: 100%|██████████| 10/10 [00:05<00:00, 1.75it/s]
Models: 100%|██████████| 10/10 [00:05<00:00, 1.77it/s]
Models: 0%| | 0/10 [00:00<?, ?it/s]
0%| | 0/100 [00:00<?, ?it/s][A
27%|██▋ | 27/100 [00:00<00:00, 255.73it/s][A
53%|█████▎ | 53/100 [00:00<00:00, 248.55it/s][A
79%|███████▉ | 79/100 [00:00<00:00, 253.58it/s][A
[A
Models: 10%|█ | 1/10 [00:00<00:03, 2.54it/s]
0%| | 0/100 [00:00<?, ?it/s][A
22%|██▏ | 22/100 [00:00<00:00, 211.43it/s][A
44%|████▍ | 44/100 [00:00<00:00, 193.97it/s][A
64%|██████▍ | 64/100 [00:00<00:00, 188.11it/s][A
83%|████████▎ | 83/100 [00:00<00:00, 183.62it/s][A
[A
Models: 20%|██ | 2/10 [00:00<00:03, 2.08it/s]
0%| | 0/100 [00:00<?, ?it/s][A
21%|██ | 21/100 [00:00<00:00, 203.82it/s][A
42%|████▏ | 42/100 [00:00<00:00, 183.36it/s][A
61%|██████ | 61/100 [00:00<00:00, 172.35it/s][A
79%|███████▉ | 79/100 [00:00<00:00, 172.71it/s][A
98%|█████████▊| 98/100 [00:00<00:00, 175.44it/s][A
[A
Models: 30%|███ | 3/10 [00:01<00:03, 1.92it/s]
0%| | 0/100 [00:00<?, ?it/s][A
20%|██ | 20/100 [00:00<00:00, 194.98it/s][A
40%|████ | 40/100 [00:00<00:00, 171.56it/s][A
58%|█████▊ | 58/100 [00:00<00:00, 166.10it/s][A
76%|███████▌ | 76/100 [00:00<00:00, 167.24it/s][A
93%|█████████▎| 93/100 [00:00<00:00, 164.15it/s][A
[A
Models: 40%|████ | 4/10 [00:02<00:03, 1.81it/s]
0%| | 0/100 [00:00<?, ?it/s][A
19%|█▉ | 19/100 [00:00<00:00, 182.38it/s][A
38%|███▊ | 38/100 [00:00<00:00, 166.18it/s][A
55%|█████▌ | 55/100 [00:00<00:00, 164.95it/s][A
72%|███████▏ | 72/100 [00:00<00:00, 162.05it/s][A
89%|████████▉ | 89/100 [00:00<00:00, 159.89it/s][A
[A
Models: 50%|█████ | 5/10 [00:02<00:02, 1.74it/s]
0%| | 0/100 [00:00<?, ?it/s][A
19%|█▉ | 19/100 [00:00<00:00, 185.28it/s][A
38%|███▊ | 38/100 [00:00<00:00, 164.95it/s][A
55%|█████▌ | 55/100 [00:00<00:00, 160.94it/s][A
72%|███████▏ | 72/100 [00:00<00:00, 158.59it/s][A
88%|████████▊ | 88/100 [00:00<00:00, 157.82it/s][A
[A
Models: 60%|██████ | 6/10 [00:03<00:02, 1.69it/s]
0%| | 0/100 [00:00<?, ?it/s][A
20%|██ | 20/100 [00:00<00:00, 190.86it/s][A
40%|████ | 40/100 [00:00<00:00, 176.55it/s][A
58%|█████▊ | 58/100 [00:00<00:00, 168.06it/s][A
75%|███████▌ | 75/100 [00:00<00:00, 166.65it/s][A
92%|█████████▏| 92/100 [00:00<00:00, 164.79it/s][A
[A
Models: 70%|███████ | 7/10 [00:03<00:01, 1.68it/s]
0%| | 0/100 [00:00<?, ?it/s][A
20%|██ | 20/100 [00:00<00:00, 188.81it/s][A
39%|███▉ | 39/100 [00:00<00:00, 171.49it/s][A
57%|█████▋ | 57/100 [00:00<00:00, 165.78it/s][A
74%|███████▍ | 74/100 [00:00<00:00, 163.97it/s][A
91%|█████████ | 91/100 [00:00<00:00, 164.63it/s][A
[A
Models: 80%|████████ | 8/10 [00:04<00:01, 1.68it/s]
0%| | 0/100 [00:00<?, ?it/s][A
21%|██ | 21/100 [00:00<00:00, 202.66it/s][A
42%|████▏ | 42/100 [00:00<00:00, 182.29it/s][A
61%|██████ | 61/100 [00:00<00:00, 174.38it/s][A
79%|███████▉ | 79/100 [00:00<00:00, 173.52it/s][A
97%|█████████▋| 97/100 [00:00<00:00, 173.35it/s][A
[A
Models: 90%|█████████ | 9/10 [00:05<00:00, 1.70it/s]
0%| | 0/100 [00:00<?, ?it/s][A
20%|██ | 20/100 [00:00<00:00, 190.94it/s][A
40%|████ | 40/100 [00:00<00:00, 191.00it/s][A
60%|██████ | 60/100 [00:00<00:00, 188.51it/s][A
79%|███████▉ | 79/100 [00:00<00:00, 187.20it/s][A
98%|█████████▊| 98/100 [00:00<00:00, 187.37it/s][A
[A
Models: 100%|██████████| 10/10 [00:05<00:00, 1.75it/s]
Models: 100%|██████████| 10/10 [00:05<00:00, 1.77it/s]
Models: 0%| | 0/10 [00:00<?, ?it/s]
0%| | 0/100 [00:00<?, ?it/s][A
26%|██▌ | 26/100 [00:00<00:00, 247.43it/s][A
51%|█████ | 51/100 [00:00<00:00, 235.64it/s][A
77%|███████▋ | 77/100 [00:00<00:00, 241.72it/s][A
[A
Models: 10%|█ | 1/10 [00:00<00:03, 2.40it/s]
0%| | 0/100 [00:00<?, ?it/s][A
21%|██ | 21/100 [00:00<00:00, 208.35it/s][A
42%|████▏ | 42/100 [00:00<00:00, 187.59it/s][A
61%|██████ | 61/100 [00:00<00:00, 177.07it/s][A
80%|████████ | 80/100 [00:00<00:00, 179.21it/s][A
99%|█████████▉| 99/100 [00:00<00:00, 179.86it/s][A
[A
Models: 20%|██ | 2/10 [00:00<00:03, 2.01it/s]
0%| | 0/100 [00:00<?, ?it/s][A
20%|██ | 20/100 [00:00<00:00, 193.70it/s][A
40%|████ | 40/100 [00:00<00:00, 167.38it/s][A
57%|█████▋ | 57/100 [00:00<00:00, 163.68it/s][A
75%|███████▌ | 75/100 [00:00<00:00, 169.37it/s][A
93%|█████████▎| 93/100 [00:00<00:00, 169.97it/s][A
[A
Models: 30%|███ | 3/10 [00:01<00:03, 1.85it/s]
0%| | 0/100 [00:00<?, ?it/s][A
20%|██ | 20/100 [00:00<00:00, 192.74it/s][A
40%|████ | 40/100 [00:00<00:00, 171.62it/s][A
58%|█████▊ | 58/100 [00:00<00:00, 166.15it/s][A
76%|███████▌ | 76/100 [00:00<00:00, 169.11it/s][A
93%|█████████▎| 93/100 [00:00<00:00, 166.91it/s][A
[A
Models: 40%|████ | 4/10 [00:02<00:03, 1.78it/s]
0%| | 0/100 [00:00<?, ?it/s][A
20%|██ | 20/100 [00:00<00:00, 187.42it/s][A
39%|███▉ | 39/100 [00:00<00:00, 169.51it/s][A
57%|█████▋ | 57/100 [00:00<00:00, 165.20it/s][A
74%|███████▍ | 74/100 [00:00<00:00, 162.99it/s][A
91%|█████████ | 91/100 [00:00<00:00, 162.93it/s][A
[A
Models: 50%|█████ | 5/10 [00:02<00:02, 1.73it/s]
0%| | 0/100 [00:00<?, ?it/s][A
19%|█▉ | 19/100 [00:00<00:00, 187.58it/s][A
38%|███▊ | 38/100 [00:00<00:00, 166.46it/s][A
55%|█████▌ | 55/100 [00:00<00:00, 163.58it/s][A
72%|███████▏ | 72/100 [00:00<00:00, 161.89it/s][A
89%|████████▉ | 89/100 [00:00<00:00, 160.27it/s][A
[A
Models: 60%|██████ | 6/10 [00:03<00:02, 1.69it/s]
0%| | 0/100 [00:00<?, ?it/s][A
19%|█▉ | 19/100 [00:00<00:00, 188.34it/s][A
38%|███▊ | 38/100 [00:00<00:00, 169.64it/s][A
56%|█████▌ | 56/100 [00:00<00:00, 167.02it/s][A
73%|███████▎ | 73/100 [00:00<00:00, 167.04it/s][A
90%|█████████ | 90/100 [00:00<00:00, 165.41it/s][A
[A
Models: 70%|███████ | 7/10 [00:03<00:01, 1.68it/s]
0%| | 0/100 [00:00<?, ?it/s][A
20%|██ | 20/100 [00:00<00:00, 189.89it/s][A
39%|███▉ | 39/100 [00:00<00:00, 171.12it/s][A
57%|█████▋ | 57/100 [00:00<00:00, 164.31it/s][A
74%|███████▍ | 74/100 [00:00<00:00, 163.38it/s][A
91%|█████████ | 91/100 [00:00<00:00, 162.22it/s][A
[A
Models: 80%|████████ | 8/10 [00:04<00:01, 1.67it/s]
0%| | 0/100 [00:00<?, ?it/s][A
20%|██ | 20/100 [00:00<00:00, 198.33it/s][A
40%|████ | 40/100 [00:00<00:00, 177.32it/s][A
58%|█████▊ | 58/100 [00:00<00:00, 169.45it/s][A
76%|███████▌ | 76/100 [00:00<00:00, 170.62it/s][A
94%|█████████▍| 94/100 [00:00<00:00, 167.77it/s][A
[A
Models: 90%|█████████ | 9/10 [00:05<00:00, 1.68it/s]
0%| | 0/100 [00:00<?, ?it/s][A
20%|██ | 20/100 [00:00<00:00, 190.72it/s][A
40%|████ | 40/100 [00:00<00:00, 190.93it/s][A
60%|██████ | 60/100 [00:00<00:00, 188.14it/s][A
79%|███████▉ | 79/100 [00:00<00:00, 184.87it/s][A
98%|█████████▊| 98/100 [00:00<00:00, 184.76it/s][A
[A
Models: 100%|██████████| 10/10 [00:05<00:00, 1.73it/s]
Models: 100%|██████████| 10/10 [00:05<00:00, 1.75it/s]
[ FAIL 0 | WARN 0 | SKIP 0 | PASS 29 ]
>
> proc.time()
user system elapsed
74.396 1.578 76.018
spatialDE.Rcheck/spatialDE-Ex.timings
| name | user | system | elapsed | |
| FSV_sig | 5.369 | 0.485 | 7.133 | |
| mockSVG | 0.253 | 0.044 | 0.298 | |
| modelSearch | 2.390 | 0.028 | 2.422 | |
| model_search | 2.040 | 0.019 | 2.063 | |
| multiGenePlots | 2.302 | 0.055 | 2.362 | |
| regress_out | 0.212 | 0.012 | 0.225 | |
| run | 1.077 | 0.020 | 1.099 | |
| spatialDE | 1.188 | 0.016 | 1.206 | |
| spatialPatterns | 1.269 | 0.004 | 1.277 | |
| spatial_patterns | 23.380 | 0.019 | 23.452 | |
| stabilize | 0.104 | 0.004 | 0.108 | |