| Back to Multiple platform build/check report for BioC 3.20: simplified long |
|
This page was generated on 2025-04-02 19:34 -0400 (Wed, 02 Apr 2025).
| Hostname | OS | Arch (*) | R version | Installed pkgs |
|---|---|---|---|---|
| nebbiolo2 | Linux (Ubuntu 24.04.1 LTS) | x86_64 | 4.4.3 (2025-02-28) -- "Trophy Case" | 4764 |
| palomino8 | Windows Server 2022 Datacenter | x64 | 4.4.3 (2025-02-28 ucrt) -- "Trophy Case" | 4495 |
| merida1 | macOS 12.7.5 Monterey | x86_64 | 4.4.3 (2025-02-28) -- "Trophy Case" | 4522 |
| kjohnson1 | macOS 13.6.6 Ventura | arm64 | 4.4.3 (2025-02-28) -- "Trophy Case" | 4449 |
| taishan | Linux (openEuler 24.03 LTS) | aarch64 | 4.4.3 (2025-02-28) -- "Trophy Case" | 4426 |
| Click on any hostname to see more info about the system (e.g. compilers) (*) as reported by 'uname -p', except on Windows and Mac OS X | ||||
| Package 2016/2289 | Hostname | OS / Arch | INSTALL | BUILD | CHECK | BUILD BIN | ||||||||
| spatialDE 1.12.0 (landing page) Gabriele Sales
| nebbiolo2 | Linux (Ubuntu 24.04.1 LTS) / x86_64 | OK | OK | OK | |||||||||
| palomino8 | Windows Server 2022 Datacenter / x64 | OK | OK | OK | OK | |||||||||
| merida1 | macOS 12.7.5 Monterey / x86_64 | OK | OK | OK | OK | |||||||||
| kjohnson1 | macOS 13.6.6 Ventura / arm64 | OK | OK | OK | OK | |||||||||
| taishan | Linux (openEuler 24.03 LTS) / aarch64 | OK | OK | OK | ||||||||||
|
To the developers/maintainers of the spatialDE package: - Allow up to 24 hours (and sometimes 48 hours) for your latest push to git@git.bioconductor.org:packages/spatialDE.git to reflect on this report. See Troubleshooting Build Report for more information. - Use the following Renviron settings to reproduce errors and warnings. - If 'R CMD check' started to fail recently on the Linux builder(s) over a missing dependency, add the missing dependency to 'Suggests:' in your DESCRIPTION file. See Renviron.bioc for more information. |
| Package: spatialDE |
| Version: 1.12.0 |
| Command: /Library/Frameworks/R.framework/Resources/bin/R CMD check --install=check:spatialDE.install-out.txt --library=/Library/Frameworks/R.framework/Resources/library --no-vignettes --timings spatialDE_1.12.0.tar.gz |
| StartedAt: 2025-04-02 09:34:58 -0400 (Wed, 02 Apr 2025) |
| EndedAt: 2025-04-02 09:39:52 -0400 (Wed, 02 Apr 2025) |
| EllapsedTime: 293.7 seconds |
| RetCode: 0 |
| Status: OK |
| CheckDir: spatialDE.Rcheck |
| Warnings: 0 |
##############################################################################
##############################################################################
###
### Running command:
###
### /Library/Frameworks/R.framework/Resources/bin/R CMD check --install=check:spatialDE.install-out.txt --library=/Library/Frameworks/R.framework/Resources/library --no-vignettes --timings spatialDE_1.12.0.tar.gz
###
##############################################################################
##############################################################################
* using log directory ‘/Users/biocbuild/bbs-3.20-bioc/meat/spatialDE.Rcheck’
* using R version 4.4.3 (2025-02-28)
* using platform: aarch64-apple-darwin20
* R was compiled by
Apple clang version 14.0.0 (clang-1400.0.29.202)
GNU Fortran (GCC) 12.2.0
* running under: macOS Ventura 13.7.1
* using session charset: UTF-8
* using option ‘--no-vignettes’
* checking for file ‘spatialDE/DESCRIPTION’ ... OK
* this is package ‘spatialDE’ version ‘1.12.0’
* package encoding: UTF-8
* checking package namespace information ... OK
* checking package dependencies ... OK
* checking if this is a source package ... OK
* checking if there is a namespace ... OK
* checking for hidden files and directories ... OK
* checking for portable file names ... OK
* checking for sufficient/correct file permissions ... OK
* checking whether package ‘spatialDE’ can be installed ... NOTE
Found the following notes/warnings:
Non-staged installation was used
See ‘/Users/biocbuild/bbs-3.20-bioc/meat/spatialDE.Rcheck/00install.out’ for details.
* checking installed package size ... OK
* checking package directory ... OK
* checking ‘build’ directory ... OK
* checking DESCRIPTION meta-information ... OK
* checking top-level files ... OK
* checking for left-over files ... OK
* checking index information ... OK
* checking package subdirectories ... OK
* checking code files for non-ASCII characters ... OK
* checking R files for syntax errors ... OK
* checking whether the package can be loaded ... OK
* checking whether the package can be loaded with stated dependencies ... OK
* checking whether the package can be unloaded cleanly ... OK
* checking whether the namespace can be loaded with stated dependencies ... OK
* checking whether the namespace can be unloaded cleanly ... OK
* checking dependencies in R code ... OK
* checking S3 generic/method consistency ... OK
* checking replacement functions ... OK
* checking foreign function calls ... OK
* checking R code for possible problems ... OK
* checking Rd files ... OK
* checking Rd metadata ... OK
* checking Rd cross-references ... OK
* checking for missing documentation entries ... OK
* checking for code/documentation mismatches ... OK
* checking Rd \usage sections ... OK
* checking Rd contents ... OK
* checking for unstated dependencies in examples ... OK
* checking contents of ‘data’ directory ... OK
* checking data for non-ASCII characters ... OK
* checking data for ASCII and uncompressed saves ... OK
* checking line endings in shell scripts ... OK
* checking files in ‘vignettes’ ... OK
* checking examples ... OK
Examples with CPU (user + system) or elapsed time > 5s
user system elapsed
spatial_patterns 18.589 2.802 16.270
FSV_sig 5.258 1.494 10.892
* checking for unstated dependencies in ‘tests’ ... OK
* checking tests ...
Running ‘testthat.R’
OK
* checking for unstated dependencies in vignettes ... OK
* checking package vignettes ... OK
* checking running R code from vignettes ... SKIPPED
* checking re-building of vignette outputs ... SKIPPED
* checking PDF version of manual ... OK
* DONE
Status: 1 NOTE
See
‘/Users/biocbuild/bbs-3.20-bioc/meat/spatialDE.Rcheck/00check.log’
for details.
spatialDE.Rcheck/00install.out
############################################################################## ############################################################################## ### ### Running command: ### ### /Library/Frameworks/R.framework/Resources/bin/R CMD INSTALL spatialDE ### ############################################################################## ############################################################################## * installing to library ‘/Library/Frameworks/R.framework/Versions/4.4-arm64/Resources/library’ * installing *source* package ‘spatialDE’ ... ** using non-staged installation via StagedInstall field ** R ** data ** inst ** byte-compile and prepare package for lazy loading ** help *** installing help indices ** building package indices ** installing vignettes ** testing if installed package can be loaded * DONE (spatialDE)
spatialDE.Rcheck/tests/testthat.Rout
R version 4.4.3 (2025-02-28) -- "Trophy Case"
Copyright (C) 2025 The R Foundation for Statistical Computing
Platform: aarch64-apple-darwin20
R is free software and comes with ABSOLUTELY NO WARRANTY.
You are welcome to redistribute it under certain conditions.
Type 'license()' or 'licence()' for distribution details.
R is a collaborative project with many contributors.
Type 'contributors()' for more information and
'citation()' on how to cite R or R packages in publications.
Type 'demo()' for some demos, 'help()' for on-line help, or
'help.start()' for an HTML browser interface to help.
Type 'q()' to quit R.
> library(testthat)
> library(spatialDE)
>
> test_check("spatialDE")
Loading required package: SingleCellExperiment
Loading required package: SummarizedExperiment
Loading required package: MatrixGenerics
Loading required package: matrixStats
Attaching package: 'MatrixGenerics'
The following objects are masked from 'package:matrixStats':
colAlls, colAnyNAs, colAnys, colAvgsPerRowSet, colCollapse,
colCounts, colCummaxs, colCummins, colCumprods, colCumsums,
colDiffs, colIQRDiffs, colIQRs, colLogSumExps, colMadDiffs,
colMads, colMaxs, colMeans2, colMedians, colMins, colOrderStats,
colProds, colQuantiles, colRanges, colRanks, colSdDiffs, colSds,
colSums2, colTabulates, colVarDiffs, colVars, colWeightedMads,
colWeightedMeans, colWeightedMedians, colWeightedSds,
colWeightedVars, rowAlls, rowAnyNAs, rowAnys, rowAvgsPerColSet,
rowCollapse, rowCounts, rowCummaxs, rowCummins, rowCumprods,
rowCumsums, rowDiffs, rowIQRDiffs, rowIQRs, rowLogSumExps,
rowMadDiffs, rowMads, rowMaxs, rowMeans2, rowMedians, rowMins,
rowOrderStats, rowProds, rowQuantiles, rowRanges, rowRanks,
rowSdDiffs, rowSds, rowSums2, rowTabulates, rowVarDiffs, rowVars,
rowWeightedMads, rowWeightedMeans, rowWeightedMedians,
rowWeightedSds, rowWeightedVars
Loading required package: GenomicRanges
Loading required package: stats4
Loading required package: BiocGenerics
Attaching package: 'BiocGenerics'
The following objects are masked from 'package:stats':
IQR, mad, sd, var, xtabs
The following objects are masked from 'package:base':
Filter, Find, Map, Position, Reduce, anyDuplicated, aperm, append,
as.data.frame, basename, cbind, colnames, dirname, do.call,
duplicated, eval, evalq, get, grep, grepl, intersect, is.unsorted,
lapply, mapply, match, mget, order, paste, pmax, pmax.int, pmin,
pmin.int, rank, rbind, rownames, sapply, saveRDS, setdiff, table,
tapply, union, unique, unsplit, which.max, which.min
Loading required package: S4Vectors
Attaching package: 'S4Vectors'
The following object is masked from 'package:utils':
findMatches
The following objects are masked from 'package:base':
I, expand.grid, unname
Loading required package: IRanges
Loading required package: GenomeInfoDb
Loading required package: Biobase
Welcome to Bioconductor
Vignettes contain introductory material; view with
'browseVignettes()'. To cite Bioconductor, see
'citation("Biobase")', and for packages 'citation("pkgname")'.
Attaching package: 'Biobase'
The following object is masked from 'package:MatrixGenerics':
rowMedians
The following objects are masked from 'package:matrixStats':
anyMissing, rowMedians
Models: 0%| | 0/10 [00:00<?, ?it/s]
0%| | 0/100 [00:00<?, ?it/s][A
38%|███▊ | 38/100 [00:00<00:00, 373.53it/s][A
82%|████████▏ | 82/100 [00:00<00:00, 411.31it/s][A
[A
Models: 10%|█ | 1/10 [00:00<00:02, 3.93it/s]
0%| | 0/100 [00:00<?, ?it/s][A
35%|███▌ | 35/100 [00:00<00:00, 344.86it/s][A
70%|███████ | 70/100 [00:00<00:00, 337.02it/s][A
[A
Models: 20%|██ | 2/10 [00:00<00:02, 3.51it/s]
0%| | 0/100 [00:00<?, ?it/s][A
33%|███▎ | 33/100 [00:00<00:00, 326.08it/s][A
66%|██████▌ | 66/100 [00:00<00:00, 312.86it/s][A
[A
Models: 30%|███ | 3/10 [00:00<00:01, 3.55it/s]
0%| | 0/100 [00:00<?, ?it/s][A
32%|███▏ | 32/100 [00:00<00:00, 316.10it/s][A
64%|██████▍ | 64/100 [00:00<00:00, 295.67it/s][A
94%|█████████▍| 94/100 [00:00<00:00, 291.19it/s][A
[A
Models: 40%|████ | 4/10 [00:01<00:01, 3.27it/s]
0%| | 0/100 [00:00<?, ?it/s][A
33%|███▎ | 33/100 [00:00<00:00, 320.29it/s][A
66%|██████▌ | 66/100 [00:00<00:00, 290.07it/s][A
96%|█████████▌| 96/100 [00:00<00:00, 286.81it/s][A
[A
Models: 50%|█████ | 5/10 [00:01<00:01, 3.11it/s]
0%| | 0/100 [00:00<?, ?it/s][A
32%|███▏ | 32/100 [00:00<00:00, 315.65it/s][A
64%|██████▍ | 64/100 [00:00<00:00, 299.92it/s][A
95%|█████████▌| 95/100 [00:00<00:00, 292.80it/s][A
[A
Models: 60%|██████ | 6/10 [00:01<00:01, 3.05it/s]
0%| | 0/100 [00:00<?, ?it/s][A
32%|███▏ | 32/100 [00:00<00:00, 313.94it/s][A
64%|██████▍ | 64/100 [00:00<00:00, 304.31it/s][A
95%|█████████▌| 95/100 [00:00<00:00, 297.19it/s][A
[A
Models: 70%|███████ | 7/10 [00:02<00:00, 3.01it/s]
0%| | 0/100 [00:00<?, ?it/s][A
33%|███▎ | 33/100 [00:00<00:00, 322.16it/s][A
66%|██████▌ | 66/100 [00:00<00:00, 309.17it/s][A
97%|█████████▋| 97/100 [00:00<00:00, 302.64it/s][A
[A
Models: 80%|████████ | 8/10 [00:02<00:00, 3.01it/s]
0%| | 0/100 [00:00<?, ?it/s][A
34%|███▍ | 34/100 [00:00<00:00, 331.94it/s][A
68%|██████▊ | 68/100 [00:00<00:00, 315.61it/s][A
100%|██████████| 100/100 [00:00<00:00, 254.40it/s][A
[A
Models: 90%|█████████ | 9/10 [00:02<00:00, 2.90it/s]
0%| | 0/100 [00:00<?, ?it/s][A
35%|███▌ | 35/100 [00:00<00:00, 338.12it/s][A
69%|██████▉ | 69/100 [00:00<00:00, 332.06it/s][A
[A
Models: 100%|██████████| 10/10 [00:03<00:00, 3.01it/s]
Models: 100%|██████████| 10/10 [00:03<00:00, 3.10it/s]
Models: 0%| | 0/10 [00:00<?, ?it/s]
0%| | 0/100 [00:00<?, ?it/s][A
46%|████▌ | 46/100 [00:00<00:00, 455.74it/s][A
92%|█████████▏| 92/100 [00:00<00:00, 446.04it/s][A
[A
Models: 10%|█ | 1/10 [00:00<00:02, 4.37it/s]
0%| | 0/100 [00:00<?, ?it/s][A
36%|███▌ | 36/100 [00:00<00:00, 350.26it/s][A
72%|███████▏ | 72/100 [00:00<00:00, 324.85it/s][A
[A
Models: 20%|██ | 2/10 [00:00<00:02, 3.61it/s]
0%| | 0/100 [00:00<?, ?it/s][A
34%|███▍ | 34/100 [00:00<00:00, 334.00it/s][A
68%|██████▊ | 68/100 [00:00<00:00, 310.31it/s][A
100%|██████████| 100/100 [00:00<00:00, 300.98it/s][A
[A
Models: 30%|███ | 3/10 [00:00<00:02, 3.31it/s]
0%| | 0/100 [00:00<?, ?it/s][A
33%|███▎ | 33/100 [00:00<00:00, 317.21it/s][A
65%|██████▌ | 65/100 [00:00<00:00, 296.43it/s][A
95%|█████████▌| 95/100 [00:00<00:00, 295.28it/s][A
[A
Models: 40%|████ | 4/10 [00:01<00:01, 3.15it/s]
0%| | 0/100 [00:00<?, ?it/s][A
33%|███▎ | 33/100 [00:00<00:00, 316.98it/s][A
65%|██████▌ | 65/100 [00:00<00:00, 294.57it/s][A
95%|█████████▌| 95/100 [00:00<00:00, 287.55it/s][A
[A
Models: 50%|█████ | 5/10 [00:01<00:01, 3.05it/s]
0%| | 0/100 [00:00<?, ?it/s][A
33%|███▎ | 33/100 [00:00<00:00, 324.71it/s][A
66%|██████▌ | 66/100 [00:00<00:00, 298.25it/s][A
96%|█████████▌| 96/100 [00:00<00:00, 289.32it/s][A
[A
Models: 60%|██████ | 6/10 [00:01<00:01, 3.00it/s]
0%| | 0/100 [00:00<?, ?it/s][A
33%|███▎ | 33/100 [00:00<00:00, 325.62it/s][A
66%|██████▌ | 66/100 [00:00<00:00, 304.78it/s][A
97%|█████████▋| 97/100 [00:00<00:00, 299.98it/s][A
[A
Models: 70%|███████ | 7/10 [00:02<00:01, 3.00it/s]
0%| | 0/100 [00:00<?, ?it/s][A
33%|███▎ | 33/100 [00:00<00:00, 320.05it/s][A
66%|██████▌ | 66/100 [00:00<00:00, 301.90it/s][A
97%|█████████▋| 97/100 [00:00<00:00, 295.66it/s][A
[A
Models: 80%|████████ | 8/10 [00:02<00:00, 2.99it/s]
0%| | 0/100 [00:00<?, ?it/s][A
33%|███▎ | 33/100 [00:00<00:00, 327.39it/s][A
66%|██████▌ | 66/100 [00:00<00:00, 309.40it/s][A
98%|█████████▊| 98/100 [00:00<00:00, 311.24it/s][A
[A
Models: 90%|█████████ | 9/10 [00:02<00:00, 3.02it/s]
0%| | 0/100 [00:00<?, ?it/s][A
34%|███▍ | 34/100 [00:00<00:00, 333.20it/s][A
68%|██████▊ | 68/100 [00:00<00:00, 320.03it/s][A
[A
Models: 100%|██████████| 10/10 [00:03<00:00, 3.07it/s]
Models: 100%|██████████| 10/10 [00:03<00:00, 3.12it/s]
/Users/biocbuild/Library/Caches/org.R-project.R/R/basilisk/1.18.0/spatialDE/1.12.0/env/lib/python3.10/site-packages/pandas/core/internals/blocks.py:351: RuntimeWarning: invalid value encountered in log
result = func(self.values, **kwargs)
Models: 0%| | 0/10 [00:00<?, ?it/s]
0%| | 0/100 [00:00<?, ?it/s][A
41%|████ | 41/100 [00:00<00:00, 408.31it/s][A
86%|████████▌ | 86/100 [00:00<00:00, 426.37it/s][A
[A
Models: 10%|█ | 1/10 [00:00<00:02, 4.20it/s]
0%| | 0/100 [00:00<?, ?it/s][A
36%|███▌ | 36/100 [00:00<00:00, 356.16it/s][A
72%|███████▏ | 72/100 [00:00<00:00, 344.54it/s][A
[A
Models: 20%|██ | 2/10 [00:00<00:02, 3.67it/s]
0%| | 0/100 [00:00<?, ?it/s][A
34%|███▍ | 34/100 [00:00<00:00, 334.90it/s][A
68%|██████▊ | 68/100 [00:00<00:00, 314.78it/s][A
100%|██████████| 100/100 [00:00<00:00, 311.48it/s][A
[A
Models: 30%|███ | 3/10 [00:00<00:02, 3.39it/s]
0%| | 0/100 [00:00<?, ?it/s][A
31%|███ | 31/100 [00:00<00:00, 309.27it/s][A
62%|██████▏ | 62/100 [00:00<00:00, 299.80it/s][A
92%|█████████▏| 92/100 [00:00<00:00, 293.25it/s][A
[A
Models: 40%|████ | 4/10 [00:01<00:01, 3.19it/s]
0%| | 0/100 [00:00<?, ?it/s][A
32%|███▏ | 32/100 [00:00<00:00, 312.19it/s][A
64%|██████▍ | 64/100 [00:00<00:00, 293.83it/s][A
95%|█████████▌| 95/100 [00:00<00:00, 297.64it/s][A
[A
Models: 50%|█████ | 5/10 [00:01<00:01, 3.10it/s]
0%| | 0/100 [00:00<?, ?it/s][A
31%|███ | 31/100 [00:00<00:00, 306.94it/s][A
62%|██████▏ | 62/100 [00:00<00:00, 295.84it/s][A
92%|█████████▏| 92/100 [00:00<00:00, 296.57it/s][A
[A
Models: 60%|██████ | 6/10 [00:01<00:01, 3.04it/s]
0%| | 0/100 [00:00<?, ?it/s][A
32%|███▏ | 32/100 [00:00<00:00, 318.48it/s][A
64%|██████▍ | 64/100 [00:00<00:00, 306.62it/s][A
95%|█████████▌| 95/100 [00:00<00:00, 302.82it/s][A
[A
Models: 70%|███████ | 7/10 [00:02<00:00, 3.03it/s]
0%| | 0/100 [00:00<?, ?it/s][A
33%|███▎ | 33/100 [00:00<00:00, 323.03it/s][A
66%|██████▌ | 66/100 [00:00<00:00, 304.79it/s][A
97%|█████████▋| 97/100 [00:00<00:00, 302.63it/s][A
[A
Models: 80%|████████ | 8/10 [00:02<00:00, 3.03it/s]
0%| | 0/100 [00:00<?, ?it/s][A
34%|███▍ | 34/100 [00:00<00:00, 333.26it/s][A
68%|██████▊ | 68/100 [00:00<00:00, 314.26it/s][A
100%|██████████| 100/100 [00:00<00:00, 307.56it/s][A
[A
Models: 90%|█████████ | 9/10 [00:02<00:00, 3.04it/s]
0%| | 0/100 [00:00<?, ?it/s][A
35%|███▌ | 35/100 [00:00<00:00, 333.39it/s][A
69%|██████▉ | 69/100 [00:00<00:00, 330.47it/s][A
[A
Models: 100%|██████████| 10/10 [00:03<00:00, 3.09it/s]
Models: 100%|██████████| 10/10 [00:03<00:00, 3.14it/s]
Models: 0%| | 0/10 [00:00<?, ?it/s]
0%| | 0/100 [00:00<?, ?it/s][A
43%|████▎ | 43/100 [00:00<00:00, 429.38it/s][A
90%|█████████ | 90/100 [00:00<00:00, 451.68it/s][A
[A
Models: 10%|█ | 1/10 [00:00<00:02, 4.46it/s]
0%| | 0/100 [00:00<?, ?it/s][A
36%|███▌ | 36/100 [00:00<00:00, 355.26it/s][A
72%|███████▏ | 72/100 [00:00<00:00, 341.37it/s][A
[A
Models: 20%|██ | 2/10 [00:00<00:02, 3.71it/s]
0%| | 0/100 [00:00<?, ?it/s][A
34%|███▍ | 34/100 [00:00<00:00, 327.23it/s][A
67%|██████▋ | 67/100 [00:00<00:00, 313.12it/s][A
99%|█████████▉| 99/100 [00:00<00:00, 310.07it/s][A
[A
Models: 30%|███ | 3/10 [00:00<00:02, 3.39it/s]
0%| | 0/100 [00:00<?, ?it/s][A
33%|███▎ | 33/100 [00:00<00:00, 321.28it/s][A
66%|██████▌ | 66/100 [00:00<00:00, 302.11it/s][A
97%|█████████▋| 97/100 [00:00<00:00, 296.98it/s][A
[A
Models: 40%|████ | 4/10 [00:01<00:01, 3.21it/s]
0%| | 0/100 [00:00<?, ?it/s][A
31%|███ | 31/100 [00:00<00:00, 306.72it/s][A
62%|██████▏ | 62/100 [00:00<00:00, 292.63it/s][A
92%|█████████▏| 92/100 [00:00<00:00, 291.63it/s][A
[A
Models: 50%|█████ | 5/10 [00:01<00:01, 3.09it/s]
0%| | 0/100 [00:00<?, ?it/s][A
30%|███ | 30/100 [00:00<00:00, 298.98it/s][A
60%|██████ | 60/100 [00:00<00:00, 291.60it/s][A
90%|█████████ | 90/100 [00:00<00:00, 292.68it/s][A
[A
Models: 60%|██████ | 6/10 [00:01<00:01, 3.02it/s]
0%| | 0/100 [00:00<?, ?it/s][A
32%|███▏ | 32/100 [00:00<00:00, 313.17it/s][A
64%|██████▍ | 64/100 [00:00<00:00, 310.25it/s][A
96%|█████████▌| 96/100 [00:00<00:00, 302.30it/s][A
[A
Models: 70%|███████ | 7/10 [00:02<00:00, 3.02it/s]
0%| | 0/100 [00:00<?, ?it/s][A
33%|███▎ | 33/100 [00:00<00:00, 326.23it/s][A
66%|██████▌ | 66/100 [00:00<00:00, 305.70it/s][A
97%|█████████▋| 97/100 [00:00<00:00, 301.45it/s][A
[A
Models: 80%|████████ | 8/10 [00:02<00:00, 3.02it/s]
0%| | 0/100 [00:00<?, ?it/s][A
34%|███▍ | 34/100 [00:00<00:00, 338.62it/s][A
68%|██████▊ | 68/100 [00:00<00:00, 318.24it/s][A
100%|██████████| 100/100 [00:00<00:00, 315.49it/s][A
[A
Models: 90%|█████████ | 9/10 [00:02<00:00, 3.06it/s]
0%| | 0/100 [00:00<?, ?it/s][A
35%|███▌ | 35/100 [00:00<00:00, 345.35it/s][A
70%|███████ | 70/100 [00:00<00:00, 342.30it/s][A
[A
Models: 100%|██████████| 10/10 [00:03<00:00, 3.14it/s]
Models: 100%|██████████| 10/10 [00:03<00:00, 3.17it/s]
Models: 0%| | 0/10 [00:00<?, ?it/s]
0%| | 0/100 [00:00<?, ?it/s][A
41%|████ | 41/100 [00:00<00:00, 406.23it/s][A
85%|████████▌ | 85/100 [00:00<00:00, 422.95it/s][A
[A
Models: 10%|█ | 1/10 [00:00<00:02, 4.19it/s]
0%| | 0/100 [00:00<?, ?it/s][A
36%|███▌ | 36/100 [00:00<00:00, 358.18it/s][A
72%|███████▏ | 72/100 [00:00<00:00, 342.84it/s][A
[A
Models: 20%|██ | 2/10 [00:00<00:02, 3.66it/s]
0%| | 0/100 [00:00<?, ?it/s][A
34%|███▍ | 34/100 [00:00<00:00, 335.51it/s][A
68%|██████▊ | 68/100 [00:00<00:00, 317.85it/s][A
100%|██████████| 100/100 [00:00<00:00, 312.44it/s][A
[A
Models: 30%|███ | 3/10 [00:00<00:02, 3.39it/s]
0%| | 0/100 [00:00<?, ?it/s][A
33%|███▎ | 33/100 [00:00<00:00, 321.91it/s][A
66%|██████▌ | 66/100 [00:00<00:00, 309.93it/s][A
98%|█████████▊| 98/100 [00:00<00:00, 302.19it/s][A
[A
Models: 40%|████ | 4/10 [00:01<00:01, 3.23it/s]
0%| | 0/100 [00:00<?, ?it/s][A
31%|███ | 31/100 [00:00<00:00, 307.78it/s][A
62%|██████▏ | 62/100 [00:00<00:00, 296.10it/s][A
92%|█████████▏| 92/100 [00:00<00:00, 296.90it/s][A
[A
Models: 50%|█████ | 5/10 [00:01<00:01, 3.12it/s]
0%| | 0/100 [00:00<?, ?it/s][A
32%|███▏ | 32/100 [00:00<00:00, 317.83it/s][A
64%|██████▍ | 64/100 [00:00<00:00, 292.60it/s][A
94%|█████████▍| 94/100 [00:00<00:00, 289.40it/s][A
[A
Models: 60%|██████ | 6/10 [00:01<00:01, 3.03it/s]
0%| | 0/100 [00:00<?, ?it/s][A
29%|██▉ | 29/100 [00:00<00:00, 289.90it/s][A
58%|█████▊ | 58/100 [00:00<00:00, 282.07it/s][A
87%|████████▋ | 87/100 [00:00<00:00, 278.86it/s][A
[A
Models: 70%|███████ | 7/10 [00:02<00:01, 2.96it/s]
0%| | 0/100 [00:00<?, ?it/s][A
31%|███ | 31/100 [00:00<00:00, 307.82it/s][A
62%|██████▏ | 62/100 [00:00<00:00, 297.31it/s][A
92%|█████████▏| 92/100 [00:00<00:00, 298.18it/s][A
[A
Models: 80%|████████ | 8/10 [00:02<00:00, 2.96it/s]
0%| | 0/100 [00:00<?, ?it/s][A
34%|███▍ | 34/100 [00:00<00:00, 334.37it/s][A
68%|██████▊ | 68/100 [00:00<00:00, 318.12it/s][A
100%|██████████| 100/100 [00:00<00:00, 308.60it/s][A
[A
Models: 90%|█████████ | 9/10 [00:02<00:00, 3.00it/s]
0%| | 0/100 [00:00<?, ?it/s][A
35%|███▌ | 35/100 [00:00<00:00, 342.87it/s][A
70%|███████ | 70/100 [00:00<00:00, 343.25it/s][A
[A
Models: 100%|██████████| 10/10 [00:03<00:00, 3.10it/s]
Models: 100%|██████████| 10/10 [00:03<00:00, 3.13it/s]
[ FAIL 0 | WARN 0 | SKIP 0 | PASS 29 ]
>
> proc.time()
user system elapsed
50.500 2.299 53.446
/Users/biocbuild/Library/Caches/org.R-project.R/R/basilisk/1.18.0/spatialDE/1.12.0/env/lib/python3.10/multiprocessing/resource_tracker.py:224: UserWarning: resource_tracker: There appear to be 1 leaked semaphore objects to clean up at shutdown
warnings.warn('resource_tracker: There appear to be %d '
spatialDE.Rcheck/spatialDE-Ex.timings
| name | user | system | elapsed | |
| FSV_sig | 5.258 | 1.494 | 10.892 | |
| mockSVG | 0.232 | 0.069 | 0.303 | |
| modelSearch | 1.827 | 0.273 | 1.874 | |
| model_search | 1.599 | 0.256 | 1.641 | |
| multiGenePlots | 1.805 | 0.183 | 1.890 | |
| regress_out | 0.136 | 0.005 | 0.141 | |
| run | 0.845 | 0.124 | 0.868 | |
| spatialDE | 0.920 | 0.124 | 0.939 | |
| spatialPatterns | 0.941 | 0.223 | 1.125 | |
| spatial_patterns | 18.589 | 2.802 | 16.270 | |
| stabilize | 0.064 | 0.003 | 0.068 | |