Back to Multiple platform build/check report for BioC 3.20:   simplified   long
ABCDEFGHIJKLMNOPQR[S]TUVWXYZ

This page was generated on 2025-02-06 12:05 -0500 (Thu, 06 Feb 2025).

HostnameOSArch (*)R versionInstalled pkgs
nebbiolo2Linux (Ubuntu 24.04.1 LTS)x86_644.4.2 (2024-10-31) -- "Pile of Leaves" 4753
palomino8Windows Server 2022 Datacenterx644.4.2 (2024-10-31 ucrt) -- "Pile of Leaves" 4501
merida1macOS 12.7.5 Montereyx86_644.4.2 (2024-10-31) -- "Pile of Leaves" 4524
kjohnson1macOS 13.6.6 Venturaarm644.4.2 (2024-10-31) -- "Pile of Leaves" 4476
taishanLinux (openEuler 24.03 LTS)aarch644.4.2 (2024-10-31) -- "Pile of Leaves" 4407
Click on any hostname to see more info about the system (e.g. compilers)      (*) as reported by 'uname -p', except on Windows and Mac OS X

Package 2016/2289HostnameOS / ArchINSTALLBUILDCHECKBUILD BIN
spatialDE 1.12.0  (landing page)
Gabriele Sales
Snapshot Date: 2025-02-03 13:00 -0500 (Mon, 03 Feb 2025)
git_url: https://git.bioconductor.org/packages/spatialDE
git_branch: RELEASE_3_20
git_last_commit: 8d3fc1f
git_last_commit_date: 2024-10-29 11:03:13 -0500 (Tue, 29 Oct 2024)
nebbiolo2Linux (Ubuntu 24.04.1 LTS) / x86_64  OK    OK    OK  UNNEEDED, same version is already published
palomino8Windows Server 2022 Datacenter / x64  OK    OK    OK    OK  UNNEEDED, same version is already published
merida1macOS 12.7.5 Monterey / x86_64  OK    OK    OK    NA  
kjohnson1macOS 13.6.6 Ventura / arm64  OK    OK    OK    OK  UNNEEDED, same version is already published
taishanLinux (openEuler 24.03 LTS) / aarch64  OK    OK    OK  


CHECK results for spatialDE on nebbiolo2

To the developers/maintainers of the spatialDE package:
- Allow up to 24 hours (and sometimes 48 hours) for your latest push to git@git.bioconductor.org:packages/spatialDE.git to reflect on this report. See Troubleshooting Build Report for more information.
- Use the following Renviron settings to reproduce errors and warnings.
- If 'R CMD check' started to fail recently on the Linux builder(s) over a missing dependency, add the missing dependency to 'Suggests:' in your DESCRIPTION file. See Renviron.bioc for more information.

raw results


Summary

Package: spatialDE
Version: 1.12.0
Command: /home/biocbuild/bbs-3.20-bioc/R/bin/R CMD check --install=check:spatialDE.install-out.txt --library=/home/biocbuild/bbs-3.20-bioc/R/site-library --timings spatialDE_1.12.0.tar.gz
StartedAt: 2025-02-04 02:43:12 -0500 (Tue, 04 Feb 2025)
EndedAt: 2025-02-04 02:49:59 -0500 (Tue, 04 Feb 2025)
EllapsedTime: 406.4 seconds
RetCode: 0
Status:   OK  
CheckDir: spatialDE.Rcheck
Warnings: 0

Command output

##############################################################################
##############################################################################
###
### Running command:
###
###   /home/biocbuild/bbs-3.20-bioc/R/bin/R CMD check --install=check:spatialDE.install-out.txt --library=/home/biocbuild/bbs-3.20-bioc/R/site-library --timings spatialDE_1.12.0.tar.gz
###
##############################################################################
##############################################################################


* using log directory ‘/home/biocbuild/bbs-3.20-bioc/meat/spatialDE.Rcheck’
* using R version 4.4.2 (2024-10-31)
* using platform: x86_64-pc-linux-gnu
* R was compiled by
    gcc (Ubuntu 13.2.0-23ubuntu4) 13.2.0
    GNU Fortran (Ubuntu 13.2.0-23ubuntu4) 13.2.0
* running under: Ubuntu 24.04.1 LTS
* using session charset: UTF-8
* checking for file ‘spatialDE/DESCRIPTION’ ... OK
* this is package ‘spatialDE’ version ‘1.12.0’
* package encoding: UTF-8
* checking package namespace information ... OK
* checking package dependencies ... OK
* checking if this is a source package ... OK
* checking if there is a namespace ... OK
* checking for hidden files and directories ... OK
* checking for portable file names ... OK
* checking for sufficient/correct file permissions ... OK
* checking whether package ‘spatialDE’ can be installed ... NOTE
Found the following notes/warnings:
  Non-staged installation was used
See ‘/home/biocbuild/bbs-3.20-bioc/meat/spatialDE.Rcheck/00install.out’ for details.
* checking installed package size ... OK
* checking package directory ... OK
* checking ‘build’ directory ... OK
* checking DESCRIPTION meta-information ... OK
* checking top-level files ... OK
* checking for left-over files ... OK
* checking index information ... OK
* checking package subdirectories ... OK
* checking code files for non-ASCII characters ... OK
* checking R files for syntax errors ... OK
* checking whether the package can be loaded ... OK
* checking whether the package can be loaded with stated dependencies ... OK
* checking whether the package can be unloaded cleanly ... OK
* checking whether the namespace can be loaded with stated dependencies ... OK
* checking whether the namespace can be unloaded cleanly ... OK
* checking loading without being on the library search path ... OK
* checking dependencies in R code ... OK
* checking S3 generic/method consistency ... OK
* checking replacement functions ... OK
* checking foreign function calls ... OK
* checking R code for possible problems ... OK
* checking Rd files ... OK
* checking Rd metadata ... OK
* checking Rd cross-references ... OK
* checking for missing documentation entries ... OK
* checking for code/documentation mismatches ... OK
* checking Rd \usage sections ... OK
* checking Rd contents ... OK
* checking for unstated dependencies in examples ... OK
* checking contents of ‘data’ directory ... OK
* checking data for non-ASCII characters ... OK
* checking data for ASCII and uncompressed saves ... OK
* checking line endings in shell scripts ... OK
* checking files in ‘vignettes’ ... OK
* checking examples ... OK
Examples with CPU (user + system) or elapsed time > 5s
                   user system elapsed
spatial_patterns 54.217  1.503  54.010
FSV_sig           5.126  1.034   5.802
* checking for unstated dependencies in ‘tests’ ... OK
* checking tests ...
  Running ‘testthat.R’
 OK
* checking for unstated dependencies in vignettes ... OK
* checking package vignettes ... OK
* checking re-building of vignette outputs ... OK
* checking PDF version of manual ... OK
* DONE

Status: 1 NOTE
See
  ‘/home/biocbuild/bbs-3.20-bioc/meat/spatialDE.Rcheck/00check.log’
for details.


Installation output

spatialDE.Rcheck/00install.out

##############################################################################
##############################################################################
###
### Running command:
###
###   /home/biocbuild/bbs-3.20-bioc/R/bin/R CMD INSTALL spatialDE
###
##############################################################################
##############################################################################


* installing to library ‘/home/biocbuild/bbs-3.20-bioc/R/site-library’
* installing *source* package ‘spatialDE’ ...
** using non-staged installation via StagedInstall field
** R
** data
** inst
** byte-compile and prepare package for lazy loading
** help
*** installing help indices
** building package indices
** installing vignettes
** testing if installed package can be loaded
* DONE (spatialDE)

Tests output

spatialDE.Rcheck/tests/testthat.Rout


R version 4.4.2 (2024-10-31) -- "Pile of Leaves"
Copyright (C) 2024 The R Foundation for Statistical Computing
Platform: x86_64-pc-linux-gnu

R is free software and comes with ABSOLUTELY NO WARRANTY.
You are welcome to redistribute it under certain conditions.
Type 'license()' or 'licence()' for distribution details.

R is a collaborative project with many contributors.
Type 'contributors()' for more information and
'citation()' on how to cite R or R packages in publications.

Type 'demo()' for some demos, 'help()' for on-line help, or
'help.start()' for an HTML browser interface to help.
Type 'q()' to quit R.

> library(testthat)
> library(spatialDE)
> 
> test_check("spatialDE")
Loading required package: SingleCellExperiment
Loading required package: SummarizedExperiment
Loading required package: MatrixGenerics
Loading required package: matrixStats

Attaching package: 'MatrixGenerics'

The following objects are masked from 'package:matrixStats':

    colAlls, colAnyNAs, colAnys, colAvgsPerRowSet, colCollapse,
    colCounts, colCummaxs, colCummins, colCumprods, colCumsums,
    colDiffs, colIQRDiffs, colIQRs, colLogSumExps, colMadDiffs,
    colMads, colMaxs, colMeans2, colMedians, colMins, colOrderStats,
    colProds, colQuantiles, colRanges, colRanks, colSdDiffs, colSds,
    colSums2, colTabulates, colVarDiffs, colVars, colWeightedMads,
    colWeightedMeans, colWeightedMedians, colWeightedSds,
    colWeightedVars, rowAlls, rowAnyNAs, rowAnys, rowAvgsPerColSet,
    rowCollapse, rowCounts, rowCummaxs, rowCummins, rowCumprods,
    rowCumsums, rowDiffs, rowIQRDiffs, rowIQRs, rowLogSumExps,
    rowMadDiffs, rowMads, rowMaxs, rowMeans2, rowMedians, rowMins,
    rowOrderStats, rowProds, rowQuantiles, rowRanges, rowRanks,
    rowSdDiffs, rowSds, rowSums2, rowTabulates, rowVarDiffs, rowVars,
    rowWeightedMads, rowWeightedMeans, rowWeightedMedians,
    rowWeightedSds, rowWeightedVars

Loading required package: GenomicRanges
Loading required package: stats4
Loading required package: BiocGenerics

Attaching package: 'BiocGenerics'

The following objects are masked from 'package:stats':

    IQR, mad, sd, var, xtabs

The following objects are masked from 'package:base':

    Filter, Find, Map, Position, Reduce, anyDuplicated, aperm, append,
    as.data.frame, basename, cbind, colnames, dirname, do.call,
    duplicated, eval, evalq, get, grep, grepl, intersect, is.unsorted,
    lapply, mapply, match, mget, order, paste, pmax, pmax.int, pmin,
    pmin.int, rank, rbind, rownames, sapply, saveRDS, setdiff, table,
    tapply, union, unique, unsplit, which.max, which.min

Loading required package: S4Vectors

Attaching package: 'S4Vectors'

The following object is masked from 'package:utils':

    findMatches

The following objects are masked from 'package:base':

    I, expand.grid, unname

Loading required package: IRanges
Loading required package: GenomeInfoDb
Loading required package: Biobase
Welcome to Bioconductor

    Vignettes contain introductory material; view with
    'browseVignettes()'. To cite Bioconductor, see
    'citation("Biobase")', and for packages 'citation("pkgname")'.


Attaching package: 'Biobase'

The following object is masked from 'package:MatrixGenerics':

    rowMedians

The following objects are masked from 'package:matrixStats':

    anyMissing, rowMedians


Models:   0%|          | 0/10 [00:00<?, ?it/s]

  0%|          | 0/100 [00:00<?, ?it/s]

 50%|█████     | 50/100 [00:00<00:00, 499.08it/s]

100%|██████████| 100/100 [00:00<00:00, 467.59it/s]

                                                  
Models:  10%|█         | 1/10 [00:00<00:01,  4.66it/s]

  0%|          | 0/100 [00:00<?, ?it/s]

 38%|███▊      | 38/100 [00:00<00:00, 373.23it/s]

 76%|███████▌  | 76/100 [00:00<00:00, 349.87it/s]

                                                 
Models:  20%|██        | 2/10 [00:00<00:02,  3.88it/s]

  0%|          | 0/100 [00:00<?, ?it/s]

 35%|███▌      | 35/100 [00:00<00:00, 346.40it/s]

 70%|███████   | 70/100 [00:00<00:00, 323.86it/s]

                                                 
Models:  30%|███       | 3/10 [00:00<00:01,  3.55it/s]

  0%|          | 0/100 [00:00<?, ?it/s]

 34%|███▍      | 34/100 [00:00<00:00, 332.97it/s]

 68%|██████▊   | 68/100 [00:00<00:00, 308.14it/s]

100%|██████████| 100/100 [00:00<00:00, 311.38it/s]

                                                  
Models:  40%|████      | 4/10 [00:01<00:01,  3.36it/s]

  0%|          | 0/100 [00:00<?, ?it/s]

 32%|███▏      | 32/100 [00:00<00:00, 314.07it/s]

 64%|██████▍   | 64/100 [00:00<00:00, 307.57it/s]

 95%|█████████▌| 95/100 [00:00<00:00, 308.31it/s]

                                                 
Models:  50%|█████     | 5/10 [00:01<00:01,  3.24it/s]

  0%|          | 0/100 [00:00<?, ?it/s]

 33%|███▎      | 33/100 [00:00<00:00, 322.95it/s]

 66%|██████▌   | 66/100 [00:00<00:00, 314.62it/s]

 98%|█████████▊| 98/100 [00:00<00:00, 314.95it/s]

                                                 
Models:  60%|██████    | 6/10 [00:01<00:01,  3.20it/s]

  0%|          | 0/100 [00:00<?, ?it/s]

 34%|███▍      | 34/100 [00:00<00:00, 329.00it/s]

 67%|██████▋   | 67/100 [00:00<00:00, 318.52it/s]

100%|██████████| 100/100 [00:00<00:00, 321.71it/s]

                                                  
Models:  70%|███████   | 7/10 [00:02<00:00,  3.20it/s]

  0%|          | 0/100 [00:00<?, ?it/s]

 33%|███▎      | 33/100 [00:00<00:00, 328.17it/s]

 66%|██████▌   | 66/100 [00:00<00:00, 322.54it/s]

 99%|█████████▉| 99/100 [00:00<00:00, 323.89it/s]

                                                 
Models:  80%|████████  | 8/10 [00:02<00:00,  3.20it/s]

  0%|          | 0/100 [00:00<?, ?it/s]

 35%|███▌      | 35/100 [00:00<00:00, 343.69it/s]

 70%|███████   | 70/100 [00:00<00:00, 335.19it/s]

                                                 
Models:  90%|█████████ | 9/10 [00:02<00:00,  3.09it/s]

  0%|          | 0/100 [00:00<?, ?it/s]

 38%|███▊      | 38/100 [00:00<00:00, 372.91it/s]

 76%|███████▌  | 76/100 [00:00<00:00, 358.33it/s]

                                                 
Models: 100%|██████████| 10/10 [00:03<00:00,  3.22it/s]
Models: 100%|██████████| 10/10 [00:03<00:00,  3.29it/s]

Models:   0%|          | 0/10 [00:00<?, ?it/s]

  0%|          | 0/100 [00:00<?, ?it/s]

 49%|████▉     | 49/100 [00:00<00:00, 488.31it/s]

 98%|█████████▊| 98/100 [00:00<00:00, 487.53it/s]

                                                 
Models:  10%|█         | 1/10 [00:00<00:01,  4.82it/s]

  0%|          | 0/100 [00:00<?, ?it/s]

 39%|███▉      | 39/100 [00:00<00:00, 380.60it/s]

 78%|███████▊  | 78/100 [00:00<00:00, 360.41it/s]

                                                 
Models:  20%|██        | 2/10 [00:00<00:01,  4.01it/s]

  0%|          | 0/100 [00:00<?, ?it/s]

 37%|███▋      | 37/100 [00:00<00:00, 366.56it/s]

 74%|███████▍  | 74/100 [00:00<00:00, 344.48it/s]

                                                 
Models:  30%|███       | 3/10 [00:00<00:01,  3.69it/s]

  0%|          | 0/100 [00:00<?, ?it/s]

 36%|███▌      | 36/100 [00:00<00:00, 350.41it/s]

 72%|███████▏  | 72/100 [00:00<00:00, 330.29it/s]

                                                 
Models:  40%|████      | 4/10 [00:01<00:01,  3.50it/s]

  0%|          | 0/100 [00:00<?, ?it/s]

 35%|███▌      | 35/100 [00:00<00:00, 349.92it/s]

 70%|███████   | 70/100 [00:00<00:00, 327.93it/s]

                                                 
Models:  50%|█████     | 5/10 [00:01<00:01,  3.40it/s]

  0%|          | 0/100 [00:00<?, ?it/s]

 36%|███▌      | 36/100 [00:00<00:00, 354.91it/s]

 72%|███████▏  | 72/100 [00:00<00:00, 330.39it/s]

                                                 
Models:  60%|██████    | 6/10 [00:01<00:01,  3.36it/s]

  0%|          | 0/100 [00:00<?, ?it/s]

 34%|███▍      | 34/100 [00:00<00:00, 337.17it/s]

 68%|██████▊   | 68/100 [00:00<00:00, 326.94it/s]

                                                 
Models:  70%|███████   | 7/10 [00:02<00:00,  3.32it/s]

  0%|          | 0/100 [00:00<?, ?it/s]

 36%|███▌      | 36/100 [00:00<00:00, 351.48it/s]

 72%|███████▏  | 72/100 [00:00<00:00, 335.10it/s]

                                                 
Models:  80%|████████  | 8/10 [00:02<00:00,  3.32it/s]

  0%|          | 0/100 [00:00<?, ?it/s]

 37%|███▋      | 37/100 [00:00<00:00, 359.98it/s]

 73%|███████▎  | 73/100 [00:00<00:00, 345.65it/s]

                                                 
Models:  90%|█████████ | 9/10 [00:02<00:00,  3.37it/s]

  0%|          | 0/100 [00:00<?, ?it/s]

 38%|███▊      | 38/100 [00:00<00:00, 372.14it/s]

 76%|███████▌  | 76/100 [00:00<00:00, 360.19it/s]

                                                 
Models: 100%|██████████| 10/10 [00:02<00:00,  3.43it/s]
Models: 100%|██████████| 10/10 [00:02<00:00,  3.47it/s]
/home/biocbuild/.cache/R/basilisk/1.18.0/spatialDE/1.12.0/env/lib/python3.10/site-packages/pandas/core/internals/blocks.py:351: RuntimeWarning: invalid value encountered in log
  result = func(self.values, **kwargs)

Models:   0%|          | 0/10 [00:00<?, ?it/s]

  0%|          | 0/100 [00:00<?, ?it/s]

 47%|████▋     | 47/100 [00:00<00:00, 463.06it/s]

 99%|█████████▉| 99/100 [00:00<00:00, 493.83it/s]

                                                 
Models:  10%|█         | 1/10 [00:00<00:01,  4.83it/s]

  0%|          | 0/100 [00:00<?, ?it/s]

 41%|████      | 41/100 [00:00<00:00, 401.75it/s]

 82%|████████▏ | 82/100 [00:00<00:00, 374.59it/s]

                                                 
Models:  20%|██        | 2/10 [00:00<00:01,  4.11it/s]

  0%|          | 0/100 [00:00<?, ?it/s]

 36%|███▌      | 36/100 [00:00<00:00, 359.77it/s]

 72%|███████▏  | 72/100 [00:00<00:00, 346.75it/s]

                                                 
Models:  30%|███       | 3/10 [00:00<00:01,  3.76it/s]

  0%|          | 0/100 [00:00<?, ?it/s]

 36%|███▌      | 36/100 [00:00<00:00, 349.65it/s]

 71%|███████   | 71/100 [00:00<00:00, 338.04it/s]

                                                 
Models:  40%|████      | 4/10 [00:01<00:01,  3.59it/s]

  0%|          | 0/100 [00:00<?, ?it/s]

 35%|███▌      | 35/100 [00:00<00:00, 348.53it/s]

 70%|███████   | 70/100 [00:00<00:00, 336.23it/s]

                                                 
Models:  50%|█████     | 5/10 [00:01<00:01,  3.50it/s]

  0%|          | 0/100 [00:00<?, ?it/s]

 33%|███▎      | 33/100 [00:00<00:00, 328.25it/s]

 66%|██████▌   | 66/100 [00:00<00:00, 321.12it/s]

100%|██████████| 100/100 [00:00<00:00, 324.84it/s]

                                                  
Models:  60%|██████    | 6/10 [00:01<00:01,  3.40it/s]

  0%|          | 0/100 [00:00<?, ?it/s]

 36%|███▌      | 36/100 [00:00<00:00, 351.30it/s]

 72%|███████▏  | 72/100 [00:00<00:00, 339.49it/s]

                                                 
Models:  70%|███████   | 7/10 [00:01<00:00,  3.39it/s]

  0%|          | 0/100 [00:00<?, ?it/s]

 36%|███▌      | 36/100 [00:00<00:00, 358.27it/s]

 72%|███████▏  | 72/100 [00:00<00:00, 343.72it/s]

                                                 
Models:  80%|████████  | 8/10 [00:02<00:00,  3.40it/s]

  0%|          | 0/100 [00:00<?, ?it/s]

 38%|███▊      | 38/100 [00:00<00:00, 373.39it/s]

 76%|███████▌  | 76/100 [00:00<00:00, 357.57it/s]

                                                 
Models:  90%|█████████ | 9/10 [00:02<00:00,  3.44it/s]

  0%|          | 0/100 [00:00<?, ?it/s]

 39%|███▉      | 39/100 [00:00<00:00, 385.21it/s]

 78%|███████▊  | 78/100 [00:00<00:00, 378.54it/s]

                                                 
Models: 100%|██████████| 10/10 [00:02<00:00,  3.53it/s]
Models: 100%|██████████| 10/10 [00:02<00:00,  3.55it/s]

Models:   0%|          | 0/10 [00:00<?, ?it/s]

  0%|          | 0/100 [00:00<?, ?it/s]

 49%|████▉     | 49/100 [00:00<00:00, 478.65it/s]

                                                 
Models:  10%|█         | 1/10 [00:00<00:01,  4.89it/s]

  0%|          | 0/100 [00:00<?, ?it/s]

 40%|████      | 40/100 [00:00<00:00, 397.48it/s]

 80%|████████  | 80/100 [00:00<00:00, 376.71it/s]

                                                 
Models:  20%|██        | 2/10 [00:00<00:01,  4.14it/s]

  0%|          | 0/100 [00:00<?, ?it/s]

 37%|███▋      | 37/100 [00:00<00:00, 365.33it/s]

 74%|███████▍  | 74/100 [00:00<00:00, 351.43it/s]

                                                 
Models:  30%|███       | 3/10 [00:00<00:01,  3.82it/s]

  0%|          | 0/100 [00:00<?, ?it/s]

 36%|███▌      | 36/100 [00:00<00:00, 350.13it/s]

 72%|███████▏  | 72/100 [00:00<00:00, 338.25it/s]

                                                 
Models:  40%|████      | 4/10 [00:01<00:01,  3.62it/s]

  0%|          | 0/100 [00:00<?, ?it/s]

 35%|███▌      | 35/100 [00:00<00:00, 344.66it/s]

 70%|███████   | 70/100 [00:00<00:00, 331.04it/s]

                                                 
Models:  50%|█████     | 5/10 [00:01<00:01,  3.49it/s]

  0%|          | 0/100 [00:00<?, ?it/s]

 35%|███▌      | 35/100 [00:00<00:00, 345.04it/s]

 70%|███████   | 70/100 [00:00<00:00, 331.94it/s]

                                                 
Models:  60%|██████    | 6/10 [00:01<00:01,  3.43it/s]

  0%|          | 0/100 [00:00<?, ?it/s]

 36%|███▌      | 36/100 [00:00<00:00, 354.63it/s]

 72%|███████▏  | 72/100 [00:00<00:00, 344.39it/s]

                                                 
Models:  70%|███████   | 7/10 [00:01<00:00,  3.42it/s]

  0%|          | 0/100 [00:00<?, ?it/s]

 36%|███▌      | 36/100 [00:00<00:00, 357.79it/s]

 72%|███████▏  | 72/100 [00:00<00:00, 342.64it/s]

                                                 
Models:  80%|████████  | 8/10 [00:02<00:00,  3.42it/s]

  0%|          | 0/100 [00:00<?, ?it/s]

 38%|███▊      | 38/100 [00:00<00:00, 370.35it/s]

 76%|███████▌  | 76/100 [00:00<00:00, 355.15it/s]

                                                 
Models:  90%|█████████ | 9/10 [00:02<00:00,  3.45it/s]

  0%|          | 0/100 [00:00<?, ?it/s]

 39%|███▉      | 39/100 [00:00<00:00, 382.59it/s]

 78%|███████▊  | 78/100 [00:00<00:00, 375.94it/s]

                                                 
Models: 100%|██████████| 10/10 [00:02<00:00,  3.53it/s]
Models: 100%|██████████| 10/10 [00:02<00:00,  3.57it/s]

Models:   0%|          | 0/10 [00:00<?, ?it/s]

  0%|          | 0/100 [00:00<?, ?it/s]

 48%|████▊     | 48/100 [00:00<00:00, 476.11it/s]

 99%|█████████▉| 99/100 [00:00<00:00, 495.24it/s]

                                                 
Models:  10%|█         | 1/10 [00:00<00:01,  4.86it/s]

  0%|          | 0/100 [00:00<?, ?it/s]

 40%|████      | 40/100 [00:00<00:00, 399.35it/s]

 80%|████████  | 80/100 [00:00<00:00, 381.93it/s]

                                                 
Models:  20%|██        | 2/10 [00:00<00:01,  4.16it/s]

  0%|          | 0/100 [00:00<?, ?it/s]

 37%|███▋      | 37/100 [00:00<00:00, 363.13it/s]

 74%|███████▍  | 74/100 [00:00<00:00, 352.29it/s]

                                                 
Models:  30%|███       | 3/10 [00:00<00:01,  3.83it/s]

  0%|          | 0/100 [00:00<?, ?it/s]

 36%|███▌      | 36/100 [00:00<00:00, 352.97it/s]

 72%|███████▏  | 72/100 [00:00<00:00, 340.27it/s]

                                                 
Models:  40%|████      | 4/10 [00:01<00:01,  3.63it/s]

  0%|          | 0/100 [00:00<?, ?it/s]

 35%|███▌      | 35/100 [00:00<00:00, 349.59it/s]

 70%|███████   | 70/100 [00:00<00:00, 335.91it/s]

                                                 
Models:  50%|█████     | 5/10 [00:01<00:01,  3.53it/s]

  0%|          | 0/100 [00:00<?, ?it/s]

 35%|███▌      | 35/100 [00:00<00:00, 349.89it/s]

 70%|███████   | 70/100 [00:00<00:00, 335.74it/s]

                                                 
Models:  60%|██████    | 6/10 [00:01<00:01,  3.46it/s]

  0%|          | 0/100 [00:00<?, ?it/s]

 36%|███▌      | 36/100 [00:00<00:00, 355.84it/s]

 72%|███████▏  | 72/100 [00:00<00:00, 334.99it/s]

                                                 
Models:  70%|███████   | 7/10 [00:01<00:00,  3.42it/s]

  0%|          | 0/100 [00:00<?, ?it/s]

 36%|███▌      | 36/100 [00:00<00:00, 357.95it/s]

 72%|███████▏  | 72/100 [00:00<00:00, 341.48it/s]

                                                 
Models:  80%|████████  | 8/10 [00:02<00:00,  3.42it/s]

  0%|          | 0/100 [00:00<?, ?it/s]

 37%|███▋      | 37/100 [00:00<00:00, 369.32it/s]

 74%|███████▍  | 74/100 [00:00<00:00, 355.97it/s]

                                                 
Models:  90%|█████████ | 9/10 [00:02<00:00,  3.45it/s]

  0%|          | 0/100 [00:00<?, ?it/s]

 39%|███▉      | 39/100 [00:00<00:00, 382.86it/s]

 78%|███████▊  | 78/100 [00:00<00:00, 375.22it/s]

                                                 
Models: 100%|██████████| 10/10 [00:02<00:00,  3.53it/s]
Models: 100%|██████████| 10/10 [00:02<00:00,  3.58it/s]
[ FAIL 0 | WARN 0 | SKIP 0 | PASS 29 ]
> 
> proc.time()
   user  system elapsed 
 43.077   7.059  42.999 

Example timings

spatialDE.Rcheck/spatialDE-Ex.timings

nameusersystemelapsed
FSV_sig5.1261.0345.802
mockSVG0.1850.0240.209
modelSearch3.2010.3483.193
model_search3.0700.4063.028
multiGenePlots2.4180.3392.443
regress_out0.1060.0020.108
run1.5090.1131.495
spatialDE1.5960.2071.574
spatialPatterns1.3880.8941.233
spatial_patterns54.217 1.50354.010
stabilize0.0490.0070.056