| Back to Multiple platform build/check report for BioC 3.20: simplified long |
|
This page was generated on 2024-11-20 12:02 -0500 (Wed, 20 Nov 2024).
| Hostname | OS | Arch (*) | R version | Installed pkgs |
|---|---|---|---|---|
| teran2 | Linux (Ubuntu 24.04.1 LTS) | x86_64 | 4.4.2 (2024-10-31) -- "Pile of Leaves" | 4481 |
| nebbiolo2 | Linux (Ubuntu 24.04.1 LTS) | x86_64 | 4.4.2 (2024-10-31) -- "Pile of Leaves" | 4479 |
| palomino8 | Windows Server 2022 Datacenter | x64 | 4.4.2 (2024-10-31 ucrt) -- "Pile of Leaves" | 4359 |
| lconway | macOS 12.7.1 Monterey | x86_64 | 4.4.1 (2024-06-14) -- "Race for Your Life" | 4539 |
| kunpeng2 | Linux (openEuler 22.03 LTS-SP1) | aarch64 | 4.4.1 (2024-06-14) -- "Race for Your Life" | 4493 |
| Click on any hostname to see more info about the system (e.g. compilers) (*) as reported by 'uname -p', except on Windows and Mac OS X | ||||
| Package 1333/2289 | Hostname | OS / Arch | INSTALL | BUILD | CHECK | BUILD BIN | ||||||||
| MsBackendRawFileReader 1.12.0 (landing page) Christian Panse
| teran2 | Linux (Ubuntu 24.04.1 LTS) / x86_64 | OK | OK | OK | |||||||||
| nebbiolo2 | Linux (Ubuntu 24.04.1 LTS) / x86_64 | OK | OK | OK | ||||||||||
| palomino8 | Windows Server 2022 Datacenter / x64 | OK | OK | OK | OK | |||||||||
| lconway | macOS 12.7.1 Monterey / x86_64 | OK | OK | OK | OK | |||||||||
| kunpeng2 | Linux (openEuler 22.03 LTS-SP1) / aarch64 | OK | OK | OK | ||||||||||
|
To the developers/maintainers of the MsBackendRawFileReader package: - Allow up to 24 hours (and sometimes 48 hours) for your latest push to git@git.bioconductor.org:packages/MsBackendRawFileReader.git to reflect on this report. See Troubleshooting Build Report for more information. - Use the following Renviron settings to reproduce errors and warnings. - If 'R CMD check' started to fail recently on the Linux builder(s) over a missing dependency, add the missing dependency to 'Suggests:' in your DESCRIPTION file. See Renviron.bioc for more information. |
| Package: MsBackendRawFileReader |
| Version: 1.12.0 |
| Command: /home/biocbuild/bbs-3.20-bioc/R/bin/R CMD check --install=check:MsBackendRawFileReader.install-out.txt --library=/home/biocbuild/bbs-3.20-bioc/R/site-library --timings MsBackendRawFileReader_1.12.0.tar.gz |
| StartedAt: 2024-11-20 06:13:34 -0500 (Wed, 20 Nov 2024) |
| EndedAt: 2024-11-20 06:18:52 -0500 (Wed, 20 Nov 2024) |
| EllapsedTime: 318.7 seconds |
| RetCode: 0 |
| Status: OK |
| CheckDir: MsBackendRawFileReader.Rcheck |
| Warnings: 0 |
##############################################################################
##############################################################################
###
### Running command:
###
### /home/biocbuild/bbs-3.20-bioc/R/bin/R CMD check --install=check:MsBackendRawFileReader.install-out.txt --library=/home/biocbuild/bbs-3.20-bioc/R/site-library --timings MsBackendRawFileReader_1.12.0.tar.gz
###
##############################################################################
##############################################################################
* using log directory ‘/media/volume/teran2_disk/biocbuild/bbs-3.20-bioc/meat/MsBackendRawFileReader.Rcheck’
* using R version 4.4.2 (2024-10-31)
* using platform: x86_64-pc-linux-gnu
* R was compiled by
gcc (Ubuntu 13.2.0-23ubuntu4) 13.2.0
GNU Fortran (Ubuntu 13.2.0-23ubuntu4) 13.2.0
* running under: Ubuntu 24.04.1 LTS
* using session charset: UTF-8
* checking for file ‘MsBackendRawFileReader/DESCRIPTION’ ... OK
* checking extension type ... Package
* this is package ‘MsBackendRawFileReader’ version ‘1.12.0’
* package encoding: UTF-8
* checking package namespace information ... OK
* checking package dependencies ... OK
* checking if this is a source package ... OK
* checking if there is a namespace ... OK
* checking for hidden files and directories ... OK
* checking for portable file names ... OK
* checking for sufficient/correct file permissions ... OK
* checking whether package ‘MsBackendRawFileReader’ can be installed ... OK
* checking installed package size ... OK
* checking package directory ... OK
* checking ‘build’ directory ... OK
* checking DESCRIPTION meta-information ... OK
* checking top-level files ... OK
* checking for left-over files ... OK
* checking index information ... OK
* checking package subdirectories ... OK
* checking code files for non-ASCII characters ... OK
* checking R files for syntax errors ... OK
* checking whether the package can be loaded ... OK
* checking whether the package can be loaded with stated dependencies ... OK
* checking whether the package can be unloaded cleanly ... OK
* checking whether the namespace can be loaded with stated dependencies ... OK
* checking whether the namespace can be unloaded cleanly ... OK
* checking loading without being on the library search path ... OK
* checking whether startup messages can be suppressed ... OK
* checking dependencies in R code ... OK
* checking S3 generic/method consistency ... OK
* checking replacement functions ... OK
* checking foreign function calls ... OK
* checking R code for possible problems ... OK
* checking Rd files ... OK
* checking Rd metadata ... OK
* checking Rd cross-references ... OK
* checking for missing documentation entries ... OK
* checking for code/documentation mismatches ... OK
* checking Rd \usage sections ... OK
* checking Rd contents ... OK
* checking for unstated dependencies in examples ... OK
* checking files in ‘vignettes’ ... OK
* checking examples ... OK
Examples with CPU (user + system) or elapsed time > 5s
user system elapsed
ioBenchmark 29.076 4.853 13.953
MsBackendRawFileReader 5.208 1.684 8.594
* checking for unstated dependencies in ‘tests’ ... OK
* checking tests ...
Running ‘testthat.R’
OK
* checking for unstated dependencies in vignettes ... OK
* checking package vignettes ... OK
* checking re-building of vignette outputs ... OK
* checking PDF version of manual ... OK
* DONE
Status: OK
MsBackendRawFileReader.Rcheck/00install.out
############################################################################## ############################################################################## ### ### Running command: ### ### /home/biocbuild/bbs-3.20-bioc/R/bin/R CMD INSTALL MsBackendRawFileReader ### ############################################################################## ############################################################################## * installing to library ‘/media/volume/teran2_disk/biocbuild/bbs-3.20-bioc/R/site-library’ * installing *source* package ‘MsBackendRawFileReader’ ... ** using staged installation ** R ** inst ** byte-compile and prepare package for lazy loading ** help *** installing help indices ** building package indices ** installing vignettes ** testing if installed package can be loaded from temporary location ** testing if installed package can be loaded from final location ** testing if installed package keeps a record of temporary installation path * DONE (MsBackendRawFileReader)
MsBackendRawFileReader.Rcheck/tests/testthat.Rout
R version 4.4.2 (2024-10-31) -- "Pile of Leaves"
Copyright (C) 2024 The R Foundation for Statistical Computing
Platform: x86_64-pc-linux-gnu
R is free software and comes with ABSOLUTELY NO WARRANTY.
You are welcome to redistribute it under certain conditions.
Type 'license()' or 'licence()' for distribution details.
R is a collaborative project with many contributors.
Type 'contributors()' for more information and
'citation()' on how to cite R or R packages in publications.
Type 'demo()' for some demos, 'help()' for on-line help, or
'help.start()' for an HTML browser interface to help.
Type 'q()' to quit R.
> library("testthat")
> library("MsBackendRawFileReader")
Loading required package: Spectra
Loading required package: S4Vectors
Loading required package: stats4
Loading required package: BiocGenerics
Attaching package: 'BiocGenerics'
The following objects are masked from 'package:stats':
IQR, mad, sd, var, xtabs
The following objects are masked from 'package:base':
Filter, Find, Map, Position, Reduce, anyDuplicated, aperm, append,
as.data.frame, basename, cbind, colnames, dirname, do.call,
duplicated, eval, evalq, get, grep, grepl, intersect, is.unsorted,
lapply, mapply, match, mget, order, paste, pmax, pmax.int, pmin,
pmin.int, rank, rbind, rownames, sapply, saveRDS, setdiff, table,
tapply, union, unique, unsplit, which.max, which.min
Attaching package: 'S4Vectors'
The following object is masked from 'package:utils':
findMatches
The following objects are masked from 'package:base':
I, expand.grid, unname
Loading required package: BiocParallel
> library("Spectra")
>
>
> sample_raw_file <- file.path(system.file(package = "rawrr"),
+ 'extdata', 'sample.raw')
>
> sample_mzXML_file <- file.path(path.package(package = 'MsBackendRawFileReader'),
+ 'extdata', 'sample.mzXML')
>
>
> sample_raw <- backendInitialize(MsBackendRawFileReader::MsBackendRawFileReader(), files = sample_raw_file)
>
>
> #sample_mzr <- backendInitialize(MsBackendMzR(), files = sample_mzXML_file)
>
>
> mgf_file <- file.path(system.file(package = "MsBackendRawFileReader"),
+ 'extdata', '3159619b11ed_4590_9594.mgf')
>
>
> rv <- lapply(1:2, function(x){
+ file.copy(from = sample_raw_file, to = tempfile(fileext='.raw'))})
>
>
> register(SnowParam(workers = 1, type = "SOCK") , default = TRUE);
> sample_raw_2 <- backendInitialize(MsBackendRawFileReader(),
+ files = file.path(tempdir(),
+ list.files(path = tempdir(), pattern = 'raw$')))
>
>
> test_check("MsBackendRawFileReader")
[ FAIL 0 | WARN 1 | SKIP 2 | PASS 21 ]
══ Skipped tests (2) ═══════════════════════════════════════════════════════════
• isFALSE(file.exists(sample_mzXML_file)) is TRUE (1):
'test_MsBackendMzR_MsBackendRawFileReader.R:1:1'
• isFALSE(require(MsBackendRawMgf)) is TRUE (1): 'test_top_n_mgf.R:1:1'
[ FAIL 0 | WARN 1 | SKIP 2 | PASS 21 ]
>
>
> be <- Spectra::backendInitialize(MsBackendRawFileReader::MsBackendRawFileReader(),
+ files = c(sample_raw_file))
>
> ## Run the MsBackend spectra variable test suite
>
> test_suite <- system.file("test_backends", "test_MsBackend",
+ package = "Spectra")
>
> #res <- test_file(paste0(test_suite, "/test_spectra_variables.R"),
> # reporter = check_reporter(), stop_on_failure = TRUE)
>
>
> ## Run the whole suite.
> res <- test_dir(test_suite, stop_on_failure = TRUE)
✔ | F W S OK | Context
⠏ | 0 | peaks_variables
⠙ | 2 | peaks_variables
⠸ | 4 | peaks_variables
✔ | 4 | peaks_variables [3.6s]
⠏ | 0 | spectra_subsetting
⠋ | 1 | spectra_subsetting
⠙ | 22 | spectra_subsetting
⠹ | 43 | spectra_subsetting
⠹ | 63 | spectra_subsetting
⠹ | 83 | spectra_subsetting
⠏ | 100 | spectra_subsetting
⠋ | 121 | spectra_subsetting
⠇ | 139 | spectra_subsetting
⠼ | 155 | spectra_subsetting
⠼ | 175 | spectra_subsetting
⠹ | 193 | spectra_subsetting
⠴ | 216 | spectra_subsetting
⠴ | 236 | spectra_subsetting
⠦ | 257 | spectra_subsetting
⠏ | 280 | spectra_subsetting
⠋ | 301 | spectra_subsetting
⠼ | 325 | spectra_subsetting
⠹ | 333 | spectra_subsetting
⠼ | 355 | spectra_subsetting
⠇ | 379 | spectra_subsetting
⠏ | 400 | spectra_subsetting
⠸ | 424 | spectra_subsetting
⠧ | 448 | spectra_subsetting
⠙ | 472 | spectra_subsetting
⠴ | 496 | spectra_subsetting
⠏ | 520 | spectra_subsetting
⠸ | 544 | spectra_subsetting
⠧ | 568 | spectra_subsetting
⠙ | 592 | spectra_subsetting
⠴ | 616 | spectra_subsetting
⠏ | 640 | spectra_subsetting
⠙ | 662 | spectra_subsetting
⠼ | 685 | spectra_subsetting
⠇ | 709 | spectra_subsetting
⠹ | 733 | spectra_subsetting
⠦ | 757 | spectra_subsetting
⠋ | 781 | spectra_subsetting
⠼ | 805 | spectra_subsetting
⠦ | 827 | spectra_subsetting
⠧ | 848 | spectra_subsetting
⠋ | 871 | spectra_subsetting
⠼ | 895 | spectra_subsetting
⠇ | 919 | spectra_subsetting
⠹ | 943 | spectra_subsetting
⠼ | 965 | spectra_subsetting
⠧ | 988 | spectra_subsetting
⠙ | 1012 | spectra_subsetting
⠴ | 1036 | spectra_subsetting
⠏ | 1060 | spectra_subsetting
⠸ | 1084 | spectra_subsetting
⠧ | 1108 | spectra_subsetting
⠙ | 1132 | spectra_subsetting
⠴ | 1156 | spectra_subsetting
⠏ | 1180 | spectra_subsetting
⠸ | 1204 | spectra_subsetting
⠧ | 1228 | spectra_subsetting
⠙ | 1252 | spectra_subsetting
⠼ | 1275 | spectra_subsetting
⠦ | 1297 | spectra_subsetting
⠋ | 1321 | spectra_subsetting
⠼ | 1345 | spectra_subsetting
⠇ | 1369 | spectra_subsetting
⠹ | 1393 | spectra_subsetting
⠦ | 1417 | spectra_subsetting
⠋ | 1441 | spectra_subsetting
⠸ | 1464 | spectra_subsetting
⠴ | 1486 | spectra_subsetting
⠏ | 1510 | spectra_subsetting
⠹ | 1533 | spectra_subsetting
⠼ | 1555 | spectra_subsetting
⠇ | 1579 | spectra_subsetting
⠹ | 1603 | spectra_subsetting
⠦ | 1627 | spectra_subsetting
⠼ | 1645 | spectra_subsetting
⠇ | 1669 | spectra_subsetting
⠸ | 1684 | spectra_subsetting
⠴ | 1706 | spectra_subsetting
⠦ | 1727 | spectra_subsetting
⠏ | 1730 | spectra_subsetting
⠹ | 1733 | spectra_subsetting
⠴ | 1736 | spectra_subsetting
⠇ | 1739 | spectra_subsetting
⠙ | 1742 | spectra_subsetting
⠼ | 1745 | spectra_subsetting
⠧ | 1748 | spectra_subsetting
⠋ | 1751 | spectra_subsetting
⠸ | 1754 | spectra_subsetting
⠦ | 1757 | spectra_subsetting
⠏ | 1760 | spectra_subsetting
⠹ | 1763 | spectra_subsetting
⠴ | 1766 | spectra_subsetting
⠏ | 1770 | spectra_subsetting
⠸ | 1774 | spectra_subsetting
⠦ | 1777 | spectra_subsetting
⠏ | 1780 | spectra_subsetting
⠹ | 1783 | spectra_subsetting
⠴ | 1786 | spectra_subsetting
⠇ | 1789 | spectra_subsetting
⠙ | 1792 | spectra_subsetting
⠼ | 1795 | spectra_subsetting
⠧ | 1798 | spectra_subsetting
⠙ | 1802 | spectra_subsetting
⠴ | 1806 | spectra_subsetting
⠇ | 1809 | spectra_subsetting
⠹ | 1813 | spectra_subsetting
⠦ | 1817 | spectra_subsetting
⠋ | 1821 | spectra_subsetting
⠸ | 1824 | spectra_subsetting
⠦ | 1827 | spectra_subsetting
⠏ | 1830 | spectra_subsetting
⠹ | 1833 | spectra_subsetting
⠴ | 1836 | spectra_subsetting
⠇ | 1839 | spectra_subsetting
⠙ | 1842 | spectra_subsetting
⠼ | 1845 | spectra_subsetting
⠇ | 1849 | spectra_subsetting
⠙ | 1852 | spectra_subsetting
⠴ | 1856 | spectra_subsetting
⠇ | 1859 | spectra_subsetting
⠙ | 1862 | spectra_subsetting
⠼ | 1865 | spectra_subsetting
⠧ | 1868 | spectra_subsetting
⠋ | 1871 | spectra_subsetting
⠸ | 1874 | spectra_subsetting
⠦ | 1877 | spectra_subsetting
⠏ | 1880 | spectra_subsetting
⠹ | 1883 | spectra_subsetting
⠦ | 1887 | spectra_subsetting
⠏ | 1890 | spectra_subsetting
⠸ | 1894 | spectra_subsetting
⠦ | 1897 | spectra_subsetting
⠏ | 1900 | spectra_subsetting
⠹ | 1903 | spectra_subsetting
⠴ | 1906 | spectra_subsetting
⠇ | 1909 | spectra_subsetting
⠙ | 1912 | spectra_subsetting
⠼ | 1915 | spectra_subsetting
⠧ | 1918 | spectra_subsetting
⠋ | 1921 | spectra_subsetting
⠸ | 1924 | spectra_subsetting
⠦ | 1927 | spectra_subsetting
⠏ | 1930 | spectra_subsetting
⠹ | 1933 | spectra_subsetting
⠴ | 1936 | spectra_subsetting
⠇ | 1939 | spectra_subsetting
⠹ | 1943 | spectra_subsetting
⠴ | 1946 | spectra_subsetting
⠇ | 1949 | spectra_subsetting
⠙ | 1952 | spectra_subsetting
⠼ | 1955 | spectra_subsetting
⠧ | 1958 | spectra_subsetting
⠋ | 1961 | spectra_subsetting
⠸ | 1964 | spectra_subsetting
⠦ | 1967 | spectra_subsetting
⠋ | 1971 | spectra_subsetting
⠸ | 1974 | spectra_subsetting
⠦ | 1977 | spectra_subsetting
⠏ | 1980 | spectra_subsetting
⠹ | 1983 | spectra_subsetting
⠴ | 1986 | spectra_subsetting
⠇ | 1989 | spectra_subsetting
⠙ | 1992 | spectra_subsetting
⠼ | 1995 | spectra_subsetting
⠧ | 1998 | spectra_subsetting
⠋ | 2001 | spectra_subsetting
⠸ | 2004 | spectra_subsetting
⠦ | 2007 | spectra_subsetting
⠏ | 2010 | spectra_subsetting
⠹ | 2013 | spectra_subsetting
⠴ | 2016 | spectra_subsetting
⠇ | 2019 | spectra_subsetting
⠙ | 2022 | spectra_subsetting
⠼ | 2025 | spectra_subsetting
⠇ | 2029 | spectra_subsetting
⠙ | 2032 | spectra_subsetting
⠴ | 2036 | spectra_subsetting
⠇ | 2039 | spectra_subsetting
⠙ | 2042 | spectra_subsetting
⠴ | 2046 | spectra_subsetting
⠇ | 2049 | spectra_subsetting
⠙ | 2052 | spectra_subsetting
⠼ | 2055 | spectra_subsetting
⠧ | 2058 | spectra_subsetting
⠋ | 2061 | spectra_subsetting
⠸ | 2064 | spectra_subsetting
⠦ | 2067 | spectra_subsetting
⠋ | 2071 | spectra_subsetting
⠸ | 2074 | spectra_subsetting
⠦ | 2077 | spectra_subsetting
⠋ | 2081 | spectra_subsetting
⠸ | 2084 | spectra_subsetting
⠦ | 2087 | spectra_subsetting
⠏ | 2090 | spectra_subsetting
⠹ | 2093 | spectra_subsetting
⠴ | 2096 | spectra_subsetting
⠇ | 2099 | spectra_subsetting
⠙ | 2102 | spectra_subsetting
⠼ | 2105 | spectra_subsetting
⠧ | 2108 | spectra_subsetting
⠋ | 2111 | spectra_subsetting
⠹ | 2113 | spectra_subsetting
⠼ | 2115 | spectra_subsetting
⠧ | 2118 | spectra_subsetting
⠋ | 2121 | spectra_subsetting
⠸ | 2124 | spectra_subsetting
⠧ | 2128 | spectra_subsetting
⠋ | 2131 | spectra_subsetting
⠼ | 2135 | spectra_subsetting
⠇ | 2139 | spectra_subsetting
⠙ | 2142 | spectra_subsetting
⠼ | 2145 | spectra_subsetting
⠧ | 2148 | spectra_subsetting
⠋ | 2151 | spectra_subsetting
⠸ | 2154 | spectra_subsetting
⠧ | 2158 | spectra_subsetting
⠋ | 2161 | spectra_subsetting
⠸ | 2164 | spectra_subsetting
⠦ | 2167 | spectra_subsetting
⠏ | 2170 | spectra_subsetting
⠙ | 2172 | spectra_subsetting
⠼ | 2175 | spectra_subsetting
⠧ | 2178 | spectra_subsetting
⠋ | 2181 | spectra_subsetting
⠸ | 2184 | spectra_subsetting
⠦ | 2187 | spectra_subsetting
⠏ | 2190 | spectra_subsetting
⠹ | 2193 | spectra_subsetting
⠴ | 2196 | spectra_subsetting
⠇ | 2199 | spectra_subsetting
⠙ | 2202 | spectra_subsetting
⠸ | 2204 | spectra_subsetting
⠦ | 2207 | spectra_subsetting
⠏ | 2210 | spectra_subsetting
⠸ | 2214 | spectra_subsetting
⠦ | 2217 | spectra_subsetting
⠋ | 2221 | spectra_subsetting
⠸ | 2224 | spectra_subsetting
⠧ | 2228 | spectra_subsetting
⠋ | 2231 | spectra_subsetting
⠼ | 2235 | spectra_subsetting
⠇ | 2239 | spectra_subsetting
⠙ | 2242 | spectra_subsetting
⠴ | 2246 | spectra_subsetting
⠇ | 2249 | spectra_subsetting
⠙ | 2252 | spectra_subsetting
⠼ | 2255 | spectra_subsetting
⠧ | 2258 | spectra_subsetting
⠋ | 2261 | spectra_subsetting
⠸ | 2264 | spectra_subsetting
⠦ | 2267 | spectra_subsetting
⠏ | 2270 | spectra_subsetting
⠹ | 2273 | spectra_subsetting
⠴ | 2276 | spectra_subsetting
⠇ | 2279 | spectra_subsetting
⠙ | 2282 | spectra_subsetting
⠴ | 2286 | spectra_subsetting
⠇ | 2289 | spectra_subsetting
⠹ | 2293 | spectra_subsetting
⠴ | 2296 | spectra_subsetting
⠇ | 2299 | spectra_subsetting
⠼ | 2305 | spectra_subsetting
⠇ | 2319 | spectra_subsetting
✔ | 2324 | spectra_subsetting [29.4s]
⠏ | 0 | spectra_variables
⠙ | 12 | spectra_variables
⠸ | 14 | spectra_variables
⠴ | 16 | spectra_variables
⠦ | 27 | spectra_variables
⠇ | 29 | spectra_variables
⠋ | 31 | spectra_variables
⠹ | 43 | spectra_variables
⠇ | 1 58 | spectra_variables
✔ | 1 62 | spectra_variables [15.8s]
══ Results ═════════════════════════════════════════════════════════════════════
Duration: 48.9 s
── Skipped tests (1) ───────────────────────────────────────────────────────────
• empty test (1): 'test_spectra_variables.R:262:1'
[ FAIL 0 | WARN 0 | SKIP 1 | PASS 2390 ]
>
> proc.time()
user system elapsed
59.755 5.951 77.415
MsBackendRawFileReader.Rcheck/MsBackendRawFileReader-Ex.timings
| name | user | system | elapsed | |
| MsBackendRawFileReader-class | 2.599 | 0.626 | 3.422 | |
| MsBackendRawFileReader | 5.208 | 1.684 | 8.594 | |
| hidden_aliases | 1.646 | 0.511 | 2.492 | |
| ioBenchmark | 29.076 | 4.853 | 13.953 | |