| Back to Multiple platform build/check report for BioC 3.20: simplified long |
|
This page was generated on 2025-04-02 19:30 -0400 (Wed, 02 Apr 2025).
| Hostname | OS | Arch (*) | R version | Installed pkgs |
|---|---|---|---|---|
| nebbiolo2 | Linux (Ubuntu 24.04.1 LTS) | x86_64 | 4.4.3 (2025-02-28) -- "Trophy Case" | 4764 |
| palomino8 | Windows Server 2022 Datacenter | x64 | 4.4.3 (2025-02-28 ucrt) -- "Trophy Case" | 4495 |
| merida1 | macOS 12.7.5 Monterey | x86_64 | 4.4.3 (2025-02-28) -- "Trophy Case" | 4522 |
| kjohnson1 | macOS 13.6.6 Ventura | arm64 | 4.4.3 (2025-02-28) -- "Trophy Case" | 4449 |
| taishan | Linux (openEuler 24.03 LTS) | aarch64 | 4.4.3 (2025-02-28) -- "Trophy Case" | 4426 |
| Click on any hostname to see more info about the system (e.g. compilers) (*) as reported by 'uname -p', except on Windows and Mac OS X | ||||
| Package 1333/2289 | Hostname | OS / Arch | INSTALL | BUILD | CHECK | BUILD BIN | ||||||||
| MsBackendRawFileReader 1.12.0 (landing page) Christian Panse
| nebbiolo2 | Linux (Ubuntu 24.04.1 LTS) / x86_64 | OK | OK | OK | |||||||||
| palomino8 | Windows Server 2022 Datacenter / x64 | OK | OK | OK | OK | |||||||||
| merida1 | macOS 12.7.5 Monterey / x86_64 | OK | OK | OK | OK | |||||||||
| kjohnson1 | macOS 13.6.6 Ventura / arm64 | OK | OK | OK | OK | |||||||||
| taishan | Linux (openEuler 24.03 LTS) / aarch64 | ERROR | ERROR | skipped | ||||||||||
|
To the developers/maintainers of the MsBackendRawFileReader package: - Allow up to 24 hours (and sometimes 48 hours) for your latest push to git@git.bioconductor.org:packages/MsBackendRawFileReader.git to reflect on this report. See Troubleshooting Build Report for more information. - Use the following Renviron settings to reproduce errors and warnings. - If 'R CMD check' started to fail recently on the Linux builder(s) over a missing dependency, add the missing dependency to 'Suggests:' in your DESCRIPTION file. See Renviron.bioc for more information. |
| Package: MsBackendRawFileReader |
| Version: 1.12.0 |
| Command: F:\biocbuild\bbs-3.20-bioc\R\bin\R.exe CMD check --no-multiarch --install=check:MsBackendRawFileReader.install-out.txt --library=F:\biocbuild\bbs-3.20-bioc\R\library --no-vignettes --timings MsBackendRawFileReader_1.12.0.tar.gz |
| StartedAt: 2025-04-01 03:45:38 -0400 (Tue, 01 Apr 2025) |
| EndedAt: 2025-04-01 03:51:46 -0400 (Tue, 01 Apr 2025) |
| EllapsedTime: 367.7 seconds |
| RetCode: 0 |
| Status: OK |
| CheckDir: MsBackendRawFileReader.Rcheck |
| Warnings: 0 |
##############################################################################
##############################################################################
###
### Running command:
###
### F:\biocbuild\bbs-3.20-bioc\R\bin\R.exe CMD check --no-multiarch --install=check:MsBackendRawFileReader.install-out.txt --library=F:\biocbuild\bbs-3.20-bioc\R\library --no-vignettes --timings MsBackendRawFileReader_1.12.0.tar.gz
###
##############################################################################
##############################################################################
* using log directory 'F:/biocbuild/bbs-3.20-bioc/meat/MsBackendRawFileReader.Rcheck'
* using R version 4.4.3 (2025-02-28 ucrt)
* using platform: x86_64-w64-mingw32
* R was compiled by
gcc.exe (GCC) 13.3.0
GNU Fortran (GCC) 13.3.0
* running under: Windows Server 2022 x64 (build 20348)
* using session charset: UTF-8
* using option '--no-vignettes'
* checking for file 'MsBackendRawFileReader/DESCRIPTION' ... OK
* checking extension type ... Package
* this is package 'MsBackendRawFileReader' version '1.12.0'
* package encoding: UTF-8
* checking package namespace information ... OK
* checking package dependencies ... OK
* checking if this is a source package ... OK
* checking if there is a namespace ... OK
* checking for hidden files and directories ... OK
* checking for portable file names ... OK
* checking whether package 'MsBackendRawFileReader' can be installed ... OK
* checking installed package size ... OK
* checking package directory ... OK
* checking 'build' directory ... OK
* checking DESCRIPTION meta-information ... OK
* checking top-level files ... OK
* checking for left-over files ... OK
* checking index information ... OK
* checking package subdirectories ... OK
* checking code files for non-ASCII characters ... OK
* checking R files for syntax errors ... OK
* checking whether the package can be loaded ... OK
* checking whether the package can be loaded with stated dependencies ... OK
* checking whether the package can be unloaded cleanly ... OK
* checking whether the namespace can be loaded with stated dependencies ... OK
* checking whether the namespace can be unloaded cleanly ... OK
* checking whether startup messages can be suppressed ... OK
* checking dependencies in R code ... OK
* checking S3 generic/method consistency ... OK
* checking replacement functions ... OK
* checking foreign function calls ... OK
* checking R code for possible problems ... OK
* checking Rd files ... OK
* checking Rd metadata ... OK
* checking Rd cross-references ... OK
* checking for missing documentation entries ... OK
* checking for code/documentation mismatches ... OK
* checking Rd \usage sections ... OK
* checking Rd contents ... OK
* checking for unstated dependencies in examples ... OK
* checking files in 'vignettes' ... OK
* checking examples ... OK
Examples with CPU (user + system) or elapsed time > 5s
user system elapsed
ioBenchmark 9.41 2.15 59.86
MsBackendRawFileReader 1.09 0.03 41.20
MsBackendRawFileReader-class 0.95 0.03 13.23
hidden_aliases 0.25 0.00 12.07
* checking for unstated dependencies in 'tests' ... OK
* checking tests ...
Running 'testthat.R'
OK
* checking for unstated dependencies in vignettes ... OK
* checking package vignettes ... OK
* checking running R code from vignettes ... SKIPPED
* checking re-building of vignette outputs ... SKIPPED
* checking PDF version of manual ... OK
* DONE
Status: OK
MsBackendRawFileReader.Rcheck/00install.out
############################################################################## ############################################################################## ### ### Running command: ### ### F:\biocbuild\bbs-3.20-bioc\R\bin\R.exe CMD INSTALL MsBackendRawFileReader ### ############################################################################## ############################################################################## * installing to library 'F:/biocbuild/bbs-3.20-bioc/R/library' * installing *source* package 'MsBackendRawFileReader' ... ** using staged installation ** R ** inst ** byte-compile and prepare package for lazy loading ** help *** installing help indices ** building package indices ** installing vignettes ** testing if installed package can be loaded from temporary location ** testing if installed package can be loaded from final location ** testing if installed package keeps a record of temporary installation path * DONE (MsBackendRawFileReader)
MsBackendRawFileReader.Rcheck/tests/testthat.Rout
R version 4.4.3 (2025-02-28 ucrt) -- "Trophy Case"
Copyright (C) 2025 The R Foundation for Statistical Computing
Platform: x86_64-w64-mingw32/x64
R is free software and comes with ABSOLUTELY NO WARRANTY.
You are welcome to redistribute it under certain conditions.
Type 'license()' or 'licence()' for distribution details.
R is a collaborative project with many contributors.
Type 'contributors()' for more information and
'citation()' on how to cite R or R packages in publications.
Type 'demo()' for some demos, 'help()' for on-line help, or
'help.start()' for an HTML browser interface to help.
Type 'q()' to quit R.
> library("testthat")
> library("MsBackendRawFileReader")
Loading required package: Spectra
Loading required package: S4Vectors
Loading required package: stats4
Loading required package: BiocGenerics
Attaching package: 'BiocGenerics'
The following objects are masked from 'package:stats':
IQR, mad, sd, var, xtabs
The following objects are masked from 'package:base':
Filter, Find, Map, Position, Reduce, anyDuplicated, aperm, append,
as.data.frame, basename, cbind, colnames, dirname, do.call,
duplicated, eval, evalq, get, grep, grepl, intersect, is.unsorted,
lapply, mapply, match, mget, order, paste, pmax, pmax.int, pmin,
pmin.int, rank, rbind, rownames, sapply, saveRDS, setdiff, table,
tapply, union, unique, unsplit, which.max, which.min
Attaching package: 'S4Vectors'
The following object is masked from 'package:utils':
findMatches
The following objects are masked from 'package:base':
I, expand.grid, unname
Loading required package: BiocParallel
> library("Spectra")
>
>
> sample_raw_file <- file.path(system.file(package = "rawrr"),
+ 'extdata', 'sample.raw')
>
> sample_mzXML_file <- file.path(path.package(package = 'MsBackendRawFileReader'),
+ 'extdata', 'sample.mzXML')
>
>
> sample_raw <- backendInitialize(MsBackendRawFileReader::MsBackendRawFileReader(), files = sample_raw_file)
>
>
> #sample_mzr <- backendInitialize(MsBackendMzR(), files = sample_mzXML_file)
>
>
> mgf_file <- file.path(system.file(package = "MsBackendRawFileReader"),
+ 'extdata', '3159619b11ed_4590_9594.mgf')
>
>
> rv <- lapply(1:2, function(x){
+ file.copy(from = sample_raw_file, to = tempfile(fileext='.raw'))})
>
>
> register(SnowParam(workers = 1, type = "SOCK") , default = TRUE);
> sample_raw_2 <- backendInitialize(MsBackendRawFileReader(),
+ files = file.path(tempdir(),
+ list.files(path = tempdir(), pattern = 'raw$')))
>
>
> test_check("MsBackendRawFileReader")
[ FAIL 0 | WARN 1 | SKIP 2 | PASS 21 ]
══ Skipped tests (2) ═══════════════════════════════════════════════════════════
• isFALSE(file.exists(sample_mzXML_file)) is TRUE (1):
'test_MsBackendMzR_MsBackendRawFileReader.R:1:1'
• isFALSE(require(MsBackendRawMgf)) is TRUE (1): 'test_top_n_mgf.R:1:1'
[ FAIL 0 | WARN 1 | SKIP 2 | PASS 21 ]
>
>
> be <- Spectra::backendInitialize(MsBackendRawFileReader::MsBackendRawFileReader(),
+ files = c(sample_raw_file))
>
> ## Run the MsBackend spectra variable test suite
>
> test_suite <- system.file("test_backends", "test_MsBackend",
+ package = "Spectra")
>
> #res <- test_file(paste0(test_suite, "/test_spectra_variables.R"),
> # reporter = check_reporter(), stop_on_failure = TRUE)
>
>
> ## Run the whole suite.
> res <- test_dir(test_suite, stop_on_failure = TRUE)
✔ | F W S OK | Context
⠏ | 0 | peaks_variables
⠙ | 2 | peaks_variables
⠸ | 4 | peaks_variables
✔ | 4 | peaks_variables [6.4s]
⠏ | 0 | spectra_subsetting
⠋ | 1 | spectra_subsetting
⠙ | 12 | spectra_subsetting
⠙ | 22 | spectra_subsetting
⠼ | 35 | spectra_subsetting
⠇ | 49 | spectra_subsetting
⠋ | 61 | spectra_subsetting
⠸ | 74 | spectra_subsetting
⠹ | 83 | spectra_subsetting
⠸ | 94 | spectra_subsetting
⠸ | 104 | spectra_subsetting
⠹ | 113 | spectra_subsetting
⠼ | 125 | spectra_subsetting
⠦ | 137 | spectra_subsetting
⠧ | 148 | spectra_subsetting
⠹ | 163 | spectra_subsetting
⠼ | 175 | spectra_subsetting
⠸ | 184 | spectra_subsetting
⠇ | 199 | spectra_subsetting
⠧ | 208 | spectra_subsetting
⠹ | 223 | spectra_subsetting
⠙ | 232 | spectra_subsetting
⠋ | 241 | spectra_subsetting
⠋ | 251 | spectra_subsetting
⠙ | 262 | spectra_subsetting
⠋ | 271 | spectra_subsetting
⠹ | 283 | spectra_subsetting
⠦ | 297 | spectra_subsetting
⠧ | 308 | spectra_subsetting
⠧ | 318 | spectra_subsetting
⠧ | 328 | spectra_subsetting
⠧ | 338 | spectra_subsetting
⠋ | 351 | spectra_subsetting
⠼ | 365 | spectra_subsetting
⠴ | 376 | spectra_subsetting
⠼ | 385 | spectra_subsetting
⠸ | 394 | spectra_subsetting
⠹ | 403 | spectra_subsetting
⠼ | 415 | spectra_subsetting
⠸ | 424 | spectra_subsetting
⠇ | 439 | spectra_subsetting
⠙ | 452 | spectra_subsetting
⠸ | 464 | spectra_subsetting
⠸ | 474 | spectra_subsetting
⠸ | 484 | spectra_subsetting
⠹ | 493 | spectra_subsetting
⠹ | 503 | spectra_subsetting
⠸ | 514 | spectra_subsetting
⠧ | 528 | spectra_subsetting
⠧ | 538 | spectra_subsetting
⠋ | 551 | spectra_subsetting
⠙ | 562 | spectra_subsetting
⠙ | 572 | spectra_subsetting
⠸ | 584 | spectra_subsetting
⠴ | 596 | spectra_subsetting
⠸ | 604 | spectra_subsetting
⠴ | 616 | spectra_subsetting
⠧ | 628 | spectra_subsetting
⠧ | 638 | spectra_subsetting
⠇ | 649 | spectra_subsetting
⠋ | 661 | spectra_subsetting
⠏ | 670 | spectra_subsetting
⠇ | 679 | spectra_subsetting
⠇ | 689 | spectra_subsetting
⠏ | 700 | spectra_subsetting
⠇ | 709 | spectra_subsetting
⠋ | 721 | spectra_subsetting
⠏ | 730 | spectra_subsetting
⠼ | 745 | spectra_subsetting
⠼ | 755 | spectra_subsetting
⠴ | 766 | spectra_subsetting
⠧ | 778 | spectra_subsetting
⠦ | 787 | spectra_subsetting
⠇ | 799 | spectra_subsetting
⠧ | 808 | spectra_subsetting
⠧ | 818 | spectra_subsetting
⠙ | 832 | spectra_subsetting
⠸ | 844 | spectra_subsetting
⠹ | 853 | spectra_subsetting
⠙ | 862 | spectra_subsetting
⠸ | 874 | spectra_subsetting
⠹ | 883 | spectra_subsetting
⠙ | 892 | spectra_subsetting
⠋ | 901 | spectra_subsetting
⠋ | 911 | spectra_subsetting
⠹ | 923 | spectra_subsetting
⠋ | 931 | spectra_subsetting
⠹ | 943 | spectra_subsetting
⠙ | 952 | spectra_subsetting
⠏ | 960 | spectra_subsetting
⠦ | 967 | spectra_subsetting
⠙ | 982 | spectra_subsetting
⠴ | 996 | spectra_subsetting
⠦ | 1007 | spectra_subsetting
⠴ | 1016 | spectra_subsetting
⠸ | 1024 | spectra_subsetting
⠹ | 1033 | spectra_subsetting
⠼ | 1045 | spectra_subsetting
⠇ | 1059 | spectra_subsetting
⠇ | 1069 | spectra_subsetting
⠧ | 1078 | spectra_subsetting
⠦ | 1087 | spectra_subsetting
⠦ | 1097 | spectra_subsetting
⠴ | 1106 | spectra_subsetting
⠦ | 1117 | spectra_subsetting
⠴ | 1126 | spectra_subsetting
⠧ | 1138 | spectra_subsetting
⠴ | 1146 | spectra_subsetting
⠼ | 1155 | spectra_subsetting
⠸ | 1164 | spectra_subsetting
⠦ | 1177 | spectra_subsetting
⠇ | 1189 | spectra_subsetting
⠧ | 1198 | spectra_subsetting
⠏ | 1210 | spectra_subsetting
⠇ | 1219 | spectra_subsetting
⠋ | 1231 | spectra_subsetting
⠹ | 1243 | spectra_subsetting
⠙ | 1252 | spectra_subsetting
⠙ | 1262 | spectra_subsetting
⠹ | 1273 | spectra_subsetting
⠼ | 1285 | spectra_subsetting
⠧ | 1298 | spectra_subsetting
⠦ | 1307 | spectra_subsetting
⠧ | 1318 | spectra_subsetting
⠦ | 1327 | spectra_subsetting
⠙ | 1342 | spectra_subsetting
⠦ | 1357 | spectra_subsetting
⠴ | 1366 | spectra_subsetting
⠼ | 1375 | spectra_subsetting
⠸ | 1384 | spectra_subsetting
⠴ | 1396 | spectra_subsetting
⠧ | 1408 | spectra_subsetting
⠙ | 1422 | spectra_subsetting
⠼ | 1435 | spectra_subsetting
⠇ | 1449 | spectra_subsetting
⠙ | 1462 | spectra_subsetting
⠸ | 1474 | spectra_subsetting
⠙ | 1492 | spectra_subsetting
⠴ | 1506 | spectra_subsetting
⠴ | 1516 | spectra_subsetting
⠴ | 1526 | spectra_subsetting
⠏ | 1540 | spectra_subsetting
⠙ | 1552 | spectra_subsetting
⠼ | 1565 | spectra_subsetting
⠴ | 1576 | spectra_subsetting
⠼ | 1585 | spectra_subsetting
⠦ | 1597 | spectra_subsetting
⠙ | 1612 | spectra_subsetting
⠦ | 1627 | spectra_subsetting
⠴ | 1636 | spectra_subsetting
⠧ | 1648 | spectra_subsetting
⠧ | 1658 | spectra_subsetting
⠇ | 1669 | spectra_subsetting
⠧ | 1678 | spectra_subsetting
⠏ | 1690 | spectra_subsetting
⠼ | 1705 | spectra_subsetting
⠼ | 1715 | spectra_subsetting
⠹ | 1723 | spectra_subsetting
⠦ | 1727 | spectra_subsetting
⠇ | 1729 | spectra_subsetting
⠙ | 1732 | spectra_subsetting
⠸ | 1734 | spectra_subsetting
⠴ | 1736 | spectra_subsetting
⠧ | 1738 | spectra_subsetting
⠏ | 1740 | spectra_subsetting
⠙ | 1742 | spectra_subsetting
⠸ | 1744 | spectra_subsetting
⠴ | 1746 | spectra_subsetting
⠇ | 1749 | spectra_subsetting
⠋ | 1751 | spectra_subsetting
⠹ | 1753 | spectra_subsetting
⠼ | 1755 | spectra_subsetting
⠦ | 1757 | spectra_subsetting
⠇ | 1759 | spectra_subsetting
⠋ | 1761 | spectra_subsetting
⠹ | 1763 | spectra_subsetting
⠼ | 1765 | spectra_subsetting
⠦ | 1767 | spectra_subsetting
⠇ | 1769 | spectra_subsetting
⠋ | 1771 | spectra_subsetting
⠹ | 1773 | spectra_subsetting
⠼ | 1775 | spectra_subsetting
⠦ | 1777 | spectra_subsetting
⠇ | 1779 | spectra_subsetting
⠋ | 1781 | spectra_subsetting
⠹ | 1783 | spectra_subsetting
⠼ | 1785 | spectra_subsetting
⠦ | 1787 | spectra_subsetting
⠇ | 1789 | spectra_subsetting
⠋ | 1791 | spectra_subsetting
⠹ | 1793 | spectra_subsetting
⠼ | 1795 | spectra_subsetting
⠦ | 1797 | spectra_subsetting
⠇ | 1799 | spectra_subsetting
⠋ | 1801 | spectra_subsetting
⠹ | 1803 | spectra_subsetting
⠼ | 1805 | spectra_subsetting
⠦ | 1807 | spectra_subsetting
⠇ | 1809 | spectra_subsetting
⠋ | 1811 | spectra_subsetting
⠹ | 1813 | spectra_subsetting
⠼ | 1815 | spectra_subsetting
⠦ | 1817 | spectra_subsetting
⠇ | 1819 | spectra_subsetting
⠋ | 1821 | spectra_subsetting
⠹ | 1823 | spectra_subsetting
⠼ | 1825 | spectra_subsetting
⠦ | 1827 | spectra_subsetting
⠇ | 1829 | spectra_subsetting
⠋ | 1831 | spectra_subsetting
⠹ | 1833 | spectra_subsetting
⠴ | 1836 | spectra_subsetting
⠧ | 1838 | spectra_subsetting
⠏ | 1840 | spectra_subsetting
⠙ | 1842 | spectra_subsetting
⠸ | 1844 | spectra_subsetting
⠴ | 1846 | spectra_subsetting
⠧ | 1848 | spectra_subsetting
⠏ | 1850 | spectra_subsetting
⠹ | 1853 | spectra_subsetting
⠼ | 1855 | spectra_subsetting
⠦ | 1857 | spectra_subsetting
⠏ | 1860 | spectra_subsetting
⠙ | 1862 | spectra_subsetting
⠸ | 1864 | spectra_subsetting
⠴ | 1866 | spectra_subsetting
⠧ | 1868 | spectra_subsetting
⠏ | 1870 | spectra_subsetting
⠙ | 1872 | spectra_subsetting
⠸ | 1874 | spectra_subsetting
⠦ | 1877 | spectra_subsetting
⠇ | 1879 | spectra_subsetting
⠋ | 1881 | spectra_subsetting
⠹ | 1883 | spectra_subsetting
⠼ | 1885 | spectra_subsetting
⠦ | 1887 | spectra_subsetting
⠇ | 1889 | spectra_subsetting
⠋ | 1891 | spectra_subsetting
⠹ | 1893 | spectra_subsetting
⠼ | 1895 | spectra_subsetting
⠦ | 1897 | spectra_subsetting
⠇ | 1899 | spectra_subsetting
⠋ | 1901 | spectra_subsetting
⠹ | 1903 | spectra_subsetting
⠼ | 1905 | spectra_subsetting
⠦ | 1907 | spectra_subsetting
⠧ | 1908 | spectra_subsetting
⠏ | 1910 | spectra_subsetting
⠙ | 1912 | spectra_subsetting
⠸ | 1914 | spectra_subsetting
⠴ | 1916 | spectra_subsetting
⠧ | 1918 | spectra_subsetting
⠏ | 1920 | spectra_subsetting
⠙ | 1922 | spectra_subsetting
⠸ | 1924 | spectra_subsetting
⠴ | 1926 | spectra_subsetting
⠧ | 1928 | spectra_subsetting
⠏ | 1930 | spectra_subsetting
⠙ | 1932 | spectra_subsetting
⠸ | 1934 | spectra_subsetting
⠴ | 1936 | spectra_subsetting
⠧ | 1938 | spectra_subsetting
⠏ | 1940 | spectra_subsetting
⠙ | 1942 | spectra_subsetting
⠸ | 1944 | spectra_subsetting
⠴ | 1946 | spectra_subsetting
⠧ | 1948 | spectra_subsetting
⠏ | 1950 | spectra_subsetting
⠙ | 1952 | spectra_subsetting
⠸ | 1954 | spectra_subsetting
⠴ | 1956 | spectra_subsetting
⠧ | 1958 | spectra_subsetting
⠏ | 1960 | spectra_subsetting
⠙ | 1962 | spectra_subsetting
⠸ | 1964 | spectra_subsetting
⠴ | 1966 | spectra_subsetting
⠧ | 1968 | spectra_subsetting
⠏ | 1970 | spectra_subsetting
⠙ | 1972 | spectra_subsetting
⠸ | 1974 | spectra_subsetting
⠴ | 1976 | spectra_subsetting
⠧ | 1978 | spectra_subsetting
⠏ | 1980 | spectra_subsetting
⠙ | 1982 | spectra_subsetting
⠸ | 1984 | spectra_subsetting
⠴ | 1986 | spectra_subsetting
⠧ | 1988 | spectra_subsetting
⠏ | 1990 | spectra_subsetting
⠙ | 1992 | spectra_subsetting
⠸ | 1994 | spectra_subsetting
⠴ | 1996 | spectra_subsetting
⠧ | 1998 | spectra_subsetting
⠏ | 2000 | spectra_subsetting
⠙ | 2002 | spectra_subsetting
⠸ | 2004 | spectra_subsetting
⠴ | 2006 | spectra_subsetting
⠧ | 2008 | spectra_subsetting
⠏ | 2010 | spectra_subsetting
⠙ | 2012 | spectra_subsetting
⠸ | 2014 | spectra_subsetting
⠴ | 2016 | spectra_subsetting
⠧ | 2018 | spectra_subsetting
⠏ | 2020 | spectra_subsetting
⠙ | 2022 | spectra_subsetting
⠸ | 2024 | spectra_subsetting
⠴ | 2026 | spectra_subsetting
⠧ | 2028 | spectra_subsetting
⠏ | 2030 | spectra_subsetting
⠙ | 2032 | spectra_subsetting
⠸ | 2034 | spectra_subsetting
⠦ | 2037 | spectra_subsetting
⠇ | 2039 | spectra_subsetting
⠋ | 2041 | spectra_subsetting
⠹ | 2043 | spectra_subsetting
⠴ | 2046 | spectra_subsetting
⠧ | 2048 | spectra_subsetting
⠏ | 2050 | spectra_subsetting
⠙ | 2052 | spectra_subsetting
⠸ | 2054 | spectra_subsetting
⠦ | 2057 | spectra_subsetting
⠇ | 2059 | spectra_subsetting
⠋ | 2061 | spectra_subsetting
⠹ | 2063 | spectra_subsetting
⠼ | 2065 | spectra_subsetting
⠦ | 2067 | spectra_subsetting
⠇ | 2069 | spectra_subsetting
⠏ | 2070 | spectra_subsetting
⠙ | 2072 | spectra_subsetting
⠸ | 2074 | spectra_subsetting
⠴ | 2076 | spectra_subsetting
⠧ | 2078 | spectra_subsetting
⠏ | 2080 | spectra_subsetting
⠙ | 2082 | spectra_subsetting
⠸ | 2084 | spectra_subsetting
⠴ | 2086 | spectra_subsetting
⠧ | 2088 | spectra_subsetting
⠏ | 2090 | spectra_subsetting
⠙ | 2092 | spectra_subsetting
⠸ | 2094 | spectra_subsetting
⠴ | 2096 | spectra_subsetting
⠧ | 2098 | spectra_subsetting
⠏ | 2100 | spectra_subsetting
⠋ | 2101 | spectra_subsetting
⠹ | 2103 | spectra_subsetting
⠼ | 2105 | spectra_subsetting
⠦ | 2107 | spectra_subsetting
⠇ | 2109 | spectra_subsetting
⠙ | 2112 | spectra_subsetting
⠸ | 2114 | spectra_subsetting
⠴ | 2116 | spectra_subsetting
⠧ | 2118 | spectra_subsetting
⠏ | 2120 | spectra_subsetting
⠙ | 2122 | spectra_subsetting
⠸ | 2124 | spectra_subsetting
⠴ | 2126 | spectra_subsetting
⠇ | 2129 | spectra_subsetting
⠋ | 2131 | spectra_subsetting
⠹ | 2133 | spectra_subsetting
⠼ | 2135 | spectra_subsetting
⠦ | 2137 | spectra_subsetting
⠇ | 2139 | spectra_subsetting
⠋ | 2141 | spectra_subsetting
⠹ | 2143 | spectra_subsetting
⠼ | 2145 | spectra_subsetting
⠦ | 2147 | spectra_subsetting
⠇ | 2149 | spectra_subsetting
⠋ | 2151 | spectra_subsetting
⠙ | 2152 | spectra_subsetting
⠸ | 2154 | spectra_subsetting
⠴ | 2156 | spectra_subsetting
⠧ | 2158 | spectra_subsetting
⠏ | 2160 | spectra_subsetting
⠙ | 2162 | spectra_subsetting
⠸ | 2164 | spectra_subsetting
⠴ | 2166 | spectra_subsetting
⠧ | 2168 | spectra_subsetting
⠏ | 2170 | spectra_subsetting
⠙ | 2172 | spectra_subsetting
⠸ | 2174 | spectra_subsetting
⠴ | 2176 | spectra_subsetting
⠧ | 2178 | spectra_subsetting
⠏ | 2180 | spectra_subsetting
⠙ | 2182 | spectra_subsetting
⠸ | 2184 | spectra_subsetting
⠴ | 2186 | spectra_subsetting
⠧ | 2188 | spectra_subsetting
⠇ | 2189 | spectra_subsetting
⠋ | 2191 | spectra_subsetting
⠹ | 2193 | spectra_subsetting
⠼ | 2195 | spectra_subsetting
⠦ | 2197 | spectra_subsetting
⠏ | 2200 | spectra_subsetting
⠙ | 2202 | spectra_subsetting
⠸ | 2204 | spectra_subsetting
⠴ | 2206 | spectra_subsetting
⠧ | 2208 | spectra_subsetting
⠏ | 2210 | spectra_subsetting
⠙ | 2212 | spectra_subsetting
⠸ | 2214 | spectra_subsetting
⠴ | 2216 | spectra_subsetting
⠇ | 2219 | spectra_subsetting
⠋ | 2221 | spectra_subsetting
⠹ | 2223 | spectra_subsetting
⠼ | 2225 | spectra_subsetting
⠦ | 2227 | spectra_subsetting
⠇ | 2229 | spectra_subsetting
⠋ | 2231 | spectra_subsetting
⠹ | 2233 | spectra_subsetting
⠼ | 2235 | spectra_subsetting
⠦ | 2237 | spectra_subsetting
⠇ | 2239 | spectra_subsetting
⠙ | 2242 | spectra_subsetting
⠸ | 2244 | spectra_subsetting
⠴ | 2246 | spectra_subsetting
⠧ | 2248 | spectra_subsetting
⠏ | 2250 | spectra_subsetting
⠙ | 2252 | spectra_subsetting
⠸ | 2254 | spectra_subsetting
⠴ | 2256 | spectra_subsetting
⠧ | 2258 | spectra_subsetting
⠏ | 2260 | spectra_subsetting
⠙ | 2262 | spectra_subsetting
⠸ | 2264 | spectra_subsetting
⠴ | 2266 | spectra_subsetting
⠧ | 2268 | spectra_subsetting
⠏ | 2270 | spectra_subsetting
⠙ | 2272 | spectra_subsetting
⠸ | 2274 | spectra_subsetting
⠴ | 2276 | spectra_subsetting
⠧ | 2278 | spectra_subsetting
⠏ | 2280 | spectra_subsetting
⠙ | 2282 | spectra_subsetting
⠸ | 2284 | spectra_subsetting
⠴ | 2286 | spectra_subsetting
⠧ | 2288 | spectra_subsetting
⠏ | 2290 | spectra_subsetting
⠙ | 2292 | spectra_subsetting
⠸ | 2294 | spectra_subsetting
⠴ | 2296 | spectra_subsetting
⠧ | 2298 | spectra_subsetting
⠏ | 2300 | spectra_subsetting
⠹ | 2303 | spectra_subsetting
⠦ | 2307 | spectra_subsetting
⠙ | 2312 | spectra_subsetting
⠇ | 2319 | spectra_subsetting
⠸ | 2324 | spectra_subsetting
✔ | 2324 | spectra_subsetting [61.0s]
⠏ | 0 | spectra_variables
⠧ | 8 | spectra_variables
⠙ | 12 | spectra_variables
⠸ | 14 | spectra_variables
⠴ | 16 | spectra_variables
⠦ | 27 | spectra_variables
⠇ | 29 | spectra_variables
⠋ | 31 | spectra_variables
⠹ | 43 | spectra_variables
⠸ | 54 | spectra_variables
✔ | 1 62 | spectra_variables [24.4s]
══ Results ═════════════════════════════════════════════════════════════════════
Duration: 91.8 s
── Skipped tests (1) ───────────────────────────────────────────────────────────
• empty test (1): 'test_spectra_variables.R:262:1'
[ FAIL 0 | WARN 0 | SKIP 1 | PASS 2390 ]
>
> proc.time()
user system elapsed
76.46 4.46 157.89
MsBackendRawFileReader.Rcheck/MsBackendRawFileReader-Ex.timings
| name | user | system | elapsed | |
| MsBackendRawFileReader-class | 0.95 | 0.03 | 13.23 | |
| MsBackendRawFileReader | 1.09 | 0.03 | 41.20 | |
| hidden_aliases | 0.25 | 0.00 | 12.07 | |
| ioBenchmark | 9.41 | 2.15 | 59.86 | |