| Back to Multiple platform build/check report for BioC 3.20: simplified long |
|
This page was generated on 2024-11-20 12:07 -0500 (Wed, 20 Nov 2024).
| Hostname | OS | Arch (*) | R version | Installed pkgs |
|---|---|---|---|---|
| teran2 | Linux (Ubuntu 24.04.1 LTS) | x86_64 | 4.4.2 (2024-10-31) -- "Pile of Leaves" | 4481 |
| nebbiolo2 | Linux (Ubuntu 24.04.1 LTS) | x86_64 | 4.4.2 (2024-10-31) -- "Pile of Leaves" | 4479 |
| palomino8 | Windows Server 2022 Datacenter | x64 | 4.4.2 (2024-10-31 ucrt) -- "Pile of Leaves" | 4359 |
| lconway | macOS 12.7.1 Monterey | x86_64 | 4.4.1 (2024-06-14) -- "Race for Your Life" | 4539 |
| kunpeng2 | Linux (openEuler 22.03 LTS-SP1) | aarch64 | 4.4.1 (2024-06-14) -- "Race for Your Life" | 4493 |
| Click on any hostname to see more info about the system (e.g. compilers) (*) as reported by 'uname -p', except on Windows and Mac OS X | ||||
| Package 1333/2289 | Hostname | OS / Arch | INSTALL | BUILD | CHECK | BUILD BIN | ||||||||
| MsBackendRawFileReader 1.12.0 (landing page) Christian Panse
| teran2 | Linux (Ubuntu 24.04.1 LTS) / x86_64 | OK | OK | OK | |||||||||
| nebbiolo2 | Linux (Ubuntu 24.04.1 LTS) / x86_64 | OK | OK | OK | ||||||||||
| palomino8 | Windows Server 2022 Datacenter / x64 | OK | OK | OK | OK | |||||||||
| lconway | macOS 12.7.1 Monterey / x86_64 | OK | OK | OK | OK | |||||||||
| kunpeng2 | Linux (openEuler 22.03 LTS-SP1) / aarch64 | OK | OK | OK | ||||||||||
|
To the developers/maintainers of the MsBackendRawFileReader package: - Allow up to 24 hours (and sometimes 48 hours) for your latest push to git@git.bioconductor.org:packages/MsBackendRawFileReader.git to reflect on this report. See Troubleshooting Build Report for more information. - Use the following Renviron settings to reproduce errors and warnings. - If 'R CMD check' started to fail recently on the Linux builder(s) over a missing dependency, add the missing dependency to 'Suggests:' in your DESCRIPTION file. See Renviron.bioc for more information. - See Martin Grigorov's blog post for how to debug Linux ARM64 related issues on a x86_64 host. |
| Package: MsBackendRawFileReader |
| Version: 1.12.0 |
| Command: /home/biocbuild/R/R/bin/R CMD check --install=check:MsBackendRawFileReader.install-out.txt --library=/home/biocbuild/R/R/site-library --no-vignettes --timings MsBackendRawFileReader_1.12.0.tar.gz |
| StartedAt: 2024-11-20 10:11:10 -0000 (Wed, 20 Nov 2024) |
| EndedAt: 2024-11-20 10:15:23 -0000 (Wed, 20 Nov 2024) |
| EllapsedTime: 253.4 seconds |
| RetCode: 0 |
| Status: OK |
| CheckDir: MsBackendRawFileReader.Rcheck |
| Warnings: 0 |
##############################################################################
##############################################################################
###
### Running command:
###
### /home/biocbuild/R/R/bin/R CMD check --install=check:MsBackendRawFileReader.install-out.txt --library=/home/biocbuild/R/R/site-library --no-vignettes --timings MsBackendRawFileReader_1.12.0.tar.gz
###
##############################################################################
##############################################################################
* using log directory ‘/home/biocbuild/bbs-3.20-bioc/meat/MsBackendRawFileReader.Rcheck’
* using R version 4.4.1 (2024-06-14)
* using platform: aarch64-unknown-linux-gnu
* R was compiled by
gcc (GCC) 12.2.1 20220819 (openEuler 12.2.1-14)
GNU Fortran (GCC) 10.3.1
* running under: openEuler 22.03 (LTS-SP1)
* using session charset: UTF-8
* using option ‘--no-vignettes’
* checking for file ‘MsBackendRawFileReader/DESCRIPTION’ ... OK
* checking extension type ... Package
* this is package ‘MsBackendRawFileReader’ version ‘1.12.0’
* package encoding: UTF-8
* checking package namespace information ... OK
* checking package dependencies ... OK
* checking if this is a source package ... OK
* checking if there is a namespace ... OK
* checking for hidden files and directories ... OK
* checking for portable file names ... OK
* checking for sufficient/correct file permissions ... OK
* checking whether package ‘MsBackendRawFileReader’ can be installed ... OK
* checking installed package size ... OK
* checking package directory ... OK
* checking ‘build’ directory ... OK
* checking DESCRIPTION meta-information ... OK
* checking top-level files ... OK
* checking for left-over files ... OK
* checking index information ... OK
* checking package subdirectories ... OK
* checking code files for non-ASCII characters ... OK
* checking R files for syntax errors ... OK
* checking whether the package can be loaded ... OK
* checking whether the package can be loaded with stated dependencies ... OK
* checking whether the package can be unloaded cleanly ... OK
* checking whether the namespace can be loaded with stated dependencies ... OK
* checking whether the namespace can be unloaded cleanly ... OK
* checking loading without being on the library search path ... OK
* checking whether startup messages can be suppressed ... OK
* checking dependencies in R code ... OK
* checking S3 generic/method consistency ... OK
* checking replacement functions ... OK
* checking foreign function calls ... OK
* checking R code for possible problems ... OK
* checking Rd files ... OK
* checking Rd metadata ... OK
* checking Rd cross-references ... OK
* checking for missing documentation entries ... OK
* checking for code/documentation mismatches ... OK
* checking Rd \usage sections ... OK
* checking Rd contents ... OK
* checking for unstated dependencies in examples ... OK
* checking files in ‘vignettes’ ... OK
* checking examples ... OK
Examples with CPU (user + system) or elapsed time > 5s
user system elapsed
ioBenchmark 38.348 4.661 18.306
MsBackendRawFileReader 9.110 1.720 9.892
* checking for unstated dependencies in ‘tests’ ... OK
* checking tests ...
Running ‘testthat.R’
OK
* checking for unstated dependencies in vignettes ... OK
* checking package vignettes ... OK
* checking running R code from vignettes ... SKIPPED
* checking re-building of vignette outputs ... SKIPPED
* checking PDF version of manual ... OK
* DONE
Status: OK
MsBackendRawFileReader.Rcheck/00install.out
############################################################################## ############################################################################## ### ### Running command: ### ### /home/biocbuild/R/R/bin/R CMD INSTALL MsBackendRawFileReader ### ############################################################################## ############################################################################## * installing to library ‘/home/biocbuild/R/R-4.4.1/site-library’ * installing *source* package ‘MsBackendRawFileReader’ ... ** using staged installation ** R ** inst ** byte-compile and prepare package for lazy loading ** help *** installing help indices ** building package indices ** installing vignettes ** testing if installed package can be loaded from temporary location ** testing if installed package can be loaded from final location ** testing if installed package keeps a record of temporary installation path * DONE (MsBackendRawFileReader)
MsBackendRawFileReader.Rcheck/tests/testthat.Rout
R version 4.4.1 (2024-06-14) -- "Race for Your Life"
Copyright (C) 2024 The R Foundation for Statistical Computing
Platform: aarch64-unknown-linux-gnu
R is free software and comes with ABSOLUTELY NO WARRANTY.
You are welcome to redistribute it under certain conditions.
Type 'license()' or 'licence()' for distribution details.
R is a collaborative project with many contributors.
Type 'contributors()' for more information and
'citation()' on how to cite R or R packages in publications.
Type 'demo()' for some demos, 'help()' for on-line help, or
'help.start()' for an HTML browser interface to help.
Type 'q()' to quit R.
> library("testthat")
> library("MsBackendRawFileReader")
Loading required package: Spectra
Loading required package: S4Vectors
Loading required package: stats4
Loading required package: BiocGenerics
Attaching package: 'BiocGenerics'
The following objects are masked from 'package:stats':
IQR, mad, sd, var, xtabs
The following objects are masked from 'package:base':
Filter, Find, Map, Position, Reduce, anyDuplicated, aperm, append,
as.data.frame, basename, cbind, colnames, dirname, do.call,
duplicated, eval, evalq, get, grep, grepl, intersect, is.unsorted,
lapply, mapply, match, mget, order, paste, pmax, pmax.int, pmin,
pmin.int, rank, rbind, rownames, sapply, saveRDS, setdiff, table,
tapply, union, unique, unsplit, which.max, which.min
Attaching package: 'S4Vectors'
The following object is masked from 'package:utils':
findMatches
The following objects are masked from 'package:base':
I, expand.grid, unname
Loading required package: BiocParallel
> library("Spectra")
>
>
> sample_raw_file <- file.path(system.file(package = "rawrr"),
+ 'extdata', 'sample.raw')
>
> sample_mzXML_file <- file.path(path.package(package = 'MsBackendRawFileReader'),
+ 'extdata', 'sample.mzXML')
>
>
> sample_raw <- backendInitialize(MsBackendRawFileReader::MsBackendRawFileReader(), files = sample_raw_file)
>
>
> #sample_mzr <- backendInitialize(MsBackendMzR(), files = sample_mzXML_file)
>
>
> mgf_file <- file.path(system.file(package = "MsBackendRawFileReader"),
+ 'extdata', '3159619b11ed_4590_9594.mgf')
>
>
> rv <- lapply(1:2, function(x){
+ file.copy(from = sample_raw_file, to = tempfile(fileext='.raw'))})
>
>
> register(SnowParam(workers = 1, type = "SOCK") , default = TRUE);
> sample_raw_2 <- backendInitialize(MsBackendRawFileReader(),
+ files = file.path(tempdir(),
+ list.files(path = tempdir(), pattern = 'raw$')))
>
>
> test_check("MsBackendRawFileReader")
[ FAIL 0 | WARN 1 | SKIP 2 | PASS 21 ]
══ Skipped tests (2) ═══════════════════════════════════════════════════════════
• isFALSE(file.exists(sample_mzXML_file)) is TRUE (1):
'test_MsBackendMzR_MsBackendRawFileReader.R:1:1'
• isFALSE(require(MsBackendRawMgf)) is TRUE (1): 'test_top_n_mgf.R:1:1'
[ FAIL 0 | WARN 1 | SKIP 2 | PASS 21 ]
>
>
> be <- Spectra::backendInitialize(MsBackendRawFileReader::MsBackendRawFileReader(),
+ files = c(sample_raw_file))
>
> ## Run the MsBackend spectra variable test suite
>
> test_suite <- system.file("test_backends", "test_MsBackend",
+ package = "Spectra")
>
> #res <- test_file(paste0(test_suite, "/test_spectra_variables.R"),
> # reporter = check_reporter(), stop_on_failure = TRUE)
>
>
> ## Run the whole suite.
> res <- test_dir(test_suite, stop_on_failure = TRUE)
✔ | F W S OK | Context
⠏ | 0 | peaks_variables
⠙ | 2 | peaks_variables
⠸ | 4 | peaks_variables
✔ | 4 | peaks_variables [4.9s]
⠏ | 0 | spectra_subsetting
⠋ | 1 | spectra_subsetting
⠋ | 11 | spectra_subsetting
⠙ | 22 | spectra_subsetting
⠙ | 32 | spectra_subsetting
⠏ | 40 | spectra_subsetting
⠇ | 49 | spectra_subsetting
⠋ | 61 | spectra_subsetting
⠹ | 73 | spectra_subsetting
⠼ | 85 | spectra_subsetting
⠸ | 94 | spectra_subsetting
⠴ | 106 | spectra_subsetting
⠧ | 118 | spectra_subsetting
⠏ | 130 | spectra_subsetting
⠇ | 139 | spectra_subsetting
⠧ | 148 | spectra_subsetting
⠇ | 159 | spectra_subsetting
⠇ | 169 | spectra_subsetting
⠋ | 181 | spectra_subsetting
⠇ | 189 | spectra_subsetting
⠧ | 198 | spectra_subsetting
⠧ | 208 | spectra_subsetting
⠦ | 217 | spectra_subsetting
⠴ | 226 | spectra_subsetting
⠼ | 235 | spectra_subsetting
⠙ | 242 | spectra_subsetting
⠦ | 247 | spectra_subsetting
⠴ | 256 | spectra_subsetting
⠦ | 267 | spectra_subsetting
⠦ | 277 | spectra_subsetting
⠴ | 286 | spectra_subsetting
⠼ | 295 | spectra_subsetting
⠴ | 306 | spectra_subsetting
⠼ | 315 | spectra_subsetting
⠼ | 325 | spectra_subsetting
⠸ | 334 | spectra_subsetting
⠴ | 346 | spectra_subsetting
⠧ | 358 | spectra_subsetting
⠏ | 370 | spectra_subsetting
⠙ | 382 | spectra_subsetting
⠸ | 394 | spectra_subsetting
⠴ | 406 | spectra_subsetting
⠧ | 418 | spectra_subsetting
⠏ | 430 | spectra_subsetting
⠙ | 442 | spectra_subsetting
⠸ | 454 | spectra_subsetting
⠼ | 465 | spectra_subsetting
⠼ | 475 | spectra_subsetting
⠦ | 487 | spectra_subsetting
⠇ | 499 | spectra_subsetting
⠋ | 511 | spectra_subsetting
⠹ | 523 | spectra_subsetting
⠙ | 532 | spectra_subsetting
⠸ | 544 | spectra_subsetting
⠴ | 556 | spectra_subsetting
⠧ | 568 | spectra_subsetting
⠏ | 580 | spectra_subsetting
⠇ | 589 | spectra_subsetting
⠋ | 601 | spectra_subsetting
⠹ | 613 | spectra_subsetting
⠼ | 625 | spectra_subsetting
⠦ | 637 | spectra_subsetting
⠇ | 649 | spectra_subsetting
⠋ | 661 | spectra_subsetting
⠹ | 673 | spectra_subsetting
⠼ | 685 | spectra_subsetting
⠦ | 697 | spectra_subsetting
⠇ | 709 | spectra_subsetting
⠇ | 719 | spectra_subsetting
⠏ | 730 | spectra_subsetting
⠙ | 742 | spectra_subsetting
⠸ | 754 | spectra_subsetting
⠴ | 766 | spectra_subsetting
⠦ | 777 | spectra_subsetting
⠦ | 787 | spectra_subsetting
⠇ | 799 | spectra_subsetting
⠋ | 811 | spectra_subsetting
⠹ | 823 | spectra_subsetting
⠼ | 835 | spectra_subsetting
⠼ | 845 | spectra_subsetting
⠴ | 856 | spectra_subsetting
⠧ | 868 | spectra_subsetting
⠏ | 880 | spectra_subsetting
⠙ | 892 | spectra_subsetting
⠙ | 902 | spectra_subsetting
⠹ | 913 | spectra_subsetting
⠼ | 925 | spectra_subsetting
⠦ | 937 | spectra_subsetting
⠇ | 949 | spectra_subsetting
⠋ | 961 | spectra_subsetting
⠋ | 971 | spectra_subsetting
⠙ | 982 | spectra_subsetting
⠸ | 994 | spectra_subsetting
⠴ | 1006 | spectra_subsetting
⠧ | 1018 | spectra_subsetting
⠏ | 1030 | spectra_subsetting
⠙ | 1042 | spectra_subsetting
⠸ | 1054 | spectra_subsetting
⠴ | 1066 | spectra_subsetting
⠧ | 1078 | spectra_subsetting
⠏ | 1090 | spectra_subsetting
⠋ | 1101 | spectra_subsetting
⠋ | 1111 | spectra_subsetting
⠹ | 1123 | spectra_subsetting
⠼ | 1135 | spectra_subsetting
⠴ | 1146 | spectra_subsetting
⠸ | 1154 | spectra_subsetting
⠼ | 1165 | spectra_subsetting
⠼ | 1175 | spectra_subsetting
⠴ | 1186 | spectra_subsetting
⠧ | 1198 | spectra_subsetting
⠏ | 1210 | spectra_subsetting
⠙ | 1222 | spectra_subsetting
⠸ | 1234 | spectra_subsetting
⠴ | 1246 | spectra_subsetting
⠧ | 1258 | spectra_subsetting
⠏ | 1270 | spectra_subsetting
⠏ | 1280 | spectra_subsetting
⠋ | 1291 | spectra_subsetting
⠹ | 1303 | spectra_subsetting
⠼ | 1315 | spectra_subsetting
⠦ | 1327 | spectra_subsetting
⠇ | 1339 | spectra_subsetting
⠋ | 1351 | spectra_subsetting
⠹ | 1363 | spectra_subsetting
⠼ | 1375 | spectra_subsetting
⠼ | 1385 | spectra_subsetting
⠴ | 1396 | spectra_subsetting
⠧ | 1408 | spectra_subsetting
⠏ | 1420 | spectra_subsetting
⠙ | 1432 | spectra_subsetting
⠸ | 1444 | spectra_subsetting
⠴ | 1456 | spectra_subsetting
⠦ | 1467 | spectra_subsetting
⠦ | 1477 | spectra_subsetting
⠇ | 1489 | spectra_subsetting
⠏ | 1500 | spectra_subsetting
⠏ | 1510 | spectra_subsetting
⠏ | 1520 | spectra_subsetting
⠧ | 1528 | spectra_subsetting
⠇ | 1539 | spectra_subsetting
⠇ | 1549 | spectra_subsetting
⠏ | 1560 | spectra_subsetting
⠏ | 1570 | spectra_subsetting
⠙ | 1582 | spectra_subsetting
⠹ | 1593 | spectra_subsetting
⠹ | 1603 | spectra_subsetting
⠼ | 1615 | spectra_subsetting
⠦ | 1627 | spectra_subsetting
⠇ | 1639 | spectra_subsetting
⠋ | 1651 | spectra_subsetting
⠹ | 1663 | spectra_subsetting
⠼ | 1675 | spectra_subsetting
⠦ | 1687 | spectra_subsetting
⠇ | 1699 | spectra_subsetting
⠋ | 1711 | spectra_subsetting
⠏ | 1720 | spectra_subsetting
⠦ | 1727 | spectra_subsetting
⠇ | 1729 | spectra_subsetting
⠋ | 1731 | spectra_subsetting
⠹ | 1733 | spectra_subsetting
⠼ | 1735 | spectra_subsetting
⠦ | 1737 | spectra_subsetting
⠇ | 1739 | spectra_subsetting
⠋ | 1741 | spectra_subsetting
⠹ | 1743 | spectra_subsetting
⠼ | 1745 | spectra_subsetting
⠦ | 1747 | spectra_subsetting
⠇ | 1749 | spectra_subsetting
⠋ | 1751 | spectra_subsetting
⠹ | 1753 | spectra_subsetting
⠼ | 1755 | spectra_subsetting
⠦ | 1757 | spectra_subsetting
⠇ | 1759 | spectra_subsetting
⠋ | 1761 | spectra_subsetting
⠹ | 1763 | spectra_subsetting
⠼ | 1765 | spectra_subsetting
⠦ | 1767 | spectra_subsetting
⠇ | 1769 | spectra_subsetting
⠋ | 1771 | spectra_subsetting
⠹ | 1773 | spectra_subsetting
⠼ | 1775 | spectra_subsetting
⠦ | 1777 | spectra_subsetting
⠇ | 1779 | spectra_subsetting
⠋ | 1781 | spectra_subsetting
⠹ | 1783 | spectra_subsetting
⠼ | 1785 | spectra_subsetting
⠦ | 1787 | spectra_subsetting
⠇ | 1789 | spectra_subsetting
⠋ | 1791 | spectra_subsetting
⠹ | 1793 | spectra_subsetting
⠼ | 1795 | spectra_subsetting
⠦ | 1797 | spectra_subsetting
⠇ | 1799 | spectra_subsetting
⠋ | 1801 | spectra_subsetting
⠹ | 1803 | spectra_subsetting
⠼ | 1805 | spectra_subsetting
⠦ | 1807 | spectra_subsetting
⠇ | 1809 | spectra_subsetting
⠋ | 1811 | spectra_subsetting
⠹ | 1813 | spectra_subsetting
⠼ | 1815 | spectra_subsetting
⠦ | 1817 | spectra_subsetting
⠇ | 1819 | spectra_subsetting
⠋ | 1821 | spectra_subsetting
⠹ | 1823 | spectra_subsetting
⠼ | 1825 | spectra_subsetting
⠦ | 1827 | spectra_subsetting
⠇ | 1829 | spectra_subsetting
⠋ | 1831 | spectra_subsetting
⠹ | 1833 | spectra_subsetting
⠼ | 1835 | spectra_subsetting
⠦ | 1837 | spectra_subsetting
⠇ | 1839 | spectra_subsetting
⠋ | 1841 | spectra_subsetting
⠹ | 1843 | spectra_subsetting
⠼ | 1845 | spectra_subsetting
⠦ | 1847 | spectra_subsetting
⠇ | 1849 | spectra_subsetting
⠋ | 1851 | spectra_subsetting
⠹ | 1853 | spectra_subsetting
⠼ | 1855 | spectra_subsetting
⠦ | 1857 | spectra_subsetting
⠇ | 1859 | spectra_subsetting
⠋ | 1861 | spectra_subsetting
⠹ | 1863 | spectra_subsetting
⠼ | 1865 | spectra_subsetting
⠦ | 1867 | spectra_subsetting
⠇ | 1869 | spectra_subsetting
⠋ | 1871 | spectra_subsetting
⠹ | 1873 | spectra_subsetting
⠼ | 1875 | spectra_subsetting
⠦ | 1877 | spectra_subsetting
⠇ | 1879 | spectra_subsetting
⠋ | 1881 | spectra_subsetting
⠹ | 1883 | spectra_subsetting
⠼ | 1885 | spectra_subsetting
⠦ | 1887 | spectra_subsetting
⠇ | 1889 | spectra_subsetting
⠋ | 1891 | spectra_subsetting
⠹ | 1893 | spectra_subsetting
⠼ | 1895 | spectra_subsetting
⠦ | 1897 | spectra_subsetting
⠇ | 1899 | spectra_subsetting
⠋ | 1901 | spectra_subsetting
⠹ | 1903 | spectra_subsetting
⠼ | 1905 | spectra_subsetting
⠦ | 1907 | spectra_subsetting
⠇ | 1909 | spectra_subsetting
⠋ | 1911 | spectra_subsetting
⠹ | 1913 | spectra_subsetting
⠼ | 1915 | spectra_subsetting
⠦ | 1917 | spectra_subsetting
⠇ | 1919 | spectra_subsetting
⠋ | 1921 | spectra_subsetting
⠹ | 1923 | spectra_subsetting
⠼ | 1925 | spectra_subsetting
⠦ | 1927 | spectra_subsetting
⠇ | 1929 | spectra_subsetting
⠋ | 1931 | spectra_subsetting
⠹ | 1933 | spectra_subsetting
⠼ | 1935 | spectra_subsetting
⠦ | 1937 | spectra_subsetting
⠇ | 1939 | spectra_subsetting
⠋ | 1941 | spectra_subsetting
⠹ | 1943 | spectra_subsetting
⠼ | 1945 | spectra_subsetting
⠦ | 1947 | spectra_subsetting
⠇ | 1949 | spectra_subsetting
⠋ | 1951 | spectra_subsetting
⠹ | 1953 | spectra_subsetting
⠼ | 1955 | spectra_subsetting
⠦ | 1957 | spectra_subsetting
⠇ | 1959 | spectra_subsetting
⠋ | 1961 | spectra_subsetting
⠹ | 1963 | spectra_subsetting
⠼ | 1965 | spectra_subsetting
⠦ | 1967 | spectra_subsetting
⠇ | 1969 | spectra_subsetting
⠋ | 1971 | spectra_subsetting
⠹ | 1973 | spectra_subsetting
⠼ | 1975 | spectra_subsetting
⠦ | 1977 | spectra_subsetting
⠇ | 1979 | spectra_subsetting
⠋ | 1981 | spectra_subsetting
⠹ | 1983 | spectra_subsetting
⠼ | 1985 | spectra_subsetting
⠦ | 1987 | spectra_subsetting
⠇ | 1989 | spectra_subsetting
⠋ | 1991 | spectra_subsetting
⠹ | 1993 | spectra_subsetting
⠼ | 1995 | spectra_subsetting
⠦ | 1997 | spectra_subsetting
⠇ | 1999 | spectra_subsetting
⠋ | 2001 | spectra_subsetting
⠹ | 2003 | spectra_subsetting
⠼ | 2005 | spectra_subsetting
⠦ | 2007 | spectra_subsetting
⠇ | 2009 | spectra_subsetting
⠋ | 2011 | spectra_subsetting
⠹ | 2013 | spectra_subsetting
⠼ | 2015 | spectra_subsetting
⠦ | 2017 | spectra_subsetting
⠧ | 2018 | spectra_subsetting
⠏ | 2020 | spectra_subsetting
⠙ | 2022 | spectra_subsetting
⠸ | 2024 | spectra_subsetting
⠴ | 2026 | spectra_subsetting
⠧ | 2028 | spectra_subsetting
⠏ | 2030 | spectra_subsetting
⠙ | 2032 | spectra_subsetting
⠸ | 2034 | spectra_subsetting
⠴ | 2036 | spectra_subsetting
⠧ | 2038 | spectra_subsetting
⠏ | 2040 | spectra_subsetting
⠙ | 2042 | spectra_subsetting
⠸ | 2044 | spectra_subsetting
⠴ | 2046 | spectra_subsetting
⠧ | 2048 | spectra_subsetting
⠏ | 2050 | spectra_subsetting
⠙ | 2052 | spectra_subsetting
⠸ | 2054 | spectra_subsetting
⠴ | 2056 | spectra_subsetting
⠧ | 2058 | spectra_subsetting
⠏ | 2060 | spectra_subsetting
⠋ | 2061 | spectra_subsetting
⠙ | 2062 | spectra_subsetting
⠹ | 2063 | spectra_subsetting
⠸ | 2064 | spectra_subsetting
⠴ | 2066 | spectra_subsetting
⠧ | 2068 | spectra_subsetting
⠏ | 2070 | spectra_subsetting
⠙ | 2072 | spectra_subsetting
⠸ | 2074 | spectra_subsetting
⠴ | 2076 | spectra_subsetting
⠧ | 2078 | spectra_subsetting
⠏ | 2080 | spectra_subsetting
⠙ | 2082 | spectra_subsetting
⠸ | 2084 | spectra_subsetting
⠴ | 2086 | spectra_subsetting
⠧ | 2088 | spectra_subsetting
⠏ | 2090 | spectra_subsetting
⠙ | 2092 | spectra_subsetting
⠸ | 2094 | spectra_subsetting
⠴ | 2096 | spectra_subsetting
⠧ | 2098 | spectra_subsetting
⠏ | 2100 | spectra_subsetting
⠙ | 2102 | spectra_subsetting
⠸ | 2104 | spectra_subsetting
⠴ | 2106 | spectra_subsetting
⠧ | 2108 | spectra_subsetting
⠏ | 2110 | spectra_subsetting
⠙ | 2112 | spectra_subsetting
⠸ | 2114 | spectra_subsetting
⠴ | 2116 | spectra_subsetting
⠧ | 2118 | spectra_subsetting
⠏ | 2120 | spectra_subsetting
⠙ | 2122 | spectra_subsetting
⠸ | 2124 | spectra_subsetting
⠴ | 2126 | spectra_subsetting
⠧ | 2128 | spectra_subsetting
⠏ | 2130 | spectra_subsetting
⠙ | 2132 | spectra_subsetting
⠸ | 2134 | spectra_subsetting
⠴ | 2136 | spectra_subsetting
⠧ | 2138 | spectra_subsetting
⠏ | 2140 | spectra_subsetting
⠙ | 2142 | spectra_subsetting
⠸ | 2144 | spectra_subsetting
⠴ | 2146 | spectra_subsetting
⠧ | 2148 | spectra_subsetting
⠏ | 2150 | spectra_subsetting
⠙ | 2152 | spectra_subsetting
⠸ | 2154 | spectra_subsetting
⠴ | 2156 | spectra_subsetting
⠧ | 2158 | spectra_subsetting
⠏ | 2160 | spectra_subsetting
⠙ | 2162 | spectra_subsetting
⠸ | 2164 | spectra_subsetting
⠴ | 2166 | spectra_subsetting
⠧ | 2168 | spectra_subsetting
⠏ | 2170 | spectra_subsetting
⠙ | 2172 | spectra_subsetting
⠸ | 2174 | spectra_subsetting
⠴ | 2176 | spectra_subsetting
⠧ | 2178 | spectra_subsetting
⠏ | 2180 | spectra_subsetting
⠙ | 2182 | spectra_subsetting
⠸ | 2184 | spectra_subsetting
⠴ | 2186 | spectra_subsetting
⠧ | 2188 | spectra_subsetting
⠏ | 2190 | spectra_subsetting
⠙ | 2192 | spectra_subsetting
⠸ | 2194 | spectra_subsetting
⠴ | 2196 | spectra_subsetting
⠧ | 2198 | spectra_subsetting
⠏ | 2200 | spectra_subsetting
⠙ | 2202 | spectra_subsetting
⠸ | 2204 | spectra_subsetting
⠴ | 2206 | spectra_subsetting
⠧ | 2208 | spectra_subsetting
⠏ | 2210 | spectra_subsetting
⠙ | 2212 | spectra_subsetting
⠸ | 2214 | spectra_subsetting
⠴ | 2216 | spectra_subsetting
⠧ | 2218 | spectra_subsetting
⠏ | 2220 | spectra_subsetting
⠙ | 2222 | spectra_subsetting
⠸ | 2224 | spectra_subsetting
⠴ | 2226 | spectra_subsetting
⠧ | 2228 | spectra_subsetting
⠏ | 2230 | spectra_subsetting
⠙ | 2232 | spectra_subsetting
⠸ | 2234 | spectra_subsetting
⠴ | 2236 | spectra_subsetting
⠧ | 2238 | spectra_subsetting
⠏ | 2240 | spectra_subsetting
⠙ | 2242 | spectra_subsetting
⠸ | 2244 | spectra_subsetting
⠴ | 2246 | spectra_subsetting
⠧ | 2248 | spectra_subsetting
⠏ | 2250 | spectra_subsetting
⠙ | 2252 | spectra_subsetting
⠸ | 2254 | spectra_subsetting
⠴ | 2256 | spectra_subsetting
⠧ | 2258 | spectra_subsetting
⠏ | 2260 | spectra_subsetting
⠙ | 2262 | spectra_subsetting
⠸ | 2264 | spectra_subsetting
⠴ | 2266 | spectra_subsetting
⠧ | 2268 | spectra_subsetting
⠏ | 2270 | spectra_subsetting
⠙ | 2272 | spectra_subsetting
⠸ | 2274 | spectra_subsetting
⠴ | 2276 | spectra_subsetting
⠧ | 2278 | spectra_subsetting
⠏ | 2280 | spectra_subsetting
⠙ | 2282 | spectra_subsetting
⠸ | 2284 | spectra_subsetting
⠴ | 2286 | spectra_subsetting
⠧ | 2288 | spectra_subsetting
⠏ | 2290 | spectra_subsetting
⠙ | 2292 | spectra_subsetting
⠸ | 2294 | spectra_subsetting
⠴ | 2296 | spectra_subsetting
⠧ | 2298 | spectra_subsetting
⠏ | 2300 | spectra_subsetting
⠸ | 2304 | spectra_subsetting
⠋ | 2311 | spectra_subsetting
⠦ | 2317 | spectra_subsetting
⠹ | 2323 | spectra_subsetting
⠸ | 2324 | spectra_subsetting
✔ | 2324 | spectra_subsetting [62.7s]
⠏ | 0 | spectra_variables
⠙ | 12 | spectra_variables
⠸ | 14 | spectra_variables
⠴ | 16 | spectra_variables
⠦ | 27 | spectra_variables
⠇ | 29 | spectra_variables
⠋ | 31 | spectra_variables
⠹ | 43 | spectra_variables
⠧ | 1 57 | spectra_variables
⠹ | 1 62 | spectra_variables
✔ | 1 62 | spectra_variables [18.5s]
══ Results ═════════════════════════════════════════════════════════════════════
Duration: 86.1 s
── Skipped tests (1) ───────────────────────────────────────────────────────────
• empty test (1): 'test_spectra_variables.R:262:1'
[ FAIL 0 | WARN 0 | SKIP 1 | PASS 2390 ]
>
> proc.time()
user system elapsed
117.662 9.084 124.329
MsBackendRawFileReader.Rcheck/MsBackendRawFileReader-Ex.timings
| name | user | system | elapsed | |
| MsBackendRawFileReader-class | 4.235 | 0.541 | 4.757 | |
| MsBackendRawFileReader | 9.110 | 1.720 | 9.892 | |
| hidden_aliases | 2.841 | 0.609 | 3.149 | |
| ioBenchmark | 38.348 | 4.661 | 18.306 | |