| Back to Multiple platform build/check report for BioC 3.20: simplified long |
|
This page was generated on 2025-04-02 19:29 -0400 (Wed, 02 Apr 2025).
| Hostname | OS | Arch (*) | R version | Installed pkgs |
|---|---|---|---|---|
| nebbiolo2 | Linux (Ubuntu 24.04.1 LTS) | x86_64 | 4.4.3 (2025-02-28) -- "Trophy Case" | 4764 |
| palomino8 | Windows Server 2022 Datacenter | x64 | 4.4.3 (2025-02-28 ucrt) -- "Trophy Case" | 4495 |
| merida1 | macOS 12.7.5 Monterey | x86_64 | 4.4.3 (2025-02-28) -- "Trophy Case" | 4522 |
| kjohnson1 | macOS 13.6.6 Ventura | arm64 | 4.4.3 (2025-02-28) -- "Trophy Case" | 4449 |
| taishan | Linux (openEuler 24.03 LTS) | aarch64 | 4.4.3 (2025-02-28) -- "Trophy Case" | 4426 |
| Click on any hostname to see more info about the system (e.g. compilers) (*) as reported by 'uname -p', except on Windows and Mac OS X | ||||
| Package 1333/2289 | Hostname | OS / Arch | INSTALL | BUILD | CHECK | BUILD BIN | ||||||||
| MsBackendRawFileReader 1.12.0 (landing page) Christian Panse
| nebbiolo2 | Linux (Ubuntu 24.04.1 LTS) / x86_64 | OK | OK | OK | |||||||||
| palomino8 | Windows Server 2022 Datacenter / x64 | OK | OK | OK | OK | |||||||||
| merida1 | macOS 12.7.5 Monterey / x86_64 | OK | OK | OK | OK | |||||||||
| kjohnson1 | macOS 13.6.6 Ventura / arm64 | OK | OK | OK | OK | |||||||||
| taishan | Linux (openEuler 24.03 LTS) / aarch64 | ERROR | ERROR | skipped | ||||||||||
|
To the developers/maintainers of the MsBackendRawFileReader package: - Allow up to 24 hours (and sometimes 48 hours) for your latest push to git@git.bioconductor.org:packages/MsBackendRawFileReader.git to reflect on this report. See Troubleshooting Build Report for more information. - Use the following Renviron settings to reproduce errors and warnings. - If 'R CMD check' started to fail recently on the Linux builder(s) over a missing dependency, add the missing dependency to 'Suggests:' in your DESCRIPTION file. See Renviron.bioc for more information. |
| Package: MsBackendRawFileReader |
| Version: 1.12.0 |
| Command: /home/biocbuild/bbs-3.20-bioc/R/bin/R CMD check --install=check:MsBackendRawFileReader.install-out.txt --library=/home/biocbuild/bbs-3.20-bioc/R/site-library --timings MsBackendRawFileReader_1.12.0.tar.gz |
| StartedAt: 2025-04-01 00:12:57 -0400 (Tue, 01 Apr 2025) |
| EndedAt: 2025-04-01 00:18:05 -0400 (Tue, 01 Apr 2025) |
| EllapsedTime: 307.4 seconds |
| RetCode: 0 |
| Status: OK |
| CheckDir: MsBackendRawFileReader.Rcheck |
| Warnings: 0 |
##############################################################################
##############################################################################
###
### Running command:
###
### /home/biocbuild/bbs-3.20-bioc/R/bin/R CMD check --install=check:MsBackendRawFileReader.install-out.txt --library=/home/biocbuild/bbs-3.20-bioc/R/site-library --timings MsBackendRawFileReader_1.12.0.tar.gz
###
##############################################################################
##############################################################################
* using log directory ‘/home/biocbuild/bbs-3.20-bioc/meat/MsBackendRawFileReader.Rcheck’
* using R version 4.4.3 (2025-02-28)
* using platform: x86_64-pc-linux-gnu
* R was compiled by
gcc (Ubuntu 13.3.0-6ubuntu2~24.04) 13.3.0
GNU Fortran (Ubuntu 13.3.0-6ubuntu2~24.04) 13.3.0
* running under: Ubuntu 24.04.2 LTS
* using session charset: UTF-8
* checking for file ‘MsBackendRawFileReader/DESCRIPTION’ ... OK
* checking extension type ... Package
* this is package ‘MsBackendRawFileReader’ version ‘1.12.0’
* package encoding: UTF-8
* checking package namespace information ... OK
* checking package dependencies ... OK
* checking if this is a source package ... OK
* checking if there is a namespace ... OK
* checking for hidden files and directories ... OK
* checking for portable file names ... OK
* checking for sufficient/correct file permissions ... OK
* checking whether package ‘MsBackendRawFileReader’ can be installed ... OK
* checking installed package size ... OK
* checking package directory ... OK
* checking ‘build’ directory ... OK
* checking DESCRIPTION meta-information ... OK
* checking top-level files ... OK
* checking for left-over files ... OK
* checking index information ... OK
* checking package subdirectories ... OK
* checking code files for non-ASCII characters ... OK
* checking R files for syntax errors ... OK
* checking whether the package can be loaded ... OK
* checking whether the package can be loaded with stated dependencies ... OK
* checking whether the package can be unloaded cleanly ... OK
* checking whether the namespace can be loaded with stated dependencies ... OK
* checking whether the namespace can be unloaded cleanly ... OK
* checking loading without being on the library search path ... OK
* checking whether startup messages can be suppressed ... OK
* checking dependencies in R code ... OK
* checking S3 generic/method consistency ... OK
* checking replacement functions ... OK
* checking foreign function calls ... OK
* checking R code for possible problems ... OK
* checking Rd files ... OK
* checking Rd metadata ... OK
* checking Rd cross-references ... OK
* checking for missing documentation entries ... OK
* checking for code/documentation mismatches ... OK
* checking Rd \usage sections ... OK
* checking Rd contents ... OK
* checking for unstated dependencies in examples ... OK
* checking files in ‘vignettes’ ... OK
* checking examples ... OK
Examples with CPU (user + system) or elapsed time > 5s
user system elapsed
ioBenchmark 77.366 4.619 13.114
MsBackendRawFileReader 7.289 1.590 7.938
* checking for unstated dependencies in ‘tests’ ... OK
* checking tests ...
Running ‘testthat.R’
OK
* checking for unstated dependencies in vignettes ... OK
* checking package vignettes ... OK
* checking re-building of vignette outputs ... OK
* checking PDF version of manual ... OK
* DONE
Status: OK
MsBackendRawFileReader.Rcheck/00install.out
############################################################################## ############################################################################## ### ### Running command: ### ### /home/biocbuild/bbs-3.20-bioc/R/bin/R CMD INSTALL MsBackendRawFileReader ### ############################################################################## ############################################################################## * installing to library ‘/home/biocbuild/bbs-3.20-bioc/R/site-library’ * installing *source* package ‘MsBackendRawFileReader’ ... ** using staged installation ** R ** inst ** byte-compile and prepare package for lazy loading ** help *** installing help indices ** building package indices ** installing vignettes ** testing if installed package can be loaded from temporary location ** testing if installed package can be loaded from final location ** testing if installed package keeps a record of temporary installation path * DONE (MsBackendRawFileReader)
MsBackendRawFileReader.Rcheck/tests/testthat.Rout
R version 4.4.3 (2025-02-28) -- "Trophy Case"
Copyright (C) 2025 The R Foundation for Statistical Computing
Platform: x86_64-pc-linux-gnu
R is free software and comes with ABSOLUTELY NO WARRANTY.
You are welcome to redistribute it under certain conditions.
Type 'license()' or 'licence()' for distribution details.
R is a collaborative project with many contributors.
Type 'contributors()' for more information and
'citation()' on how to cite R or R packages in publications.
Type 'demo()' for some demos, 'help()' for on-line help, or
'help.start()' for an HTML browser interface to help.
Type 'q()' to quit R.
> library("testthat")
> library("MsBackendRawFileReader")
Loading required package: Spectra
Loading required package: S4Vectors
Loading required package: stats4
Loading required package: BiocGenerics
Attaching package: 'BiocGenerics'
The following objects are masked from 'package:stats':
IQR, mad, sd, var, xtabs
The following objects are masked from 'package:base':
Filter, Find, Map, Position, Reduce, anyDuplicated, aperm, append,
as.data.frame, basename, cbind, colnames, dirname, do.call,
duplicated, eval, evalq, get, grep, grepl, intersect, is.unsorted,
lapply, mapply, match, mget, order, paste, pmax, pmax.int, pmin,
pmin.int, rank, rbind, rownames, sapply, saveRDS, setdiff, table,
tapply, union, unique, unsplit, which.max, which.min
Attaching package: 'S4Vectors'
The following object is masked from 'package:utils':
findMatches
The following objects are masked from 'package:base':
I, expand.grid, unname
Loading required package: BiocParallel
> library("Spectra")
>
>
> sample_raw_file <- file.path(system.file(package = "rawrr"),
+ 'extdata', 'sample.raw')
>
> sample_mzXML_file <- file.path(path.package(package = 'MsBackendRawFileReader'),
+ 'extdata', 'sample.mzXML')
>
>
> sample_raw <- backendInitialize(MsBackendRawFileReader::MsBackendRawFileReader(), files = sample_raw_file)
>
>
> #sample_mzr <- backendInitialize(MsBackendMzR(), files = sample_mzXML_file)
>
>
> mgf_file <- file.path(system.file(package = "MsBackendRawFileReader"),
+ 'extdata', '3159619b11ed_4590_9594.mgf')
>
>
> rv <- lapply(1:2, function(x){
+ file.copy(from = sample_raw_file, to = tempfile(fileext='.raw'))})
>
>
> register(SnowParam(workers = 1, type = "SOCK") , default = TRUE);
> sample_raw_2 <- backendInitialize(MsBackendRawFileReader(),
+ files = file.path(tempdir(),
+ list.files(path = tempdir(), pattern = 'raw$')))
>
>
> test_check("MsBackendRawFileReader")
[ FAIL 0 | WARN 1 | SKIP 2 | PASS 21 ]
══ Skipped tests (2) ═══════════════════════════════════════════════════════════
• isFALSE(file.exists(sample_mzXML_file)) is TRUE (1):
'test_MsBackendMzR_MsBackendRawFileReader.R:1:1'
• isFALSE(require(MsBackendRawMgf)) is TRUE (1): 'test_top_n_mgf.R:1:1'
[ FAIL 0 | WARN 1 | SKIP 2 | PASS 21 ]
>
>
> be <- Spectra::backendInitialize(MsBackendRawFileReader::MsBackendRawFileReader(),
+ files = c(sample_raw_file))
>
> ## Run the MsBackend spectra variable test suite
>
> test_suite <- system.file("test_backends", "test_MsBackend",
+ package = "Spectra")
>
> #res <- test_file(paste0(test_suite, "/test_spectra_variables.R"),
> # reporter = check_reporter(), stop_on_failure = TRUE)
>
>
> ## Run the whole suite.
> res <- test_dir(test_suite, stop_on_failure = TRUE)
✔ | F W S OK | Context
⠏ | 0 | peaks_variables
⠙ | 2 | peaks_variables
⠸ | 4 | peaks_variables
✔ | 4 | peaks_variables [4.0s]
⠏ | 0 | spectra_subsetting
⠋ | 1 | spectra_subsetting
⠴ | 16 | spectra_subsetting
⠧ | 28 | spectra_subsetting
⠹ | 43 | spectra_subsetting
⠧ | 58 | spectra_subsetting
⠋ | 71 | spectra_subsetting
⠴ | 86 | spectra_subsetting
⠋ | 101 | spectra_subsetting
⠸ | 114 | spectra_subsetting
⠦ | 127 | spectra_subsetting
⠙ | 142 | spectra_subsetting
⠦ | 157 | spectra_subsetting
⠹ | 173 | spectra_subsetting
⠦ | 187 | spectra_subsetting
⠙ | 202 | spectra_subsetting
⠦ | 217 | spectra_subsetting
⠦ | 227 | spectra_subsetting
⠸ | 244 | spectra_subsetting
⠏ | 260 | spectra_subsetting
⠦ | 277 | spectra_subsetting
⠇ | 289 | spectra_subsetting
⠸ | 304 | spectra_subsetting
⠏ | 320 | spectra_subsetting
⠴ | 336 | spectra_subsetting
⠇ | 349 | spectra_subsetting
⠼ | 365 | spectra_subsetting
⠙ | 382 | spectra_subsetting
⠏ | 400 | spectra_subsetting
⠼ | 415 | spectra_subsetting
⠙ | 432 | spectra_subsetting
⠧ | 448 | spectra_subsetting
⠴ | 466 | spectra_subsetting
⠋ | 481 | spectra_subsetting
⠇ | 499 | spectra_subsetting
⠦ | 517 | spectra_subsetting
⠼ | 535 | spectra_subsetting
⠏ | 550 | spectra_subsetting
⠴ | 566 | spectra_subsetting
⠹ | 583 | spectra_subsetting
⠇ | 599 | spectra_subsetting
⠸ | 614 | spectra_subsetting
⠋ | 631 | spectra_subsetting
⠇ | 649 | spectra_subsetting
⠴ | 666 | spectra_subsetting
⠏ | 680 | spectra_subsetting
⠸ | 694 | spectra_subsetting
⠏ | 710 | spectra_subsetting
⠦ | 727 | spectra_subsetting
⠹ | 743 | spectra_subsetting
⠏ | 760 | spectra_subsetting
⠧ | 778 | spectra_subsetting
⠹ | 793 | spectra_subsetting
⠋ | 811 | spectra_subsetting
⠇ | 829 | spectra_subsetting
⠦ | 847 | spectra_subsetting
⠸ | 864 | spectra_subsetting
⠏ | 880 | spectra_subsetting
⠧ | 898 | spectra_subsetting
⠴ | 916 | spectra_subsetting
⠸ | 934 | spectra_subsetting
⠙ | 952 | spectra_subsetting
⠏ | 970 | spectra_subsetting
⠴ | 986 | spectra_subsetting
⠹ | 1003 | spectra_subsetting
⠋ | 1021 | spectra_subsetting
⠇ | 1039 | spectra_subsetting
⠸ | 1054 | spectra_subsetting
⠋ | 1071 | spectra_subsetting
⠦ | 1087 | spectra_subsetting
⠙ | 1102 | spectra_subsetting
⠏ | 1120 | spectra_subsetting
⠦ | 1137 | spectra_subsetting
⠹ | 1153 | spectra_subsetting
⠇ | 1169 | spectra_subsetting
⠴ | 1186 | spectra_subsetting
⠸ | 1204 | spectra_subsetting
⠏ | 1220 | spectra_subsetting
⠼ | 1235 | spectra_subsetting
⠏ | 1250 | spectra_subsetting
⠦ | 1267 | spectra_subsetting
⠹ | 1283 | spectra_subsetting
⠦ | 1297 | spectra_subsetting
⠸ | 1314 | spectra_subsetting
⠏ | 1330 | spectra_subsetting
⠴ | 1346 | spectra_subsetting
⠋ | 1361 | spectra_subsetting
⠧ | 1378 | spectra_subsetting
⠼ | 1395 | spectra_subsetting
⠋ | 1411 | spectra_subsetting
⠴ | 1426 | spectra_subsetting
⠋ | 1441 | spectra_subsetting
⠦ | 1457 | spectra_subsetting
⠹ | 1473 | spectra_subsetting
⠦ | 1487 | spectra_subsetting
⠹ | 1503 | spectra_subsetting
⠦ | 1517 | spectra_subsetting
⠹ | 1533 | spectra_subsetting
⠹ | 1543 | spectra_subsetting
⠇ | 1559 | spectra_subsetting
⠼ | 1575 | spectra_subsetting
⠏ | 1590 | spectra_subsetting
⠹ | 1603 | spectra_subsetting
⠇ | 1619 | spectra_subsetting
⠴ | 1636 | spectra_subsetting
⠙ | 1652 | spectra_subsetting
⠦ | 1667 | spectra_subsetting
⠸ | 1684 | spectra_subsetting
⠏ | 1700 | spectra_subsetting
⠼ | 1715 | spectra_subsetting
⠦ | 1727 | spectra_subsetting
⠏ | 1730 | spectra_subsetting
⠹ | 1733 | spectra_subsetting
⠴ | 1736 | spectra_subsetting
⠧ | 1738 | spectra_subsetting
⠏ | 1740 | spectra_subsetting
⠹ | 1743 | spectra_subsetting
⠼ | 1745 | spectra_subsetting
⠦ | 1747 | spectra_subsetting
⠏ | 1750 | spectra_subsetting
⠹ | 1753 | spectra_subsetting
⠼ | 1755 | spectra_subsetting
⠧ | 1758 | spectra_subsetting
⠋ | 1761 | spectra_subsetting
⠸ | 1764 | spectra_subsetting
⠴ | 1766 | spectra_subsetting
⠧ | 1768 | spectra_subsetting
⠋ | 1771 | spectra_subsetting
⠹ | 1773 | spectra_subsetting
⠴ | 1776 | spectra_subsetting
⠇ | 1779 | spectra_subsetting
⠙ | 1782 | spectra_subsetting
⠸ | 1784 | spectra_subsetting
⠦ | 1787 | spectra_subsetting
⠇ | 1789 | spectra_subsetting
⠋ | 1791 | spectra_subsetting
⠸ | 1794 | spectra_subsetting
⠦ | 1797 | spectra_subsetting
⠏ | 1800 | spectra_subsetting
⠙ | 1802 | spectra_subsetting
⠸ | 1804 | spectra_subsetting
⠦ | 1807 | spectra_subsetting
⠏ | 1810 | spectra_subsetting
⠙ | 1812 | spectra_subsetting
⠼ | 1815 | spectra_subsetting
⠦ | 1817 | spectra_subsetting
⠏ | 1820 | spectra_subsetting
⠹ | 1823 | spectra_subsetting
⠴ | 1826 | spectra_subsetting
⠇ | 1829 | spectra_subsetting
⠋ | 1831 | spectra_subsetting
⠹ | 1833 | spectra_subsetting
⠴ | 1836 | spectra_subsetting
⠇ | 1839 | spectra_subsetting
⠋ | 1841 | spectra_subsetting
⠹ | 1843 | spectra_subsetting
⠴ | 1846 | spectra_subsetting
⠧ | 1848 | spectra_subsetting
⠏ | 1850 | spectra_subsetting
⠙ | 1852 | spectra_subsetting
⠸ | 1854 | spectra_subsetting
⠴ | 1856 | spectra_subsetting
⠧ | 1858 | spectra_subsetting
⠏ | 1860 | spectra_subsetting
⠙ | 1862 | spectra_subsetting
⠼ | 1865 | spectra_subsetting
⠦ | 1867 | spectra_subsetting
⠇ | 1869 | spectra_subsetting
⠋ | 1871 | spectra_subsetting
⠹ | 1873 | spectra_subsetting
⠼ | 1875 | spectra_subsetting
⠧ | 1878 | spectra_subsetting
⠏ | 1880 | spectra_subsetting
⠙ | 1882 | spectra_subsetting
⠸ | 1884 | spectra_subsetting
⠦ | 1887 | spectra_subsetting
⠇ | 1889 | spectra_subsetting
⠋ | 1891 | spectra_subsetting
⠹ | 1893 | spectra_subsetting
⠴ | 1896 | spectra_subsetting
⠧ | 1898 | spectra_subsetting
⠏ | 1900 | spectra_subsetting
⠹ | 1903 | spectra_subsetting
⠼ | 1905 | spectra_subsetting
⠦ | 1907 | spectra_subsetting
⠇ | 1909 | spectra_subsetting
⠋ | 1911 | spectra_subsetting
⠹ | 1913 | spectra_subsetting
⠼ | 1915 | spectra_subsetting
⠦ | 1917 | spectra_subsetting
⠇ | 1919 | spectra_subsetting
⠋ | 1921 | spectra_subsetting
⠹ | 1923 | spectra_subsetting
⠼ | 1925 | spectra_subsetting
⠧ | 1928 | spectra_subsetting
⠏ | 1930 | spectra_subsetting
⠹ | 1933 | spectra_subsetting
⠴ | 1936 | spectra_subsetting
⠇ | 1939 | spectra_subsetting
⠙ | 1942 | spectra_subsetting
⠼ | 1945 | spectra_subsetting
⠦ | 1947 | spectra_subsetting
⠏ | 1950 | spectra_subsetting
⠹ | 1953 | spectra_subsetting
⠼ | 1955 | spectra_subsetting
⠦ | 1957 | spectra_subsetting
⠇ | 1959 | spectra_subsetting
⠋ | 1961 | spectra_subsetting
⠹ | 1963 | spectra_subsetting
⠼ | 1965 | spectra_subsetting
⠧ | 1968 | spectra_subsetting
⠋ | 1971 | spectra_subsetting
⠸ | 1974 | spectra_subsetting
⠦ | 1977 | spectra_subsetting
⠏ | 1980 | spectra_subsetting
⠙ | 1982 | spectra_subsetting
⠼ | 1985 | spectra_subsetting
⠦ | 1987 | spectra_subsetting
⠏ | 1990 | spectra_subsetting
⠹ | 1993 | spectra_subsetting
⠴ | 1996 | spectra_subsetting
⠇ | 1999 | spectra_subsetting
⠙ | 2002 | spectra_subsetting
⠸ | 2004 | spectra_subsetting
⠦ | 2007 | spectra_subsetting
⠏ | 2010 | spectra_subsetting
⠙ | 2012 | spectra_subsetting
⠼ | 2015 | spectra_subsetting
⠧ | 2018 | spectra_subsetting
⠋ | 2021 | spectra_subsetting
⠸ | 2024 | spectra_subsetting
⠴ | 2026 | spectra_subsetting
⠧ | 2028 | spectra_subsetting
⠏ | 2030 | spectra_subsetting
⠙ | 2032 | spectra_subsetting
⠼ | 2035 | spectra_subsetting
⠦ | 2037 | spectra_subsetting
⠇ | 2039 | spectra_subsetting
⠋ | 2041 | spectra_subsetting
⠹ | 2043 | spectra_subsetting
⠼ | 2045 | spectra_subsetting
⠦ | 2047 | spectra_subsetting
⠇ | 2049 | spectra_subsetting
⠋ | 2051 | spectra_subsetting
⠹ | 2053 | spectra_subsetting
⠼ | 2055 | spectra_subsetting
⠦ | 2057 | spectra_subsetting
⠏ | 2060 | spectra_subsetting
⠙ | 2062 | spectra_subsetting
⠼ | 2065 | spectra_subsetting
⠧ | 2068 | spectra_subsetting
⠋ | 2071 | spectra_subsetting
⠸ | 2074 | spectra_subsetting
⠴ | 2076 | spectra_subsetting
⠇ | 2079 | spectra_subsetting
⠋ | 2081 | spectra_subsetting
⠹ | 2083 | spectra_subsetting
⠼ | 2085 | spectra_subsetting
⠦ | 2087 | spectra_subsetting
⠇ | 2089 | spectra_subsetting
⠋ | 2091 | spectra_subsetting
⠹ | 2093 | spectra_subsetting
⠴ | 2096 | spectra_subsetting
⠇ | 2099 | spectra_subsetting
⠋ | 2101 | spectra_subsetting
⠸ | 2104 | spectra_subsetting
⠦ | 2107 | spectra_subsetting
⠇ | 2109 | spectra_subsetting
⠋ | 2111 | spectra_subsetting
⠹ | 2113 | spectra_subsetting
⠼ | 2115 | spectra_subsetting
⠦ | 2117 | spectra_subsetting
⠇ | 2119 | spectra_subsetting
⠋ | 2121 | spectra_subsetting
⠸ | 2124 | spectra_subsetting
⠴ | 2126 | spectra_subsetting
⠇ | 2129 | spectra_subsetting
⠙ | 2132 | spectra_subsetting
⠸ | 2134 | spectra_subsetting
⠴ | 2136 | spectra_subsetting
⠧ | 2138 | spectra_subsetting
⠏ | 2140 | spectra_subsetting
⠙ | 2142 | spectra_subsetting
⠸ | 2144 | spectra_subsetting
⠴ | 2146 | spectra_subsetting
⠧ | 2148 | spectra_subsetting
⠏ | 2150 | spectra_subsetting
⠙ | 2152 | spectra_subsetting
⠸ | 2154 | spectra_subsetting
⠦ | 2157 | spectra_subsetting
⠏ | 2160 | spectra_subsetting
⠹ | 2163 | spectra_subsetting
⠼ | 2165 | spectra_subsetting
⠦ | 2167 | spectra_subsetting
⠇ | 2169 | spectra_subsetting
⠙ | 2172 | spectra_subsetting
⠼ | 2175 | spectra_subsetting
⠧ | 2178 | spectra_subsetting
⠏ | 2180 | spectra_subsetting
⠙ | 2182 | spectra_subsetting
⠼ | 2185 | spectra_subsetting
⠧ | 2188 | spectra_subsetting
⠏ | 2190 | spectra_subsetting
⠹ | 2193 | spectra_subsetting
⠼ | 2195 | spectra_subsetting
⠦ | 2197 | spectra_subsetting
⠇ | 2199 | spectra_subsetting
⠋ | 2201 | spectra_subsetting
⠹ | 2203 | spectra_subsetting
⠴ | 2206 | spectra_subsetting
⠇ | 2209 | spectra_subsetting
⠙ | 2212 | spectra_subsetting
⠼ | 2215 | spectra_subsetting
⠦ | 2217 | spectra_subsetting
⠏ | 2220 | spectra_subsetting
⠹ | 2223 | spectra_subsetting
⠼ | 2225 | spectra_subsetting
⠧ | 2228 | spectra_subsetting
⠋ | 2231 | spectra_subsetting
⠹ | 2233 | spectra_subsetting
⠴ | 2236 | spectra_subsetting
⠇ | 2239 | spectra_subsetting
⠙ | 2242 | spectra_subsetting
⠼ | 2245 | spectra_subsetting
⠦ | 2247 | spectra_subsetting
⠏ | 2250 | spectra_subsetting
⠹ | 2253 | spectra_subsetting
⠴ | 2256 | spectra_subsetting
⠇ | 2259 | spectra_subsetting
⠋ | 2261 | spectra_subsetting
⠸ | 2264 | spectra_subsetting
⠦ | 2267 | spectra_subsetting
⠏ | 2270 | spectra_subsetting
⠙ | 2272 | spectra_subsetting
⠸ | 2274 | spectra_subsetting
⠴ | 2276 | spectra_subsetting
⠇ | 2279 | spectra_subsetting
⠋ | 2281 | spectra_subsetting
⠸ | 2284 | spectra_subsetting
⠴ | 2286 | spectra_subsetting
⠧ | 2288 | spectra_subsetting
⠏ | 2290 | spectra_subsetting
⠙ | 2292 | spectra_subsetting
⠼ | 2295 | spectra_subsetting
⠦ | 2297 | spectra_subsetting
⠇ | 2299 | spectra_subsetting
⠹ | 2303 | spectra_subsetting
⠦ | 2307 | spectra_subsetting
⠦ | 2317 | spectra_subsetting
⠸ | 2324 | spectra_subsetting
✔ | 2324 | spectra_subsetting [42.0s]
⠏ | 0 | spectra_variables
⠙ | 12 | spectra_variables
⠸ | 14 | spectra_variables
⠴ | 16 | spectra_variables
⠦ | 27 | spectra_variables
⠇ | 29 | spectra_variables
⠋ | 31 | spectra_variables
⠸ | 34 | spectra_variables
⠹ | 43 | spectra_variables
✔ | 1 62 | spectra_variables [14.4s]
══ Results ═════════════════════════════════════════════════════════════════════
Duration: 60.4 s
── Skipped tests (1) ───────────────────────────────────────────────────────────
• empty test (1): 'test_spectra_variables.R:262:1'
[ FAIL 0 | WARN 0 | SKIP 1 | PASS 2390 ]
>
> proc.time()
user system elapsed
86.652 6.001 90.018
MsBackendRawFileReader.Rcheck/MsBackendRawFileReader-Ex.timings
| name | user | system | elapsed | |
| MsBackendRawFileReader-class | 3.684 | 0.588 | 4.032 | |
| MsBackendRawFileReader | 7.289 | 1.590 | 7.938 | |
| hidden_aliases | 2.370 | 0.572 | 2.620 | |
| ioBenchmark | 77.366 | 4.619 | 13.114 | |