Back to Multiple platform build/check report for BioC 3.17: simplified long |
|
This page was generated on 2023-10-16 11:34:25 -0400 (Mon, 16 Oct 2023).
Hostname | OS | Arch (*) | R version | Installed pkgs |
---|---|---|---|---|
nebbiolo1 | Linux (Ubuntu 22.04.2 LTS) | x86_64 | 4.3.1 (2023-06-16) -- "Beagle Scouts" | 4626 |
palomino3 | Windows Server 2022 Datacenter | x64 | 4.3.1 (2023-06-16 ucrt) -- "Beagle Scouts" | 4379 |
merida1 | macOS 12.6.4 Monterey | x86_64 | 4.3.1 (2023-06-16) -- "Beagle Scouts" | 4395 |
Click on any hostname to see more info about the system (e.g. compilers) (*) as reported by 'uname -p', except on Windows and Mac OS X |
To the developers/maintainers of the ComplexHeatmap package: - Allow up to 24 hours (and sometimes 48 hours) for your latest push to git@git.bioconductor.org:packages/ComplexHeatmap.git to reflect on this report. See Troubleshooting Build Report for more information. - Use the following Renviron settings to reproduce errors and warnings. - If 'R CMD check' started to fail recently on the Linux builder(s) over a missing dependency, add the missing dependency to 'Suggests:' in your DESCRIPTION file. See Renviron.bioc for more information. |
Package 410/2230 | Hostname | OS / Arch | INSTALL | BUILD | CHECK | BUILD BIN | ||||||||
ComplexHeatmap 2.16.0 (landing page) Zuguang Gu
| nebbiolo1 | Linux (Ubuntu 22.04.2 LTS) / x86_64 | OK | OK | OK | ![]() | ||||||||
palomino3 | Windows Server 2022 Datacenter / x64 | OK | OK | OK | OK | ![]() | ||||||||
merida1 | macOS 12.6.4 Monterey / x86_64 | OK | OK | OK | OK | ![]() | ||||||||
kjohnson2 | macOS 12.6.1 Monterey / arm64 | see weekly results here | ||||||||||||
QUICK STATS | OS / Arch | INSTALL | BUILD | CHECK | BUILD BIN | |||||||||||||||||
nebbiolo1 | Linux (Ubuntu 22.04.2 LTS) / x86_64 |
|
|
| ||||||||||||||||||
palomino3 | Windows Server 2022 Datacenter / x64 |
|
|
|
| |||||||||||||||||
merida1 | macOS 12.6.4 Monterey / x86_64 |
|
|
|
| |||||||||||||||||
Package 1/58 | Hostname | OS / Arch | INSTALL | BUILD | CHECK | BUILD BIN | ||||||||||||||||
airpart 1.8.0 (landing page) Wancen Mu
| nebbiolo1 | Linux (Ubuntu 22.04.2 LTS) / x86_64 | OK | OK | OK | ![]() | ||||||||||||||||
palomino3 | Windows Server 2022 Datacenter / x64 | OK | OK | OK | OK | ![]() | ||||||||||||||||
merida1 | macOS 12.6.4 Monterey / x86_64 | OK | OK | OK | OK | ![]() | ||||||||||||||||
kjohnson2 | macOS 12.6.1 Monterey / arm64 | see weekly results here | ||||||||||||||||||||
Package 2/58 | Hostname | OS / Arch | INSTALL | BUILD | CHECK | BUILD BIN | ||||||||||||||||
AMARETTO 1.16.0 (landing page) Olivier Gevaert
| nebbiolo1 | Linux (Ubuntu 22.04.2 LTS) / x86_64 | OK | OK | WARNINGS | ![]() | ||||||||||||||||
palomino3 | Windows Server 2022 Datacenter / x64 | OK | OK | WARNINGS | OK | ![]() | ||||||||||||||||
merida1 | macOS 12.6.4 Monterey / x86_64 | OK | OK | WARNINGS | OK | ![]() | ||||||||||||||||
kjohnson2 | macOS 12.6.1 Monterey / arm64 | see weekly results here | ||||||||||||||||||||
Package 3/58 | Hostname | OS / Arch | INSTALL | BUILD | CHECK | BUILD BIN | ||||||||||||||||
ASURAT 1.4.0 (landing page) Keita Iida
| nebbiolo1 | Linux (Ubuntu 22.04.2 LTS) / x86_64 | OK | OK | OK | ![]() | ||||||||||||||||
palomino3 | Windows Server 2022 Datacenter / x64 | OK | OK | OK | OK | ![]() | ||||||||||||||||
merida1 | macOS 12.6.4 Monterey / x86_64 | OK | OK | OK | OK | ![]() | ||||||||||||||||
kjohnson2 | macOS 12.6.1 Monterey / arm64 | see weekly results here | ||||||||||||||||||||
Package 4/58 | Hostname | OS / Arch | INSTALL | BUILD | CHECK | BUILD BIN | ||||||||||||||||
BiocOncoTK 1.20.0 (landing page) VJ Carey
| nebbiolo1 | Linux (Ubuntu 22.04.2 LTS) / x86_64 | OK | OK | OK | ![]() | ||||||||||||||||
palomino3 | Windows Server 2022 Datacenter / x64 | OK | OK | OK | OK | ![]() | ||||||||||||||||
merida1 | macOS 12.6.4 Monterey / x86_64 | OK | OK | OK | OK | ![]() | ||||||||||||||||
kjohnson2 | macOS 12.6.1 Monterey / arm64 | see weekly results here | ||||||||||||||||||||
Package 5/58 | Hostname | OS / Arch | INSTALL | BUILD | CHECK | BUILD BIN | ||||||||||||||||
BioNERO 1.8.7 (landing page) Fabricio Almeida-Silva
| nebbiolo1 | Linux (Ubuntu 22.04.2 LTS) / x86_64 | OK | OK | OK | ![]() | ||||||||||||||||
palomino3 | Windows Server 2022 Datacenter / x64 | OK | OK | OK | OK | ![]() | ||||||||||||||||
merida1 | macOS 12.6.4 Monterey / x86_64 | OK | OK | OK | OK | ![]() | ||||||||||||||||
kjohnson2 | macOS 12.6.1 Monterey / arm64 | see weekly results here | ||||||||||||||||||||
Package 6/58 | Hostname | OS / Arch | INSTALL | BUILD | CHECK | BUILD BIN | ||||||||||||||||
blacksheepr 1.14.0 (landing page) RugglesLab
| nebbiolo1 | Linux (Ubuntu 22.04.2 LTS) / x86_64 | OK | OK | OK | ![]() | ||||||||||||||||
palomino3 | Windows Server 2022 Datacenter / x64 | OK | OK | OK | OK | ![]() | ||||||||||||||||
merida1 | macOS 12.6.4 Monterey / x86_64 | OK | OK | OK | OK | ![]() | ||||||||||||||||
kjohnson2 | macOS 12.6.1 Monterey / arm64 | see weekly results here | ||||||||||||||||||||
Package 7/58 | Hostname | OS / Arch | INSTALL | BUILD | CHECK | BUILD BIN | ||||||||||||||||
BloodGen3Module 1.8.0 (landing page) Darawan Rinchai
| nebbiolo1 | Linux (Ubuntu 22.04.2 LTS) / x86_64 | OK | OK | WARNINGS | ![]() | ||||||||||||||||
palomino3 | Windows Server 2022 Datacenter / x64 | OK | OK | WARNINGS | OK | ![]() | ||||||||||||||||
merida1 | macOS 12.6.4 Monterey / x86_64 | OK | OK | WARNINGS | OK | ![]() | ||||||||||||||||
kjohnson2 | macOS 12.6.1 Monterey / arm64 | see weekly results here | ||||||||||||||||||||
Package 8/58 | Hostname | OS / Arch | INSTALL | BUILD | CHECK | BUILD BIN | ||||||||||||||||
CATALYST 1.24.0 (landing page) Helena L. Crowell
| nebbiolo1 | Linux (Ubuntu 22.04.2 LTS) / x86_64 | OK | OK | OK | ![]() | ||||||||||||||||
palomino3 | Windows Server 2022 Datacenter / x64 | OK | OK | OK | OK | ![]() | ||||||||||||||||
merida1 | macOS 12.6.4 Monterey / x86_64 | OK | OK | OK | OK | ![]() | ||||||||||||||||
kjohnson2 | macOS 12.6.1 Monterey / arm64 | see weekly results here | ||||||||||||||||||||
Package 9/58 | Hostname | OS / Arch | INSTALL | BUILD | CHECK | BUILD BIN | ||||||||||||||||
celda 1.16.1 (landing page) Joshua Campbell
| nebbiolo1 | Linux (Ubuntu 22.04.2 LTS) / x86_64 | OK | OK | OK | ![]() | ||||||||||||||||
palomino3 | Windows Server 2022 Datacenter / x64 | OK | OK | OK | OK | ![]() | ||||||||||||||||
merida1 | macOS 12.6.4 Monterey / x86_64 | OK | OK | OK | OK | ![]() | ||||||||||||||||
kjohnson2 | macOS 12.6.1 Monterey / arm64 | see weekly results here | ||||||||||||||||||||
Package 10/58 | Hostname | OS / Arch | INSTALL | BUILD | CHECK | BUILD BIN | ||||||||||||||||
CeTF 1.12.0 (landing page) Carlos Alberto Oliveira de Biagi Junior
| nebbiolo1 | Linux (Ubuntu 22.04.2 LTS) / x86_64 | OK | OK | OK | ![]() | ||||||||||||||||
palomino3 | Windows Server 2022 Datacenter / x64 | OK | OK | OK | OK | ![]() | ||||||||||||||||
merida1 | macOS 12.6.4 Monterey / x86_64 | OK | OK | OK | OK | ![]() | ||||||||||||||||
kjohnson2 | macOS 12.6.1 Monterey / arm64 | see weekly results here | ||||||||||||||||||||
Package 11/58 | Hostname | OS / Arch | INSTALL | BUILD | CHECK | BUILD BIN | ||||||||||||||||
COCOA 2.14.0 (landing page) John Lawson
| nebbiolo1 | Linux (Ubuntu 22.04.2 LTS) / x86_64 | OK | OK | OK | ![]() | ||||||||||||||||
palomino3 | Windows Server 2022 Datacenter / x64 | OK | OK | OK | OK | ![]() | ||||||||||||||||
merida1 | macOS 12.6.4 Monterey / x86_64 | OK | OK | OK | OK | ![]() | ||||||||||||||||
kjohnson2 | macOS 12.6.1 Monterey / arm64 | see weekly results here | ||||||||||||||||||||
Package 12/58 | Hostname | OS / Arch | INSTALL | BUILD | CHECK | BUILD BIN | ||||||||||||||||
cola 2.6.0 (landing page) Zuguang Gu
| nebbiolo1 | Linux (Ubuntu 22.04.2 LTS) / x86_64 | OK | OK | OK | ![]() | ||||||||||||||||
palomino3 | Windows Server 2022 Datacenter / x64 | OK | OK | OK | OK | ![]() | ||||||||||||||||
merida1 | macOS 12.6.4 Monterey / x86_64 | OK | OK | OK | OK | ![]() | ||||||||||||||||
kjohnson2 | macOS 12.6.1 Monterey / arm64 | see weekly results here | ||||||||||||||||||||
Package 13/58 | Hostname | OS / Arch | INSTALL | BUILD | CHECK | BUILD BIN | ||||||||||||||||
COTAN 2.0.5 (landing page) Galfrè Silvia Giulia
| nebbiolo1 | Linux (Ubuntu 22.04.2 LTS) / x86_64 | OK | OK | OK | ![]() | ||||||||||||||||
palomino3 | Windows Server 2022 Datacenter / x64 | OK | OK | OK | OK | ![]() | ||||||||||||||||
merida1 | macOS 12.6.4 Monterey / x86_64 | OK | OK | OK | OK | ![]() | ||||||||||||||||
kjohnson2 | macOS 12.6.1 Monterey / arm64 | see weekly results here | ||||||||||||||||||||
Package 14/58 | Hostname | OS / Arch | INSTALL | BUILD | CHECK | BUILD BIN | ||||||||||||||||
cytoKernel 1.6.0 (landing page) Tusharkanti Ghosh
| nebbiolo1 | Linux (Ubuntu 22.04.2 LTS) / x86_64 | OK | OK | OK | ![]() | ||||||||||||||||
palomino3 | Windows Server 2022 Datacenter / x64 | OK | OK | OK | OK | ![]() | ||||||||||||||||
merida1 | macOS 12.6.4 Monterey / x86_64 | OK | OK | OK | OK | ![]() | ||||||||||||||||
kjohnson2 | macOS 12.6.1 Monterey / arm64 | see weekly results here | ||||||||||||||||||||
Package 15/58 | Hostname | OS / Arch | INSTALL | BUILD | CHECK | BUILD BIN | ||||||||||||||||
DEGreport 1.36.0 (landing page) Lorena Pantano
| nebbiolo1 | Linux (Ubuntu 22.04.2 LTS) / x86_64 | OK | OK | WARNINGS | ![]() | ||||||||||||||||
palomino3 | Windows Server 2022 Datacenter / x64 | OK | OK | WARNINGS | OK | ![]() | ||||||||||||||||
merida1 | macOS 12.6.4 Monterey / x86_64 | OK | OK | WARNINGS | OK | ![]() | ||||||||||||||||
kjohnson2 | macOS 12.6.1 Monterey / arm64 | see weekly results here | ||||||||||||||||||||
Package 16/58 | Hostname | OS / Arch | INSTALL | BUILD | CHECK | BUILD BIN | ||||||||||||||||
DEP 1.22.0 (landing page) Arne Smits
| nebbiolo1 | Linux (Ubuntu 22.04.2 LTS) / x86_64 | OK | OK | WARNINGS | ![]() | ||||||||||||||||
palomino3 | Windows Server 2022 Datacenter / x64 | OK | OK | WARNINGS | OK | ![]() | ||||||||||||||||
merida1 | macOS 12.6.4 Monterey / x86_64 | OK | OK | WARNINGS | OK | ![]() | ||||||||||||||||
kjohnson2 | macOS 12.6.1 Monterey / arm64 | see weekly results here | ||||||||||||||||||||
Package 17/58 | Hostname | OS / Arch | INSTALL | BUILD | CHECK | BUILD BIN | ||||||||||||||||
diffcyt 1.20.0 (landing page) Lukas M. Weber
| nebbiolo1 | Linux (Ubuntu 22.04.2 LTS) / x86_64 | OK | OK | OK | ![]() | ||||||||||||||||
palomino3 | Windows Server 2022 Datacenter / x64 | OK | OK | OK | OK | ![]() | ||||||||||||||||
merida1 | macOS 12.6.4 Monterey / x86_64 | OK | OK | OK | OK | ![]() | ||||||||||||||||
kjohnson2 | macOS 12.6.1 Monterey / arm64 | see weekly results here | ||||||||||||||||||||
Package 18/58 | Hostname | OS / Arch | INSTALL | BUILD | CHECK | BUILD BIN | ||||||||||||||||
diffUTR 1.8.0 (landing page) Pierre-Luc Germain
| nebbiolo1 | Linux (Ubuntu 22.04.2 LTS) / x86_64 | OK | OK | OK | ![]() | ||||||||||||||||
palomino3 | Windows Server 2022 Datacenter / x64 | OK | OK | OK | OK | ![]() | ||||||||||||||||
merida1 | macOS 12.6.4 Monterey / x86_64 | OK | OK | OK | OK | ![]() | ||||||||||||||||
kjohnson2 | macOS 12.6.1 Monterey / arm64 | see weekly results here | ||||||||||||||||||||
Package 19/58 | Hostname | OS / Arch | INSTALL | BUILD | CHECK | BUILD BIN | ||||||||||||||||
ELMER 2.24.1 (landing page) Tiago Chedraoui Silva
| nebbiolo1 | Linux (Ubuntu 22.04.2 LTS) / x86_64 | OK | OK | WARNINGS | ![]() | ||||||||||||||||
palomino3 | Windows Server 2022 Datacenter / x64 | OK | OK | WARNINGS | OK | ![]() | ||||||||||||||||
merida1 | macOS 12.6.4 Monterey / x86_64 | OK | ERROR | skipped | skipped | |||||||||||||||||
kjohnson2 | macOS 12.6.1 Monterey / arm64 | see weekly results here | ||||||||||||||||||||
Package 20/58 | Hostname | OS / Arch | INSTALL | BUILD | CHECK | BUILD BIN | ||||||||||||||||
EnrichedHeatmap 1.30.0 (landing page) Zuguang Gu
| nebbiolo1 | Linux (Ubuntu 22.04.2 LTS) / x86_64 | OK | OK | OK | ![]() | ||||||||||||||||
palomino3 | Windows Server 2022 Datacenter / x64 | OK | OK | OK | OK | ![]() | ||||||||||||||||
merida1 | macOS 12.6.4 Monterey / x86_64 | OK | OK | OK | OK | ![]() | ||||||||||||||||
kjohnson2 | macOS 12.6.1 Monterey / arm64 | see weekly results here | ||||||||||||||||||||
Package 21/58 | Hostname | OS / Arch | INSTALL | BUILD | CHECK | BUILD BIN | ||||||||||||||||
fCCAC 1.26.0 (landing page) Pedro Madrigal
| nebbiolo1 | Linux (Ubuntu 22.04.2 LTS) / x86_64 | OK | OK | OK | ![]() | ||||||||||||||||
palomino3 | Windows Server 2022 Datacenter / x64 | OK | OK | OK | OK | ![]() | ||||||||||||||||
merida1 | macOS 12.6.4 Monterey / x86_64 | OK | OK | OK | OK | ![]() | ||||||||||||||||
kjohnson2 | macOS 12.6.1 Monterey / arm64 | see weekly results here | ||||||||||||||||||||
Package 22/58 | Hostname | OS / Arch | INSTALL | BUILD | CHECK | BUILD BIN | ||||||||||||||||
FLAMES 1.6.0 (landing page) Oliver Voogd
| nebbiolo1 | Linux (Ubuntu 22.04.2 LTS) / x86_64 | OK | OK | WARNINGS | ![]() | ||||||||||||||||
palomino3 | Windows Server 2022 Datacenter / x64 | OK | OK | OK | OK | ![]() | ||||||||||||||||
merida1 | macOS 12.6.4 Monterey / x86_64 | OK | OK | WARNINGS | OK | ![]() | ||||||||||||||||
kjohnson2 | macOS 12.6.1 Monterey / arm64 | see weekly results here | ||||||||||||||||||||
Package 23/58 | Hostname | OS / Arch | INSTALL | BUILD | CHECK | BUILD BIN | ||||||||||||||||
gCrisprTools 2.6.0 (landing page) Russell Bainer
| nebbiolo1 | Linux (Ubuntu 22.04.2 LTS) / x86_64 | OK | OK | OK | ![]() | ||||||||||||||||
palomino3 | Windows Server 2022 Datacenter / x64 | OK | OK | OK | OK | ![]() | ||||||||||||||||
merida1 | macOS 12.6.4 Monterey / x86_64 | OK | OK | OK | OK | ![]() | ||||||||||||||||
kjohnson2 | macOS 12.6.1 Monterey / arm64 | see weekly results here | ||||||||||||||||||||
Package 24/58 | Hostname | OS / Arch | INSTALL | BUILD | CHECK | BUILD BIN | ||||||||||||||||
GeneTonic 2.4.2 (landing page) Federico Marini
| nebbiolo1 | Linux (Ubuntu 22.04.2 LTS) / x86_64 | OK | OK | OK | ![]() | ||||||||||||||||
palomino3 | Windows Server 2022 Datacenter / x64 | OK | OK | OK | OK | ![]() | ||||||||||||||||
merida1 | macOS 12.6.4 Monterey / x86_64 | OK | OK | OK | OK | ![]() | ||||||||||||||||
kjohnson2 | macOS 12.6.1 Monterey / arm64 | see weekly results here | ||||||||||||||||||||
Package 25/58 | Hostname | OS / Arch | INSTALL | BUILD | CHECK | BUILD BIN | ||||||||||||||||
GenomicSuperSignature 1.8.0 (landing page) Sehyun Oh
| nebbiolo1 | Linux (Ubuntu 22.04.2 LTS) / x86_64 | OK | OK | WARNINGS | ![]() | ||||||||||||||||
palomino3 | Windows Server 2022 Datacenter / x64 | OK | OK | WARNINGS | OK | ![]() | ||||||||||||||||
merida1 | macOS 12.6.4 Monterey / x86_64 | OK | OK | WARNINGS | OK | ![]() | ||||||||||||||||
kjohnson2 | macOS 12.6.1 Monterey / arm64 | see weekly results here | ||||||||||||||||||||
Package 26/58 | Hostname | OS / Arch | INSTALL | BUILD | CHECK | BUILD BIN | ||||||||||||||||
gmoviz 1.12.0 (landing page) Kathleen Zeglinski
| nebbiolo1 | Linux (Ubuntu 22.04.2 LTS) / x86_64 | OK | OK | OK | ![]() | ||||||||||||||||
palomino3 | Windows Server 2022 Datacenter / x64 | OK | OK | OK | OK | ![]() | ||||||||||||||||
merida1 | macOS 12.6.4 Monterey / x86_64 | OK | OK | OK | OK | ![]() | ||||||||||||||||
kjohnson2 | macOS 12.6.1 Monterey / arm64 | see weekly results here | ||||||||||||||||||||
Package 27/58 | Hostname | OS / Arch | INSTALL | BUILD | CHECK | BUILD BIN | ||||||||||||||||
GRaNIE 1.4.1 (landing page) Christian Arnold
| nebbiolo1 | Linux (Ubuntu 22.04.2 LTS) / x86_64 | OK | OK | WARNINGS | ![]() | ||||||||||||||||
palomino3 | Windows Server 2022 Datacenter / x64 | OK | OK | WARNINGS | OK | ![]() | ||||||||||||||||
merida1 | macOS 12.6.4 Monterey / x86_64 | OK | OK | WARNINGS | OK | ![]() | ||||||||||||||||
kjohnson2 | macOS 12.6.1 Monterey / arm64 | see weekly results here | ||||||||||||||||||||
Package 28/58 | Hostname | OS / Arch | INSTALL | BUILD | CHECK | BUILD BIN | ||||||||||||||||
hermes 1.4.0 (landing page) Daniel Sabanés Bové
| nebbiolo1 | Linux (Ubuntu 22.04.2 LTS) / x86_64 | OK | OK | OK | ![]() | ||||||||||||||||
palomino3 | Windows Server 2022 Datacenter / x64 | OK | OK | OK | OK | ![]() | ||||||||||||||||
merida1 | macOS 12.6.4 Monterey / x86_64 | OK | OK | OK | OK | ![]() | ||||||||||||||||
kjohnson2 | macOS 12.6.1 Monterey / arm64 | see weekly results here | ||||||||||||||||||||
Package 29/58 | Hostname | OS / Arch | INSTALL | BUILD | CHECK | BUILD BIN | ||||||||||||||||
InteractiveComplexHeatmap 1.8.0 (landing page) Zuguang Gu
| nebbiolo1 | Linux (Ubuntu 22.04.2 LTS) / x86_64 | OK | OK | OK | ![]() | ||||||||||||||||
palomino3 | Windows Server 2022 Datacenter / x64 | OK | OK | OK | OK | ![]() | ||||||||||||||||
merida1 | macOS 12.6.4 Monterey / x86_64 | OK | OK | OK | OK | ![]() | ||||||||||||||||
kjohnson2 | macOS 12.6.1 Monterey / arm64 | see weekly results here | ||||||||||||||||||||
Package 30/58 | Hostname | OS / Arch | INSTALL | BUILD | CHECK | BUILD BIN | ||||||||||||||||
InterCellar 2.6.0 (landing page) Marta Interlandi
| nebbiolo1 | Linux (Ubuntu 22.04.2 LTS) / x86_64 | OK | OK | OK | ![]() | ||||||||||||||||
palomino3 | Windows Server 2022 Datacenter / x64 | OK | OK | OK | OK | ![]() | ||||||||||||||||
merida1 | macOS 12.6.4 Monterey / x86_64 | OK | OK | OK | OK | ![]() | ||||||||||||||||
kjohnson2 | macOS 12.6.1 Monterey / arm64 | see weekly results here | ||||||||||||||||||||
Package 31/58 | Hostname | OS / Arch | INSTALL | BUILD | CHECK | BUILD BIN | ||||||||||||||||
iSEE 2.12.0 (landing page) Kevin Rue-Albrecht
| nebbiolo1 | Linux (Ubuntu 22.04.2 LTS) / x86_64 | OK | OK | OK | ![]() | ||||||||||||||||
palomino3 | Windows Server 2022 Datacenter / x64 | OK | OK | OK | OK | ![]() | ||||||||||||||||
merida1 | macOS 12.6.4 Monterey / x86_64 | OK | OK | OK | OK | ![]() | ||||||||||||||||
kjohnson2 | macOS 12.6.1 Monterey / arm64 | see weekly results here | ||||||||||||||||||||
Package 32/58 | Hostname | OS / Arch | INSTALL | BUILD | CHECK | BUILD BIN | ||||||||||||||||
LineagePulse 1.20.0 (landing page) David S Fischer
| nebbiolo1 | Linux (Ubuntu 22.04.2 LTS) / x86_64 | OK | ERROR | skipped | |||||||||||||||||
palomino3 | Windows Server 2022 Datacenter / x64 | OK | ERROR | skipped | skipped | |||||||||||||||||
merida1 | macOS 12.6.4 Monterey / x86_64 | OK | ERROR | skipped | skipped | |||||||||||||||||
kjohnson2 | macOS 12.6.1 Monterey / arm64 | see weekly results here | ||||||||||||||||||||
Package 33/58 | Hostname | OS / Arch | INSTALL | BUILD | CHECK | BUILD BIN | ||||||||||||||||
MatrixQCvis 1.8.0 (landing page) Thomas Naake
| nebbiolo1 | Linux (Ubuntu 22.04.2 LTS) / x86_64 | OK | OK | OK | ![]() | ||||||||||||||||
palomino3 | Windows Server 2022 Datacenter / x64 | OK | OK | OK | OK | ![]() | ||||||||||||||||
merida1 | macOS 12.6.4 Monterey / x86_64 | OK | OK | OK | OK | ![]() | ||||||||||||||||
kjohnson2 | macOS 12.6.1 Monterey / arm64 | see weekly results here | ||||||||||||||||||||
Package 34/58 | Hostname | OS / Arch | INSTALL | BUILD | CHECK | BUILD BIN | ||||||||||||||||
MesKit 1.10.0 (landing page) Mengni Liu
| nebbiolo1 | Linux (Ubuntu 22.04.2 LTS) / x86_64 | OK | OK | WARNINGS | ![]() | ||||||||||||||||
palomino3 | Windows Server 2022 Datacenter / x64 | OK | OK | WARNINGS | OK | ![]() | ||||||||||||||||
merida1 | macOS 12.6.4 Monterey / x86_64 | OK | OK | WARNINGS | OK | ![]() | ||||||||||||||||
kjohnson2 | macOS 12.6.1 Monterey / arm64 | see weekly results here | ||||||||||||||||||||
Package 35/58 | Hostname | OS / Arch | INSTALL | BUILD | CHECK | BUILD BIN | ||||||||||||||||
microbiomeMarker 1.6.0 (landing page) Yang Cao
| nebbiolo1 | Linux (Ubuntu 22.04.2 LTS) / x86_64 | OK | OK | OK | ![]() | ||||||||||||||||
palomino3 | Windows Server 2022 Datacenter / x64 | OK | OK | OK | OK | ![]() | ||||||||||||||||
merida1 | macOS 12.6.4 Monterey / x86_64 | OK | OK | OK | OK | ![]() | ||||||||||||||||
kjohnson2 | macOS 12.6.1 Monterey / arm64 | see weekly results here | ||||||||||||||||||||
Package 36/58 | Hostname | OS / Arch | INSTALL | BUILD | CHECK | BUILD BIN | ||||||||||||||||
MOMA 1.12.0 (landing page) Sunny Jones
| nebbiolo1 | Linux (Ubuntu 22.04.2 LTS) / x86_64 | OK | OK | OK | ![]() | ||||||||||||||||
palomino3 | Windows Server 2022 Datacenter / x64 | OK | OK | OK | OK | ![]() | ||||||||||||||||
merida1 | macOS 12.6.4 Monterey / x86_64 | OK | OK | OK | OK | ![]() | ||||||||||||||||
kjohnson2 | macOS 12.6.1 Monterey / arm64 | see weekly results here | ||||||||||||||||||||
Package 37/58 | Hostname | OS / Arch | INSTALL | BUILD | CHECK | BUILD BIN | ||||||||||||||||
monaLisa 1.6.0 (landing page) Michael Stadler
| nebbiolo1 | Linux (Ubuntu 22.04.2 LTS) / x86_64 | OK | OK | OK | ![]() | ||||||||||||||||
palomino3 | Windows Server 2022 Datacenter / x64 | OK | OK | OK | OK | ![]() | ||||||||||||||||
merida1 | macOS 12.6.4 Monterey / x86_64 | OK | OK | OK | OK | ![]() | ||||||||||||||||
kjohnson2 | macOS 12.6.1 Monterey / arm64 | see weekly results here | ||||||||||||||||||||
Package 38/58 | Hostname | OS / Arch | INSTALL | BUILD | CHECK | BUILD BIN | ||||||||||||||||
muscat 1.14.0 (landing page) Helena L. Crowell
| nebbiolo1 | Linux (Ubuntu 22.04.2 LTS) / x86_64 | OK | OK | OK | ![]() | ||||||||||||||||
palomino3 | Windows Server 2022 Datacenter / x64 | OK | OK | OK | OK | ![]() | ||||||||||||||||
merida1 | macOS 12.6.4 Monterey / x86_64 | OK | OK | OK | OK | ![]() | ||||||||||||||||
kjohnson2 | macOS 12.6.1 Monterey / arm64 | see weekly results here | ||||||||||||||||||||
Package 39/58 | Hostname | OS / Arch | INSTALL | BUILD | CHECK | BUILD BIN | ||||||||||||||||
musicatk 1.10.0 (landing page) Aaron Chevalier
| nebbiolo1 | Linux (Ubuntu 22.04.2 LTS) / x86_64 | OK | OK | OK | ![]() | ||||||||||||||||
palomino3 | Windows Server 2022 Datacenter / x64 | OK | OK | OK | OK | ![]() | ||||||||||||||||
merida1 | macOS 12.6.4 Monterey / x86_64 | OK | OK | OK | OK | ![]() | ||||||||||||||||
kjohnson2 | macOS 12.6.1 Monterey / arm64 | see weekly results here | ||||||||||||||||||||
Package 40/58 | Hostname | OS / Arch | INSTALL | BUILD | CHECK | BUILD BIN | ||||||||||||||||
MWASTools 1.24.0 (landing page) Andrea Rodriguez-Martinez
| nebbiolo1 | Linux (Ubuntu 22.04.2 LTS) / x86_64 | OK | OK | OK | ![]() | ||||||||||||||||
palomino3 | Windows Server 2022 Datacenter / x64 | OK | OK | OK | OK | ![]() | ||||||||||||||||
merida1 | macOS 12.6.4 Monterey / x86_64 | OK | OK | OK | OK | ![]() | ||||||||||||||||
kjohnson2 | macOS 12.6.1 Monterey / arm64 | see weekly results here | ||||||||||||||||||||
Package 41/58 | Hostname | OS / Arch | INSTALL | BUILD | CHECK | BUILD BIN | ||||||||||||||||
PathoStat 1.26.0 (landing page) Solaiappan Manimaran
| nebbiolo1 | Linux (Ubuntu 22.04.2 LTS) / x86_64 | OK | OK | OK | ![]() | ||||||||||||||||
palomino3 | Windows Server 2022 Datacenter / x64 | OK | OK | OK | OK | ![]() | ||||||||||||||||
merida1 | macOS 12.6.4 Monterey / x86_64 | OK | OK | OK | OK | ![]() | ||||||||||||||||
kjohnson2 | macOS 12.6.1 Monterey / arm64 | see weekly results here | ||||||||||||||||||||
Package 42/58 | Hostname | OS / Arch | INSTALL | BUILD | CHECK | BUILD BIN | ||||||||||||||||
PeacoQC 1.10.0 (landing page) Annelies Emmaneel
| nebbiolo1 | Linux (Ubuntu 22.04.2 LTS) / x86_64 | OK | OK | OK | ![]() | ||||||||||||||||
palomino3 | Windows Server 2022 Datacenter / x64 | OK | OK | OK | OK | ![]() | ||||||||||||||||
merida1 | macOS 12.6.4 Monterey / x86_64 | OK | OK | OK | OK | ![]() | ||||||||||||||||
kjohnson2 | macOS 12.6.1 Monterey / arm64 | see weekly results here | ||||||||||||||||||||
Package 43/58 | Hostname | OS / Arch | INSTALL | BUILD | CHECK | BUILD BIN | ||||||||||||||||
pipeComp 1.10.0 (landing page) Pierre-Luc Germain
| nebbiolo1 | Linux (Ubuntu 22.04.2 LTS) / x86_64 | OK | OK | OK | ![]() | ||||||||||||||||
palomino3 | Windows Server 2022 Datacenter / x64 | OK | OK | OK | OK | ![]() | ||||||||||||||||
merida1 | macOS 12.6.4 Monterey / x86_64 | OK | OK | OK | OK | ![]() | ||||||||||||||||
kjohnson2 | macOS 12.6.1 Monterey / arm64 | see weekly results here | ||||||||||||||||||||
Package 44/58 | Hostname | OS / Arch | INSTALL | BUILD | CHECK | BUILD BIN | ||||||||||||||||
POMA 1.10.0 (landing page) Pol Castellano-Escuder
| nebbiolo1 | Linux (Ubuntu 22.04.2 LTS) / x86_64 | OK | OK | OK | ![]() | ||||||||||||||||
palomino3 | Windows Server 2022 Datacenter / x64 | OK | OK | OK | OK | ![]() | ||||||||||||||||
merida1 | macOS 12.6.4 Monterey / x86_64 | OK | OK | OK | OK | ![]() | ||||||||||||||||
kjohnson2 | macOS 12.6.1 Monterey / arm64 | see weekly results here | ||||||||||||||||||||
Package 45/58 | Hostname | OS / Arch | INSTALL | BUILD | CHECK | BUILD BIN | ||||||||||||||||
profileplyr 1.16.0 (landing page) Tom Carroll
| nebbiolo1 | Linux (Ubuntu 22.04.2 LTS) / x86_64 | OK | OK | OK | ![]() | ||||||||||||||||
palomino3 | Windows Server 2022 Datacenter / x64 | OK | OK | OK | OK | ![]() | ||||||||||||||||
merida1 | macOS 12.6.4 Monterey / x86_64 | OK | OK | OK | OK | ![]() | ||||||||||||||||
kjohnson2 | macOS 12.6.1 Monterey / arm64 | see weekly results here | ||||||||||||||||||||
Package 46/58 | Hostname | OS / Arch | INSTALL | BUILD | CHECK | BUILD BIN | ||||||||||||||||
recoup 1.28.0 (landing page) Panagiotis Moulos
| nebbiolo1 | Linux (Ubuntu 22.04.2 LTS) / x86_64 | OK | OK | OK | ![]() | ||||||||||||||||
palomino3 | Windows Server 2022 Datacenter / x64 | OK | OK | OK | OK | ![]() | ||||||||||||||||
merida1 | macOS 12.6.4 Monterey / x86_64 | OK | OK | OK | OK | ![]() | ||||||||||||||||
kjohnson2 | macOS 12.6.1 Monterey / arm64 | see weekly results here | ||||||||||||||||||||
Package 47/58 | Hostname | OS / Arch | INSTALL | BUILD | CHECK | BUILD BIN | ||||||||||||||||
RLSeq 1.6.0 (landing page) Henry Miller
| nebbiolo1 | Linux (Ubuntu 22.04.2 LTS) / x86_64 | OK | OK | OK | ![]() | ||||||||||||||||
palomino3 | Windows Server 2022 Datacenter / x64 | OK | OK | OK | OK | ![]() | ||||||||||||||||
merida1 | macOS 12.6.4 Monterey / x86_64 | OK | OK | ERROR | OK | |||||||||||||||||
kjohnson2 | macOS 12.6.1 Monterey / arm64 | see weekly results here | ||||||||||||||||||||
Package 48/58 | Hostname | OS / Arch | INSTALL | BUILD | CHECK | BUILD BIN | ||||||||||||||||
scRNAseqApp 1.0.1 (landing page) Jianhong Ou
| nebbiolo1 | Linux (Ubuntu 22.04.2 LTS) / x86_64 | OK | OK | OK | ![]() | ||||||||||||||||
palomino3 | Windows Server 2022 Datacenter / x64 | OK | OK | OK | OK | ![]() | ||||||||||||||||
merida1 | macOS 12.6.4 Monterey / x86_64 | OK | OK | OK | OK | ![]() | ||||||||||||||||
kjohnson2 | macOS 12.6.1 Monterey / arm64 | see weekly results here | ||||||||||||||||||||
Package 49/58 | Hostname | OS / Arch | INSTALL | BUILD | CHECK | BUILD BIN | ||||||||||||||||
sechm 1.8.0 (landing page) Pierre-Luc Germain
| nebbiolo1 | Linux (Ubuntu 22.04.2 LTS) / x86_64 | OK | OK | OK | ![]() | ||||||||||||||||
palomino3 | Windows Server 2022 Datacenter / x64 | OK | OK | OK | OK | ![]() | ||||||||||||||||
merida1 | macOS 12.6.4 Monterey / x86_64 | OK | OK | OK | OK | ![]() | ||||||||||||||||
kjohnson2 | macOS 12.6.1 Monterey / arm64 | see weekly results here | ||||||||||||||||||||
Package 50/58 | Hostname | OS / Arch | INSTALL | BUILD | CHECK | BUILD BIN | ||||||||||||||||
segmenter 1.6.0 (landing page) Mahmoud Ahmed
| nebbiolo1 | Linux (Ubuntu 22.04.2 LTS) / x86_64 | OK | ERROR | skipped | |||||||||||||||||
palomino3 | Windows Server 2022 Datacenter / x64 | OK | OK | OK | OK | ![]() | ||||||||||||||||
merida1 | macOS 12.6.4 Monterey / x86_64 | OK | OK | OK | OK | ![]() | ||||||||||||||||
kjohnson2 | macOS 12.6.1 Monterey / arm64 | see weekly results here | ||||||||||||||||||||
Package 51/58 | Hostname | OS / Arch | INSTALL | BUILD | CHECK | BUILD BIN | ||||||||||||||||
signifinder 1.2.1 (landing page) Stefania Pirrotta
| nebbiolo1 | Linux (Ubuntu 22.04.2 LTS) / x86_64 | OK | OK | OK | ![]() | ||||||||||||||||
palomino3 | Windows Server 2022 Datacenter / x64 | OK | OK | OK | OK | ![]() | ||||||||||||||||
merida1 | macOS 12.6.4 Monterey / x86_64 | OK | OK | OK | OK | ![]() | ||||||||||||||||
kjohnson2 | macOS 12.6.1 Monterey / arm64 | see weekly results here | ||||||||||||||||||||
Package 52/58 | Hostname | OS / Arch | INSTALL | BUILD | CHECK | BUILD BIN | ||||||||||||||||
simplifyEnrichment 1.10.0 (landing page) Zuguang Gu
| nebbiolo1 | Linux (Ubuntu 22.04.2 LTS) / x86_64 | OK | OK | OK | ![]() | ||||||||||||||||
palomino3 | Windows Server 2022 Datacenter / x64 | OK | OK | OK | OK | ![]() | ||||||||||||||||
merida1 | macOS 12.6.4 Monterey / x86_64 | OK | OK | OK | OK | ![]() | ||||||||||||||||
kjohnson2 | macOS 12.6.1 Monterey / arm64 | see weekly results here | ||||||||||||||||||||
Package 53/58 | Hostname | OS / Arch | INSTALL | BUILD | CHECK | BUILD BIN | ||||||||||||||||
singleCellTK 2.10.0 (landing page) Yichen Wang
| nebbiolo1 | Linux (Ubuntu 22.04.2 LTS) / x86_64 | OK | OK | OK | ![]() | ||||||||||||||||
palomino3 | Windows Server 2022 Datacenter / x64 | OK | OK | OK | OK | ![]() | ||||||||||||||||
merida1 | macOS 12.6.4 Monterey / x86_64 | OK | OK | OK | OK | ![]() | ||||||||||||||||
kjohnson2 | macOS 12.6.1 Monterey / arm64 | see weekly results here | ||||||||||||||||||||
Package 54/58 | Hostname | OS / Arch | INSTALL | BUILD | CHECK | BUILD BIN | ||||||||||||||||
sparrow 1.6.0 (landing page) Steve Lianoglou
| nebbiolo1 | Linux (Ubuntu 22.04.2 LTS) / x86_64 | OK | OK | OK | ![]() | ||||||||||||||||
palomino3 | Windows Server 2022 Datacenter / x64 | OK | OK | OK | OK | ![]() | ||||||||||||||||
merida1 | macOS 12.6.4 Monterey / x86_64 | OK | OK | OK | OK | ![]() | ||||||||||||||||
kjohnson2 | macOS 12.6.1 Monterey / arm64 | see weekly results here | ||||||||||||||||||||
Package 55/58 | Hostname | OS / Arch | INSTALL | BUILD | CHECK | BUILD BIN | ||||||||||||||||
SPONGE 1.22.0 (landing page) Markus List
| nebbiolo1 | Linux (Ubuntu 22.04.2 LTS) / x86_64 | OK | OK | WARNINGS | ![]() | ||||||||||||||||
palomino3 | Windows Server 2022 Datacenter / x64 | OK | OK | WARNINGS | OK | ![]() | ||||||||||||||||
merida1 | macOS 12.6.4 Monterey / x86_64 | OK | OK | WARNINGS | OK | ![]() | ||||||||||||||||
kjohnson2 | macOS 12.6.1 Monterey / arm64 | see weekly results here | ||||||||||||||||||||
Package 56/58 | Hostname | OS / Arch | INSTALL | BUILD | CHECK | BUILD BIN | ||||||||||||||||
TBSignatureProfiler 1.12.0 (landing page) Aubrey R. Odom-Mabey
| nebbiolo1 | Linux (Ubuntu 22.04.2 LTS) / x86_64 | OK | OK | OK | ![]() | ||||||||||||||||
palomino3 | Windows Server 2022 Datacenter / x64 | OK | OK | OK | OK | ![]() | ||||||||||||||||
merida1 | macOS 12.6.4 Monterey / x86_64 | OK | OK | OK | OK | ![]() | ||||||||||||||||
kjohnson2 | macOS 12.6.1 Monterey / arm64 | see weekly results here | ||||||||||||||||||||
Package 57/58 | Hostname | OS / Arch | INSTALL | BUILD | CHECK | BUILD BIN | ||||||||||||||||
Xeva 1.16.0 (landing page) Benjamin Haibe-Kains
| nebbiolo1 | Linux (Ubuntu 22.04.2 LTS) / x86_64 | OK | OK | OK | ![]() | ||||||||||||||||
palomino3 | Windows Server 2022 Datacenter / x64 | OK | OK | OK | OK | ![]() | ||||||||||||||||
merida1 | macOS 12.6.4 Monterey / x86_64 | OK | OK | OK | OK | ![]() | ||||||||||||||||
kjohnson2 | macOS 12.6.1 Monterey / arm64 | see weekly results here | ||||||||||||||||||||
Package 58/58 | Hostname | OS / Arch | INSTALL | BUILD | CHECK | BUILD BIN | ||||||||||||||||
YAPSA 1.26.8 (landing page) Zuguang Gu
| nebbiolo1 | Linux (Ubuntu 22.04.2 LTS) / x86_64 | OK | OK | OK | ![]() | ||||||||||||||||
palomino3 | Windows Server 2022 Datacenter / x64 | OK | OK | OK | OK | ![]() | ||||||||||||||||
merida1 | macOS 12.6.4 Monterey / x86_64 | OK | OK | OK | OK | ![]() | ||||||||||||||||
kjohnson2 | macOS 12.6.1 Monterey / arm64 | see weekly results here | ||||||||||||||||||||