Back to Multiple platform build/check report for BioC 3.17: simplified long |
|
This page was generated on 2023-10-16 11:36:23 -0400 (Mon, 16 Oct 2023).
Hostname | OS | Arch (*) | R version | Installed pkgs |
---|---|---|---|---|
nebbiolo1 | Linux (Ubuntu 22.04.2 LTS) | x86_64 | 4.3.1 (2023-06-16) -- "Beagle Scouts" | 4626 |
palomino3 | Windows Server 2022 Datacenter | x64 | 4.3.1 (2023-06-16 ucrt) -- "Beagle Scouts" | 4379 |
merida1 | macOS 12.6.4 Monterey | x86_64 | 4.3.1 (2023-06-16) -- "Beagle Scouts" | 4395 |
Click on any hostname to see more info about the system (e.g. compilers) (*) as reported by 'uname -p', except on Windows and Mac OS X |
Package 1344/2230 | Hostname | OS / Arch | INSTALL | BUILD | CHECK | BUILD BIN | ||||||||
musicatk 1.10.0 (landing page) Aaron Chevalier
| nebbiolo1 | Linux (Ubuntu 22.04.2 LTS) / x86_64 | OK | OK | OK | ![]() | ||||||||
palomino3 | Windows Server 2022 Datacenter / x64 | OK | OK | OK | OK | ![]() | ||||||||
merida1 | macOS 12.6.4 Monterey / x86_64 | OK | OK | OK | OK | ![]() | ||||||||
kjohnson2 | macOS 12.6.1 Monterey / arm64 | see weekly results here | ||||||||||||
To the developers/maintainers of the musicatk package: - Allow up to 24 hours (and sometimes 48 hours) for your latest push to git@git.bioconductor.org:packages/musicatk.git to reflect on this report. See Troubleshooting Build Report for more information. - Use the following Renviron settings to reproduce errors and warnings. - If 'R CMD check' started to fail recently on the Linux builder(s) over a missing dependency, add the missing dependency to 'Suggests:' in your DESCRIPTION file. See Renviron.bioc for more information. |
Package: musicatk |
Version: 1.10.0 |
Command: F:\biocbuild\bbs-3.17-bioc\R\bin\R.exe CMD check --no-multiarch --install=check:musicatk.install-out.txt --library=F:\biocbuild\bbs-3.17-bioc\R\library --no-vignettes --timings musicatk_1.10.0.tar.gz |
StartedAt: 2023-10-16 04:35:25 -0400 (Mon, 16 Oct 2023) |
EndedAt: 2023-10-16 04:41:28 -0400 (Mon, 16 Oct 2023) |
EllapsedTime: 362.6 seconds |
RetCode: 0 |
Status: OK |
CheckDir: musicatk.Rcheck |
Warnings: 0 |
############################################################################## ############################################################################## ### ### Running command: ### ### F:\biocbuild\bbs-3.17-bioc\R\bin\R.exe CMD check --no-multiarch --install=check:musicatk.install-out.txt --library=F:\biocbuild\bbs-3.17-bioc\R\library --no-vignettes --timings musicatk_1.10.0.tar.gz ### ############################################################################## ############################################################################## * using log directory 'F:/biocbuild/bbs-3.17-bioc/meat/musicatk.Rcheck' * using R version 4.3.1 (2023-06-16 ucrt) * using platform: x86_64-w64-mingw32 (64-bit) * R was compiled by gcc.exe (GCC) 12.2.0 GNU Fortran (GCC) 12.2.0 * running under: Windows Server 2022 x64 (build 20348) * using session charset: UTF-8 * using option '--no-vignettes' * checking for file 'musicatk/DESCRIPTION' ... OK * checking extension type ... Package * this is package 'musicatk' version '1.10.0' * package encoding: UTF-8 * checking package namespace information ... OK * checking package dependencies ... OK * checking if this is a source package ... OK * checking if there is a namespace ... OK * checking for hidden files and directories ... OK * checking for portable file names ... OK * checking whether package 'musicatk' can be installed ... OK * checking installed package size ... OK * checking package directory ... OK * checking 'build' directory ... OK * checking DESCRIPTION meta-information ... OK * checking top-level files ... OK * checking for left-over files ... OK * checking index information ... OK * checking package subdirectories ... OK * checking R files for non-ASCII characters ... OK * checking R files for syntax errors ... OK * checking whether the package can be loaded ... OK * checking whether the package can be loaded with stated dependencies ... OK * checking whether the package can be unloaded cleanly ... OK * checking whether the namespace can be loaded with stated dependencies ... OK * checking whether the namespace can be unloaded cleanly ... OK * checking dependencies in R code ... OK * checking S3 generic/method consistency ... OK * checking replacement functions ... OK * checking foreign function calls ... OK * checking R code for possible problems ... OK * checking Rd files ... OK * checking Rd metadata ... OK * checking Rd cross-references ... OK * checking for missing documentation entries ... OK * checking for code/documentation mismatches ... OK * checking Rd \usage sections ... OK * checking Rd contents ... OK * checking for unstated dependencies in examples ... OK * checking contents of 'data' directory ... OK * checking data for non-ASCII characters ... OK * checking LazyData ... OK * checking data for ASCII and uncompressed saves ... OK * checking files in 'vignettes' ... OK * checking examples ... OK Examples with CPU (user + system) or elapsed time > 5s user system elapsed build_standard_table 6.73 1.61 8.35 plot_cluster 4.51 0.27 7.06 create_musica 0.89 0.24 8.37 * checking for unstated dependencies in 'tests' ... OK * checking tests ... Running 'testthat.R' OK * checking for unstated dependencies in vignettes ... OK * checking package vignettes in 'inst/doc' ... OK * checking running R code from vignettes ... SKIPPED * checking re-building of vignette outputs ... SKIPPED * checking PDF version of manual ... OK * DONE Status: OK
musicatk.Rcheck/00install.out
############################################################################## ############################################################################## ### ### Running command: ### ### F:\biocbuild\bbs-3.17-bioc\R\bin\R.exe CMD INSTALL musicatk ### ############################################################################## ############################################################################## * installing to library 'F:/biocbuild/bbs-3.17-bioc/R/library' * installing *source* package 'musicatk' ... ** using staged installation ** R ** data *** moving datasets to lazyload DB ** inst ** byte-compile and prepare package for lazy loading ** help *** installing help indices ** building package indices ** installing vignettes ** testing if installed package can be loaded from temporary location ** testing if installed package can be loaded from final location ** testing if installed package keeps a record of temporary installation path * DONE (musicatk)
musicatk.Rcheck/tests/testthat.Rout
R version 4.3.1 (2023-06-16 ucrt) -- "Beagle Scouts" Copyright (C) 2023 The R Foundation for Statistical Computing Platform: x86_64-w64-mingw32/x64 (64-bit) R is free software and comes with ABSOLUTELY NO WARRANTY. You are welcome to redistribute it under certain conditions. Type 'license()' or 'licence()' for distribution details. R is a collaborative project with many contributors. Type 'contributors()' for more information and 'citation()' on how to cite R or R packages in publications. Type 'demo()' for some demos, 'help()' for on-line help, or 'help.start()' for an HTML browser interface to help. Type 'q()' to quit R. > library("testthat") > library("musicatk") Loading required package: NMF Loading required package: registry Loading required package: rngtools Loading required package: cluster NMF - BioConductor layer [OK] | Shared memory capabilities [NO: windows] | Cores 2/2 Attaching package: 'NMF' The following object is masked from 'package:testthat': compare > > test_check("musicatk") [ FAIL 0 | WARN 5 | SKIP 0 | PASS 42 ] [ FAIL 0 | WARN 5 | SKIP 0 | PASS 42 ] > > proc.time() user system elapsed 19.57 1.71 21.18
musicatk.Rcheck/musicatk-Ex.timings
name | user | system | elapsed | |
add_flank_to_variants | 1.94 | 0.36 | 2.29 | |
add_variant_type | 0.00 | 0.01 | 0.02 | |
annotate_replication_strand | 1.05 | 0.02 | 1.06 | |
annotate_transcript_strand | 1.04 | 0.05 | 1.08 | |
annotate_variant_length | 0.01 | 0.00 | 0.02 | |
annotate_variant_type | 0 | 0 | 0 | |
auto_predict_grid | 2.83 | 0.01 | 2.86 | |
build_custom_table | 0.89 | 0.02 | 0.90 | |
build_standard_table | 6.73 | 1.61 | 8.35 | |
built_tables | 0.02 | 0.00 | 0.01 | |
cluster_exposure | 0.00 | 0.01 | 0.02 | |
combine_count_tables | 2.12 | 0.50 | 2.63 | |
combine_predict_grid | 2.04 | 0.03 | 2.09 | |
compare_cosmic_v2 | 2.22 | 0.05 | 2.28 | |
compare_cosmic_v3 | 1.20 | 0.01 | 1.22 | |
compare_results | 1.44 | 0.03 | 1.47 | |
cosmic_v2_subtype_map | 0 | 0 | 0 | |
create_musica | 0.89 | 0.24 | 8.37 | |
create_umap | 4.36 | 0.11 | 4.66 | |
discover_signatures | 0.64 | 0.15 | 1.15 | |
drop_annotation | 0.00 | 0.02 | 0.02 | |
exposure_differential_analysis | 0.00 | 0.00 | 0.02 | |
exposures | 0.02 | 0.00 | 0.01 | |
extract_count_tables | 0.00 | 0.02 | 0.02 | |
extract_variants | 4.42 | 0.04 | 4.51 | |
extract_variants_from_maf | 0.09 | 0.00 | 0.11 | |
extract_variants_from_maf_file | 0.08 | 0.00 | 0.08 | |
extract_variants_from_matrix | 0.09 | 0.03 | 0.12 | |
extract_variants_from_vcf | 0.69 | 0.05 | 0.73 | |
extract_variants_from_vcf_file | 0.48 | 0.00 | 0.49 | |
generate_result_grid | 0.31 | 0.00 | 0.31 | |
get_musica | 0 | 0 | 0 | |
k_select | 0.74 | 0.02 | 0.88 | |
musicatk | 0 | 0 | 0 | |
name_signatures | 0.00 | 0.01 | 0.01 | |
pipe | 0 | 0 | 0 | |
plot_cluster | 4.51 | 0.27 | 7.06 | |
plot_differential_analysis | 0.19 | 0.00 | 0.19 | |
plot_exposures | 0.19 | 0.00 | 0.19 | |
plot_heatmap | 0.84 | 0.40 | 0.69 | |
plot_sample_counts | 0.78 | 0.35 | 0.68 | |
plot_sample_reconstruction_error | 0.72 | 0.00 | 0.72 | |
plot_signatures | 0.64 | 0.01 | 0.66 | |
plot_umap | 4.27 | 0.05 | 4.33 | |
predict_exposure | 1.16 | 0.23 | 1.39 | |
rc | 0 | 0 | 0 | |
samp_annot | 0.00 | 0.02 | 0.01 | |
sample_names | 0.01 | 0.00 | 0.02 | |
select_genome | 0 | 0 | 0 | |
signatures | 0.00 | 0.02 | 0.02 | |
subset_musica_by_annotation | 0.00 | 0.00 | 0.01 | |
subset_musica_by_counts | 0.02 | 0.00 | 0.02 | |
subset_variant_by_type | 0.01 | 0.00 | 0.01 | |
subset_variants_by_samples | 0 | 0 | 0 | |
table_selected | 0.02 | 0.00 | 0.02 | |
tables | 0.00 | 0.01 | 0.01 | |
umap | 0.00 | 0.02 | 0.02 | |
variants | 0.01 | 0.00 | 0.01 | |