| Back to Multiple platform build/check report for BioC 3.17: simplified long |
|
This page was generated on 2023-10-16 11:37:31 -0400 (Mon, 16 Oct 2023).
| Hostname | OS | Arch (*) | R version | Installed pkgs |
|---|---|---|---|---|
| nebbiolo1 | Linux (Ubuntu 22.04.2 LTS) | x86_64 | 4.3.1 (2023-06-16) -- "Beagle Scouts" | 4626 |
| palomino3 | Windows Server 2022 Datacenter | x64 | 4.3.1 (2023-06-16 ucrt) -- "Beagle Scouts" | 4379 |
| merida1 | macOS 12.6.4 Monterey | x86_64 | 4.3.1 (2023-06-16) -- "Beagle Scouts" | 4395 |
| Click on any hostname to see more info about the system (e.g. compilers) (*) as reported by 'uname -p', except on Windows and Mac OS X | ||||
| Package 1873/2230 | Hostname | OS / Arch | INSTALL | BUILD | CHECK | BUILD BIN | ||||||||
| segmenter 1.6.0 (landing page) Mahmoud Ahmed
| nebbiolo1 | Linux (Ubuntu 22.04.2 LTS) / x86_64 | OK | ERROR | skipped | |||||||||
| palomino3 | Windows Server 2022 Datacenter / x64 | OK | OK | OK | OK | |||||||||
| merida1 | macOS 12.6.4 Monterey / x86_64 | OK | OK | OK | OK | |||||||||
| kjohnson2 | macOS 12.6.1 Monterey / arm64 | see weekly results here | ||||||||||||
|
To the developers/maintainers of the segmenter package: - Allow up to 24 hours (and sometimes 48 hours) for your latest push to git@git.bioconductor.org:packages/segmenter.git to reflect on this report. See Troubleshooting Build Report for more information. - Use the following Renviron settings to reproduce errors and warnings. - If 'R CMD check' started to fail recently on the Linux builder(s) over a missing dependency, add the missing dependency to 'Suggests:' in your DESCRIPTION file. See Renviron.bioc for more information. |
| Package: segmenter |
| Version: 1.6.0 |
| Command: /Library/Frameworks/R.framework/Resources/bin/R CMD check --install=check:segmenter.install-out.txt --library=/Library/Frameworks/R.framework/Resources/library --no-vignettes --timings segmenter_1.6.0.tar.gz |
| StartedAt: 2023-10-16 06:56:19 -0400 (Mon, 16 Oct 2023) |
| EndedAt: 2023-10-16 07:16:08 -0400 (Mon, 16 Oct 2023) |
| EllapsedTime: 1188.7 seconds |
| RetCode: 0 |
| Status: OK |
| CheckDir: segmenter.Rcheck |
| Warnings: 0 |
##############################################################################
##############################################################################
###
### Running command:
###
### /Library/Frameworks/R.framework/Resources/bin/R CMD check --install=check:segmenter.install-out.txt --library=/Library/Frameworks/R.framework/Resources/library --no-vignettes --timings segmenter_1.6.0.tar.gz
###
##############################################################################
##############################################################################
* using log directory ‘/Users/biocbuild/bbs-3.17-bioc/meat/segmenter.Rcheck’
* using R version 4.3.1 (2023-06-16)
* using platform: x86_64-apple-darwin20 (64-bit)
* R was compiled by
Apple clang version 14.0.3 (clang-1403.0.22.14.1)
GNU Fortran (GCC) 12.2.0
* running under: macOS Monterey 12.6.4
* using session charset: UTF-8
* using option ‘--no-vignettes’
* checking for file ‘segmenter/DESCRIPTION’ ... OK
* checking extension type ... Package
* this is package ‘segmenter’ version ‘1.6.0’
* package encoding: UTF-8
* checking package namespace information ... OK
* checking package dependencies ... OK
* checking if this is a source package ... OK
* checking if there is a namespace ... OK
* checking for hidden files and directories ... OK
* checking for portable file names ... OK
* checking for sufficient/correct file permissions ... OK
* checking whether package ‘segmenter’ can be installed ... OK
* checking installed package size ... OK
* checking package directory ... OK
* checking ‘build’ directory ... OK
* checking DESCRIPTION meta-information ... OK
* checking top-level files ... OK
* checking for left-over files ... OK
* checking index information ... OK
* checking package subdirectories ... OK
* checking R files for non-ASCII characters ... OK
* checking R files for syntax errors ... OK
* checking whether the package can be loaded ... OK
* checking whether the package can be loaded with stated dependencies ... OK
* checking whether the package can be unloaded cleanly ... OK
* checking whether the namespace can be loaded with stated dependencies ... OK
* checking whether the namespace can be unloaded cleanly ... OK
* checking dependencies in R code ... OK
* checking S3 generic/method consistency ... OK
* checking replacement functions ... OK
* checking foreign function calls ... OK
* checking R code for possible problems ... OK
* checking Rd files ... OK
* checking Rd metadata ... OK
* checking Rd cross-references ... OK
* checking for missing documentation entries ... OK
* checking for code/documentation mismatches ... OK
* checking Rd \usage sections ... OK
* checking Rd contents ... OK
* checking for unstated dependencies in examples ... OK
* checking contents of ‘data’ directory ... OK
* checking data for non-ASCII characters ... OK
* checking LazyData ... OK
* checking data for ASCII and uncompressed saves ... OK
* checking files in ‘vignettes’ ... OK
* checking examples ... OK
Examples with CPU (user + system) or elapsed time > 5s
user system elapsed
learn_model 48.812 3.552 34.507
annotate_segments 41.445 2.173 58.970
binarize_bam 20.217 9.601 23.950
read_bins_file 3.807 1.581 7.053
* checking for unstated dependencies in ‘tests’ ... OK
* checking tests ...
Running ‘testthat.R’
OK
* checking for unstated dependencies in vignettes ... OK
* checking package vignettes in ‘inst/doc’ ... OK
* checking running R code from vignettes ... SKIPPED
* checking re-building of vignette outputs ... SKIPPED
* checking PDF version of manual ... OK
* DONE
Status: OK
segmenter.Rcheck/00install.out
############################################################################## ############################################################################## ### ### Running command: ### ### /Library/Frameworks/R.framework/Resources/bin/R CMD INSTALL segmenter ### ############################################################################## ############################################################################## * installing to library ‘/Library/Frameworks/R.framework/Versions/4.3-x86_64/Resources/library’ * installing *source* package ‘segmenter’ ... ** using staged installation ** R ** data *** moving datasets to lazyload DB ** inst ** byte-compile and prepare package for lazy loading ** help *** installing help indices ** building package indices ** installing vignettes ** testing if installed package can be loaded from temporary location ** testing if installed package can be loaded from final location ** testing if installed package keeps a record of temporary installation path * DONE (segmenter)
segmenter.Rcheck/tests/testthat.Rout
R version 4.3.1 (2023-06-16) -- "Beagle Scouts"
Copyright (C) 2023 The R Foundation for Statistical Computing
Platform: x86_64-apple-darwin20 (64-bit)
R is free software and comes with ABSOLUTELY NO WARRANTY.
You are welcome to redistribute it under certain conditions.
Type 'license()' or 'licence()' for distribution details.
R is a collaborative project with many contributors.
Type 'contributors()' for more information and
'citation()' on how to cite R or R packages in publications.
Type 'demo()' for some demos, 'help()' for on-line help, or
'help.start()' for an HTML browser interface to help.
Type 'q()' to quit R.
> library(testthat)
> library(segmenter)
>
> test_check("segmenter")
[ FAIL 0 | WARN 0 | SKIP 0 | PASS 123 ]
>
> proc.time()
user system elapsed
356.069 19.343 326.130
segmenter.Rcheck/segmenter-Ex.timings
| name | user | system | elapsed | |
| accessors | 0.329 | 0.026 | 0.485 | |
| annotate_segments | 41.445 | 2.173 | 58.970 | |
| binarize_bam | 20.217 | 9.601 | 23.950 | |
| compare_models | 0.004 | 0.001 | 0.006 | |
| emissions_file | 0.001 | 0.001 | 0.001 | |
| enrichment_files | 0.000 | 0.001 | 0.001 | |
| get_frequency | 0.027 | 0.001 | 0.028 | |
| get_width | 0.868 | 1.555 | 3.113 | |
| learn_model | 48.812 | 3.552 | 34.507 | |
| methods | 0.001 | 0.001 | 0.003 | |
| model_file | 0.000 | 0.001 | 0.001 | |
| overlap_files | 0.001 | 0.001 | 0.004 | |
| plot_heatmap | 0.999 | 0.040 | 1.376 | |
| read_bam_file | 0.041 | 0.005 | 0.072 | |
| read_bins_file | 3.807 | 1.581 | 7.053 | |
| read_cellmark_file | 0.005 | 0.001 | 0.008 | |
| read_chromsize_file | 0.004 | 0.003 | 0.012 | |
| read_emissions_file | 0.003 | 0.001 | 0.004 | |
| read_enrichment_file | 0.004 | 0.002 | 0.010 | |
| read_model_file | 0.009 | 0.005 | 0.017 | |
| read_overlap_file | 0.003 | 0.001 | 0.006 | |
| read_segements_file | 0.052 | 0.003 | 0.066 | |
| read_transitions_file | 0.002 | 0.001 | 0.004 | |
| segments_files | 0 | 0 | 0 | |
| tidy_ranges | 0.063 | 0.002 | 0.096 | |
| transitions_file | 0.000 | 0.001 | 0.001 | |