This page was generated on 2021-10-15 15:50:07 -0400 (Fri, 15 Oct 2021).
|
| Hostname | OS | Arch (*) | Platform label (**) | R version | Installed pkgs |
|---|---|---|---|---|---|
| nebbiolo1 | Linux (Ubuntu 20.04.2 LTS) | x86_64 | x86_64-linux-gnu | 4.1.1 (2021-08-10) -- "Kick Things" | 4056 |
| Click on any hostname to see more info about the system (e.g. compilers) (*) as reported by 'uname -p', except on Windows and Mac OS X (**) as reported by 'gcc -v' | |||||
A | |||||||||
| QUICK STATS | OS / Arch | INSTALL | BUILD | ||||||||||
| nebbiolo1 | Linux (Ubuntu 20.04.2 LTS) / x86_64 |
|
| ||||||||||
| Package | Maintainer | INSTALL | BUILD | ||||||||||
| 1/29 | annotation 1.16.0 (landing page) | Bioconductor Package Maintainer | OK | OK | |||||||||
| 2/29 | arrays 1.18.0 (landing page) | Bioconductor Package Maintainer | OK | OK | |||||||||
| 3/29 | BiocMetaWorkflow 1.14.0 (landing page) | Mike Smith | OK | OK | |||||||||
| 4/29 | BP4RNAseq 1.2.0 (landing page) | Shanwen Sun | OK | OK | |||||||||
| 5/29 | CAGEWorkflow 1.8.0 (landing page) | Malte Thodberg | OK | OK | |||||||||
| 6/29 | chipseqDB 1.16.0 (landing page) | Aaron Lun | OK | OK | |||||||||
| 7/29 | csawUsersGuide 1.8.0 (landing page) | Aaron Lun | OK | OK | |||||||||
| 8/29 | cytofWorkflow 1.16.0 (landing page) | Mark D. Robinson | OK | OK | |||||||||
| 9/29 | EGSEA123 1.16.0 (landing page) | Matthew Ritchie | OK | OK | |||||||||
| 10/29 | Vincent Carey | ERROR | ERROR | ||||||||||
| 11/29 | ExpHunterSuite 1.0.0 (landing page) | James Perkins | OK | OK | |||||||||
| 12/29 | ExpressionNormalizationWorkflow 1.18.0 (landing page) | Karthikeyan Murugesan | OK | OK | |||||||||
| 13/29 | fluentGenomics 1.4.0 (landing page) | Stuart Lee | OK | OK | |||||||||
| 14/29 | generegulation 1.16.0 (landing page) | Bioconductor Package Maintainer | OK | OK | |||||||||
| 15/29 | highthroughputassays 1.16.0 (landing page) | Bioconductor Package Maintainer | OK | OK | |||||||||
| 16/29 | liftOver 1.16.0 (landing page) | Bioconductor Package Maintainer | OK | OK | |||||||||
| 17/29 | maEndToEnd 2.12.0 (landing page) | Stefanie Reisenauer | OK | OK | |||||||||
| 18/29 | methylationArrayAnalysis 1.16.0 (landing page) | Jovana Maksimovic | OK | OK | |||||||||
| 19/29 | proteomics 1.16.0 (landing page) | Laurent Gatto | OK | OK | |||||||||
| 20/29 | recountWorkflow 1.16.0 (landing page) | Leonardo Collado-Torres | OK | OK | |||||||||
| 21/29 | RNAseq123 1.16.0 (landing page) | Matthew Ritchie | OK | OK | |||||||||
| 22/29 | rnaseqDTU 1.12.0 (landing page) | Michael Love | OK | OK | |||||||||
| 23/29 | rnaseqGene 1.16.0 (landing page) | Michael Love | OK | OK | |||||||||
| 24/29 | RnaSeqGeneEdgeRQL 1.16.1 (landing page) | Yunshun Chen | OK | OK | |||||||||
| 25/29 | sequencing 1.16.0 (landing page) | Bioconductor Package Maintainer | OK | OK | |||||||||
| 26/29 | simpleSingleCell 1.16.0 (landing page) | Aaron Lun | OK | OK | |||||||||
| 27/29 | SingscoreAMLMutations 1.8.0 (landing page) | Dharmesh D. Bhuva | OK | OK | |||||||||
| 28/29 | TCGAWorkflow 1.16.0 (landing page) | Tiago Chedraoui Silva | OK | OK | |||||||||
| 29/29 | variants 1.16.0 (landing page) | Bioconductor Package Maintainer | OK | OK | |||||||||