Back to Workflows build report for BioC 3.13 |
This page was generated on 2021-10-15 15:50:07 -0400 (Fri, 15 Oct 2021).
To the developers/maintainers of the SingscoreAMLMutations package: Make sure to use the following settings in order to reproduce any error or warning you see on this page. |
Package 27/29 | Hostname | OS / Arch | INSTALL | BUILD | ||||||||
SingscoreAMLMutations 1.8.0 (landing page) Dharmesh D. Bhuva
| nebbiolo1 | Linux (Ubuntu 20.04.2 LTS) / x86_64 | OK | OK | ![]() | |||||||
Package: SingscoreAMLMutations |
Version: 1.8.0 |
Command: /home/biocbuild/bbs-3.13-bioc/R/bin/R CMD INSTALL SingscoreAMLMutations |
StartedAt: 2021-10-15 09:00:15 -0400 (Fri, 15 Oct 2021) |
EndedAt: 2021-10-15 09:00:44 -0400 (Fri, 15 Oct 2021) |
EllapsedTime: 29.0 seconds |
RetCode: 0 |
Status: OK |
############################################################################## ############################################################################## ### ### Running command: ### ### /home/biocbuild/bbs-3.13-bioc/R/bin/R CMD INSTALL SingscoreAMLMutations ### ############################################################################## ############################################################################## * installing to library ‘/home/biocbuild/bbs-3.13-bioc/R/library’ * installing *source* package ‘SingscoreAMLMutations’ ... ** using staged installation It is recommended to use ‘given’ instead of ‘middle’. It is recommended to use ‘given’ instead of ‘middle’. It is recommended to use ‘given’ instead of ‘middle’. It is recommended to use ‘given’ instead of ‘middle’. ** R ** data ** byte-compile and prepare package for lazy loading ** help *** installing help indices ** building package indices ** installing vignettes ** testing if installed package can be loaded from temporary location ** testing if installed package can be loaded from final location ** testing if installed package keeps a record of temporary installation path * DONE (SingscoreAMLMutations)