Back to Workflows build report for BioC 3.13 |
This page was generated on 2021-10-15 15:50:07 -0400 (Fri, 15 Oct 2021).
To the developers/maintainers of the proteomics package: Make sure to use the following settings in order to reproduce any error or warning you see on this page. |
Package 19/29 | Hostname | OS / Arch | INSTALL | BUILD | ||||||||
proteomics 1.16.0 (landing page) Laurent Gatto
| nebbiolo1 | Linux (Ubuntu 20.04.2 LTS) / x86_64 | OK | OK | ![]() | |||||||
Package: proteomics |
Version: 1.16.0 |
Command: /home/biocbuild/bbs-3.13-bioc/R/bin/R CMD build --keep-empty-dirs --no-resave-data proteomics |
StartedAt: 2021-10-15 09:02:23 -0400 (Fri, 15 Oct 2021) |
EndedAt: 2021-10-15 09:06:49 -0400 (Fri, 15 Oct 2021) |
EllapsedTime: 265.9 seconds |
RetCode: 0 |
Status: OK |
PackageFile: proteomics_1.16.0.tar.gz |
PackageFileSize: 949.7 KiB |
############################################################################## ############################################################################## ### ### Running command: ### ### /home/biocbuild/bbs-3.13-bioc/R/bin/R CMD build --keep-empty-dirs --no-resave-data proteomics ### ############################################################################## ############################################################################## * checking for file ‘proteomics/DESCRIPTION’ ... OK * preparing ‘proteomics’: * checking DESCRIPTION meta-information ... OK * installing the package to build vignettes * creating vignettes ... OK * checking for LF line-endings in source and make files and shell scripts * checking for empty or unneeded directories Omitted ‘LazyData’ from DESCRIPTION * creating default NAMESPACE file * building ‘proteomics_1.16.0.tar.gz’