| Back to Workflows build report for BioC 3.13 |
This page was generated on 2021-10-15 15:50:07 -0400 (Fri, 15 Oct 2021).
|
To the developers/maintainers of the ExpressionNormalizationWorkflow package: Make sure to use the following settings in order to reproduce any error or warning you see on this page. |
| Package 12/29 | Hostname | OS / Arch | INSTALL | BUILD | ||||||||
| ExpressionNormalizationWorkflow 1.18.0 (landing page) Karthikeyan Murugesan
| nebbiolo1 | Linux (Ubuntu 20.04.2 LTS) / x86_64 | OK | OK | ||||||||
| Package: ExpressionNormalizationWorkflow |
| Version: 1.18.0 |
| Command: /home/biocbuild/bbs-3.13-bioc/R/bin/R CMD build --keep-empty-dirs --no-resave-data ExpressionNormalizationWorkflow |
| StartedAt: 2021-10-15 09:02:22 -0400 (Fri, 15 Oct 2021) |
| EndedAt: 2021-10-15 09:07:21 -0400 (Fri, 15 Oct 2021) |
| EllapsedTime: 298.8 seconds |
| RetCode: 0 |
| Status: OK |
| PackageFile: ExpressionNormalizationWorkflow_1.18.0.tar.gz |
| PackageFileSize: 3.046 MiB |
############################################################################## ############################################################################## ### ### Running command: ### ### /home/biocbuild/bbs-3.13-bioc/R/bin/R CMD build --keep-empty-dirs --no-resave-data ExpressionNormalizationWorkflow ### ############################################################################## ############################################################################## * checking for file ‘ExpressionNormalizationWorkflow/DESCRIPTION’ ... OK * preparing ‘ExpressionNormalizationWorkflow’: * checking DESCRIPTION meta-information ... OK * installing the package to build vignettes * creating vignettes ... OK * checking for LF line-endings in source and make files and shell scripts * checking for empty or unneeded directories Omitted ‘LazyData’ from DESCRIPTION * building ‘ExpressionNormalizationWorkflow_1.18.0.tar.gz’