Back to Workflows build report for BioC 3.13 |
This page was generated on 2021-10-15 15:50:07 -0400 (Fri, 15 Oct 2021).
To the developers/maintainers of the BiocMetaWorkflow package: Make sure to use the following settings in order to reproduce any error or warning you see on this page. |
Package 3/29 | Hostname | OS / Arch | INSTALL | BUILD | ||||||||
BiocMetaWorkflow 1.14.0 (landing page) Mike Smith
| nebbiolo1 | Linux (Ubuntu 20.04.2 LTS) / x86_64 | OK | OK | ![]() | |||||||
Package: BiocMetaWorkflow |
Version: 1.14.0 |
Command: /home/biocbuild/bbs-3.13-bioc/R/bin/R CMD build --keep-empty-dirs --no-resave-data BiocMetaWorkflow |
StartedAt: 2021-10-15 09:02:22 -0400 (Fri, 15 Oct 2021) |
EndedAt: 2021-10-15 09:02:27 -0400 (Fri, 15 Oct 2021) |
EllapsedTime: 5.5 seconds |
RetCode: 0 |
Status: OK |
PackageFile: BiocMetaWorkflow_1.14.0.tar.gz |
PackageFileSize: 400.8 KiB |
############################################################################## ############################################################################## ### ### Running command: ### ### /home/biocbuild/bbs-3.13-bioc/R/bin/R CMD build --keep-empty-dirs --no-resave-data BiocMetaWorkflow ### ############################################################################## ############################################################################## * checking for file ‘BiocMetaWorkflow/DESCRIPTION’ ... OK * preparing ‘BiocMetaWorkflow’: * checking DESCRIPTION meta-information ... OK * installing the package to build vignettes * creating vignettes ... OK * checking for LF line-endings in source and make files and shell scripts * checking for empty or unneeded directories * creating default NAMESPACE file * building ‘BiocMetaWorkflow_1.14.0.tar.gz’