Back to Multiple platform build/check report for BioC 3.11 (small subset of software packages ONLY) |
This page was generated on 2020-01-24 03:57:03 -0500 (Fri, 24 Jan 2020).
Package 19/41 | Hostname | OS / Arch | INSTALL | BUILD | CHECK | BUILD BIN | |||||
ExperimentHub 1.13.5 Bioconductor Package Maintainer
| malbec2 | Linux (Ubuntu 18.04.3 LTS) / x86_64 | [ OK ] | OK | OK | ||||||
tokay2 | Windows Server 2012 R2 Standard / x64 | OK | OK | OK | OK |
Package: ExperimentHub |
Version: 1.13.5 |
Command: /home/biocbuild/bbs-3.11-bioc/R/bin/R CMD INSTALL ExperimentHub |
StartedAt: 2020-01-24 02:09:26 -0500 (Fri, 24 Jan 2020) |
EndedAt: 2020-01-24 02:09:42 -0500 (Fri, 24 Jan 2020) |
EllapsedTime: 15.5 seconds |
RetCode: 0 |
Status: OK |
############################################################################## ############################################################################## ### ### Running command: ### ### /home/biocbuild/bbs-3.11-bioc/R/bin/R CMD INSTALL ExperimentHub ### ############################################################################## ############################################################################## * installing to library ‘/home/biocbuild/bbs-3.11-bioc-testing/Rlibs’ * installing *source* package ‘ExperimentHub’ ... ** using staged installation ** R ** byte-compile and prepare package for lazy loading ** help *** installing help indices ** building package indices ** installing vignettes ** testing if installed package can be loaded from temporary location ** testing if installed package can be loaded from final location ** testing if installed package keeps a record of temporary installation path * DONE (ExperimentHub)