| Back to "Blame Jeroen" build/check report for BioC 3.11 |
This page was generated on 2020-04-15 03:20:11 -0400 (Wed, 15 Apr 2020).
| These builds are using Rtools40 and R-testing by Jeroen Ooms (available at https://cran.r-project.org/bin/windows/testing/rtools40.html) |
| TO THE DEVELOPERS/MAINTAINERS OF THE ExperimentHub PACKAGE: Please make sure to use the following settings in order to reproduce any error or warning you see on this page. |
| Package 34/89 | Hostname | OS / Arch | INSTALL | BUILD | CHECK | BUILD BIN | |||||
| ExperimentHub 1.13.5 Bioconductor Package Maintainer
| tokay2 | Windows Server 2012 R2 Standard / x64 | OK | OK | OK | [ OK ] |
| Package: ExperimentHub |
| Version: 1.13.5 |
| Command: rm -rf ExperimentHub.buildbin-libdir && mkdir ExperimentHub.buildbin-libdir && C:\Users\bioctesting\bbs-3.11-bioc-testing\R\bin\R.exe CMD INSTALL --merge-multiarch --build --library=ExperimentHub.buildbin-libdir ExperimentHub_1.13.5.tar.gz |
| StartedAt: 2020-04-14 23:51:41 -0400 (Tue, 14 Apr 2020) |
| EndedAt: 2020-04-14 23:52:07 -0400 (Tue, 14 Apr 2020) |
| EllapsedTime: 25.6 seconds |
| RetCode: 0 |
| Status: OK |
| PackageFile: ExperimentHub_1.13.5.zip |
| PackageFileSize: 520.2 KiB |
##############################################################################
##############################################################################
###
### Running command:
###
### rm -rf ExperimentHub.buildbin-libdir && mkdir ExperimentHub.buildbin-libdir && C:\Users\bioctesting\bbs-3.11-bioc-testing\R\bin\R.exe CMD INSTALL --merge-multiarch --build --library=ExperimentHub.buildbin-libdir ExperimentHub_1.13.5.tar.gz
###
##############################################################################
##############################################################################
install for i386
* installing *source* package 'ExperimentHub' ...
** using staged installation
** R
** inst
** byte-compile and prepare package for lazy loading
** help
*** installing help indices
converting help for package 'ExperimentHub'
finding HTML links ... done
ExperimentHub-class html
getExperimentHubOption html
listResources html
** building package indices
** installing vignettes
** testing if installed package can be loaded from temporary location
** testing if installed package can be loaded from final location
** testing if installed package keeps a record of temporary installation path
install for x64
* installing *source* package 'ExperimentHub' ...
** testing if installed package can be loaded
* MD5 sums
packaged installation of 'ExperimentHub' as ExperimentHub_1.13.5.zip
* DONE (ExperimentHub)