| Back to "Blame Jeroen" build/check report for BioC 3.11 |
This page was generated on 2020-04-15 03:20:11 -0400 (Wed, 15 Apr 2020).
| These builds are using Rtools40 and R-testing by Jeroen Ooms (available at https://cran.r-project.org/bin/windows/testing/rtools40.html) |
| TO THE DEVELOPERS/MAINTAINERS OF THE ExperimentHub PACKAGE: Please make sure to use the following settings in order to reproduce any error or warning you see on this page. |
| Package 34/89 | Hostname | OS / Arch | INSTALL | BUILD | CHECK | BUILD BIN | |||||
| ExperimentHub 1.13.5 Bioconductor Package Maintainer
| tokay2 | Windows Server 2012 R2 Standard / x64 | [ OK ] | OK | OK | OK |
| Package: ExperimentHub |
| Version: 1.13.5 |
| Command: C:\cygwin\bin\curl.exe -O https://malbec2.bioconductor.org/BBS/3.11/bioc-testing/src/contrib/ExperimentHub_1.13.5.tar.gz && rm -rf ExperimentHub.buildbin-libdir && mkdir ExperimentHub.buildbin-libdir && C:\Users\bioctesting\bbs-3.11-bioc-testing\R\bin\R.exe CMD INSTALL --merge-multiarch --build --library=ExperimentHub.buildbin-libdir ExperimentHub_1.13.5.tar.gz && C:\Users\bioctesting\bbs-3.11-bioc-testing\R\bin\R.exe CMD INSTALL ExperimentHub_1.13.5.zip && rm ExperimentHub_1.13.5.tar.gz ExperimentHub_1.13.5.zip |
| StartedAt: 2020-04-14 18:19:03 -0400 (Tue, 14 Apr 2020) |
| EndedAt: 2020-04-14 18:19:25 -0400 (Tue, 14 Apr 2020) |
| EllapsedTime: 22.1 seconds |
| RetCode: 0 |
| Status: OK |
##############################################################################
##############################################################################
###
### Running command:
###
### C:\cygwin\bin\curl.exe -O https://malbec2.bioconductor.org/BBS/3.11/bioc-testing/src/contrib/ExperimentHub_1.13.5.tar.gz && rm -rf ExperimentHub.buildbin-libdir && mkdir ExperimentHub.buildbin-libdir && C:\Users\bioctesting\bbs-3.11-bioc-testing\R\bin\R.exe CMD INSTALL --merge-multiarch --build --library=ExperimentHub.buildbin-libdir ExperimentHub_1.13.5.tar.gz && C:\Users\bioctesting\bbs-3.11-bioc-testing\R\bin\R.exe CMD INSTALL ExperimentHub_1.13.5.zip && rm ExperimentHub_1.13.5.tar.gz ExperimentHub_1.13.5.zip
###
##############################################################################
##############################################################################
% Total % Received % Xferd Average Speed Time Time Time Current
Dload Upload Total Spent Left Speed
0 0 0 0 0 0 0 0 --:--:-- --:--:-- --:--:-- 0
100 18889 100 18889 0 0 241k 0 --:--:-- --:--:-- --:--:-- 263k
install for i386
* installing *source* package 'ExperimentHub' ...
** using staged installation
** R
** byte-compile and prepare package for lazy loading
** help
*** installing help indices
converting help for package 'ExperimentHub'
finding HTML links ... done
ExperimentHub-class html
getExperimentHubOption html
listResources html
** building package indices
** installing vignettes
** testing if installed package can be loaded from temporary location
** testing if installed package can be loaded from final location
** testing if installed package keeps a record of temporary installation path
install for x64
* installing *source* package 'ExperimentHub' ...
** testing if installed package can be loaded
* MD5 sums
packaged installation of 'ExperimentHub' as ExperimentHub_1.13.5.zip
* DONE (ExperimentHub)
* installing to library 'C:/Users/bioctesting/bbs-3.11-bioc-testing/R/library'
package 'ExperimentHub' successfully unpacked and MD5 sums checked