Back to Multiple platform build/check report for BioC 3.11 |
|
This page was generated on 2020-04-10 14:36:22 -0400 (Fri, 10 Apr 2020).
TO THE DEVELOPERS/MAINTAINERS OF THE PathwaySplice PACKAGE: Please make sure to use the following settings in order to reproduce any error or warning you see on this page. |
Package 1252/1861 | Hostname | OS / Arch | INSTALL | BUILD | CHECK | BUILD BIN | ||||||
PathwaySplice 1.11.0 Aimin Yan
| malbec2 | Linux (Ubuntu 18.04.4 LTS) / x86_64 | OK | OK | ERROR | |||||||
tokay2 | Windows Server 2012 R2 Standard / x64 | OK | OK | ERROR | [ OK ] | |||||||
machv2 | macOS 10.14.6 Mojave / x86_64 | OK | OK | ERROR | OK |
Package: PathwaySplice |
Version: 1.11.0 |
Command: rm -rf PathwaySplice.buildbin-libdir && mkdir PathwaySplice.buildbin-libdir && C:\Users\biocbuild\bbs-3.11-bioc\R\bin\R.exe CMD INSTALL --merge-multiarch --build --library=PathwaySplice.buildbin-libdir PathwaySplice_1.11.0.tar.gz |
StartedAt: 2020-04-10 13:21:17 -0400 (Fri, 10 Apr 2020) |
EndedAt: 2020-04-10 13:22:29 -0400 (Fri, 10 Apr 2020) |
EllapsedTime: 71.8 seconds |
RetCode: 0 |
Status: OK |
PackageFile: PathwaySplice_1.11.0.zip |
PackageFileSize: 2.523 MiB |
############################################################################## ############################################################################## ### ### Running command: ### ### rm -rf PathwaySplice.buildbin-libdir && mkdir PathwaySplice.buildbin-libdir && C:\Users\biocbuild\bbs-3.11-bioc\R\bin\R.exe CMD INSTALL --merge-multiarch --build --library=PathwaySplice.buildbin-libdir PathwaySplice_1.11.0.tar.gz ### ############################################################################## ############################################################################## install for i386 * installing *source* package 'PathwaySplice' ... ** using staged installation ** R ** data *** moving datasets to lazyload DB ** inst ** byte-compile and prepare package for lazy loading ** help *** installing help indices converting help for package 'PathwaySplice' finding HTML links ... done compareResults html enrichmentMap html featureBasedData html gmtGene2Cat html lrTestBias html makeGeneTable html outKegg2Gmt html runPathwaySplice html ** building package indices ** installing vignettes ** testing if installed package can be loaded from temporary location ** testing if installed package can be loaded from final location ** testing if installed package keeps a record of temporary installation path install for x64 * installing *source* package 'PathwaySplice' ... ** testing if installed package can be loaded * MD5 sums packaged installation of 'PathwaySplice' as PathwaySplice_1.11.0.zip * DONE (PathwaySplice)