Back to Multiple platform build/check report for BioC 3.11
ABCDEFGHIJKLMNO[P]QRSTUVWXYZ

BUILD BIN report for PathwaySplice on machv2

This page was generated on 2020-04-10 14:57:57 -0400 (Fri, 10 Apr 2020).

TO THE DEVELOPERS/MAINTAINERS OF THE PathwaySplice PACKAGE: Please make sure to use the following settings in order to reproduce any error or warning you see on this page.
Package 1252/1861HostnameOS / ArchINSTALLBUILDCHECKBUILD BIN
PathwaySplice 1.11.0
Aimin Yan
Snapshot Date: 2020-04-09 16:45:58 -0400 (Thu, 09 Apr 2020)
URL: https://git.bioconductor.org/packages/PathwaySplice
Branch: master
Last Commit: 8854c47
Last Changed Date: 2019-10-29 13:42:30 -0400 (Tue, 29 Oct 2019)
malbec2 Linux (Ubuntu 18.04.4 LTS) / x86_64  OK  OK  ERROR 
tokay2 Windows Server 2012 R2 Standard / x64  OK  OK  ERROR  OK 
machv2 macOS 10.14.6 Mojave / x86_64  OK  OK  ERROR [ OK ]

Summary

Package: PathwaySplice
Version: 1.11.0
Command: rm -rf PathwaySplice.buildbin-libdir && mkdir PathwaySplice.buildbin-libdir && /Users/biocbuild/BBS/utils/build-universal.sh PathwaySplice_1.11.0.tar.gz /Library/Frameworks/R.framework/Versions/Current/Resources/bin/R PathwaySplice.buildbin-libdir
StartedAt: 2020-04-10 09:38:26 -0400 (Fri, 10 Apr 2020)
EndedAt: 2020-04-10 09:39:31 -0400 (Fri, 10 Apr 2020)
EllapsedTime: 65.6 seconds
RetCode: 0
Status:  OK 
PackageFile: PathwaySplice_1.11.0.tgz
PackageFileSize: 2.48 MiB

Command output

##############################################################################
##############################################################################
###
### Running command:
###
###   rm -rf PathwaySplice.buildbin-libdir && mkdir PathwaySplice.buildbin-libdir && /Users/biocbuild/BBS/utils/build-universal.sh PathwaySplice_1.11.0.tar.gz /Library/Frameworks/R.framework/Versions/Current/Resources/bin/R PathwaySplice.buildbin-libdir
###
##############################################################################
##############################################################################


>>>>>>> 
>>>>>>> INSTALLATION WITH 'R CMD INSTALL --preclean --no-multiarch --library=PathwaySplice.buildbin-libdir PathwaySplice_1.11.0.tar.gz'
>>>>>>> 

* installing *source* package ‘PathwaySplice’ ...
** using staged installation
** R
** data
*** moving datasets to lazyload DB
** inst
** byte-compile and prepare package for lazy loading
** help
*** installing help indices
** building package indices
** installing vignettes
** testing if installed package can be loaded from temporary location
** testing if installed package can be loaded from final location
** testing if installed package keeps a record of temporary installation path
* DONE (PathwaySplice)