| Back to Multiple platform build/check report for BioC 3.11 |
|
This page was generated on 2020-10-17 11:57:22 -0400 (Sat, 17 Oct 2020).
| TO THE DEVELOPERS/MAINTAINERS OF THE PathwaySplice PACKAGE: Please make sure to use the following settings in order to reproduce any error or warning you see on this page. |
| Package 1278/1905 | Hostname | OS / Arch | INSTALL | BUILD | CHECK | BUILD BIN | ||||||
| PathwaySplice 1.12.0 Aimin Yan
| malbec2 | Linux (Ubuntu 18.04.4 LTS) / x86_64 | ERROR | ERROR | skipped | |||||||
| tokay2 | Windows Server 2012 R2 Standard / x64 | [ ERROR ] | ERROR | skipped | skipped | |||||||
| machv2 | macOS 10.14.6 Mojave / x86_64 | ERROR | ERROR | skipped | skipped |
| Package: PathwaySplice |
| Version: 1.12.0 |
| Command: C:\cygwin\bin\curl.exe -O https://malbec2.bioconductor.org/BBS/3.11/bioc/src/contrib/PathwaySplice_1.12.0.tar.gz && rm -rf PathwaySplice.buildbin-libdir && mkdir PathwaySplice.buildbin-libdir && C:\Users\biocbuild\bbs-3.11-bioc\R\bin\R.exe CMD INSTALL --merge-multiarch --build --library=PathwaySplice.buildbin-libdir PathwaySplice_1.12.0.tar.gz && C:\Users\biocbuild\bbs-3.11-bioc\R\bin\R.exe CMD INSTALL PathwaySplice_1.12.0.zip && rm PathwaySplice_1.12.0.tar.gz PathwaySplice_1.12.0.zip |
| StartedAt: 2020-10-16 19:30:34 -0400 (Fri, 16 Oct 2020) |
| EndedAt: 2020-10-16 19:31:00 -0400 (Fri, 16 Oct 2020) |
| EllapsedTime: 25.9 seconds |
| RetCode: 1 |
| Status: ERROR |
##############################################################################
##############################################################################
###
### Running command:
###
### C:\cygwin\bin\curl.exe -O https://malbec2.bioconductor.org/BBS/3.11/bioc/src/contrib/PathwaySplice_1.12.0.tar.gz && rm -rf PathwaySplice.buildbin-libdir && mkdir PathwaySplice.buildbin-libdir && C:\Users\biocbuild\bbs-3.11-bioc\R\bin\R.exe CMD INSTALL --merge-multiarch --build --library=PathwaySplice.buildbin-libdir PathwaySplice_1.12.0.tar.gz && C:\Users\biocbuild\bbs-3.11-bioc\R\bin\R.exe CMD INSTALL PathwaySplice_1.12.0.zip && rm PathwaySplice_1.12.0.tar.gz PathwaySplice_1.12.0.zip
###
##############################################################################
##############################################################################
% Total % Received % Xferd Average Speed Time Time Time Current
Dload Upload Total Spent Left Speed
0 0 0 0 0 0 0 0 --:--:-- --:--:-- --:--:-- 0
100 2291k 100 2291k 0 0 27.2M 0 --:--:-- --:--:-- --:--:-- 29.4M
install for i386
* installing *source* package 'PathwaySplice' ...
** using staged installation
** R
** data
*** moving datasets to lazyload DB
** inst
** byte-compile and prepare package for lazy loading
Error: object 'get.kegg.genesets' is not exported by 'namespace:EnrichmentBrowser'
Execution halted
ERROR: lazy loading failed for package 'PathwaySplice'
* removing 'C:/Users/biocbuild/bbs-3.11-bioc/meat/PathwaySplice.buildbin-libdir/PathwaySplice'