| Back to Multiple platform build/check report for BioC 3.11 |
|
This page was generated on 2020-10-17 11:57:22 -0400 (Sat, 17 Oct 2020).
| TO THE DEVELOPERS/MAINTAINERS OF THE PathwaySplice PACKAGE: Please make sure to use the following settings in order to reproduce any error or warning you see on this page. |
| Package 1278/1905 | Hostname | OS / Arch | INSTALL | BUILD | CHECK | BUILD BIN | ||||||
| PathwaySplice 1.12.0 Aimin Yan
| malbec2 | Linux (Ubuntu 18.04.4 LTS) / x86_64 | ERROR | ERROR | skipped | |||||||
| tokay2 | Windows Server 2012 R2 Standard / x64 | ERROR | [ ERROR ] | skipped | skipped | |||||||
| machv2 | macOS 10.14.6 Mojave / x86_64 | ERROR | ERROR | skipped | skipped |
| Package: PathwaySplice |
| Version: 1.12.0 |
| Command: chmod a+r PathwaySplice -R && C:\Users\biocbuild\bbs-3.11-bioc\R\bin\R.exe CMD build --keep-empty-dirs --no-resave-data PathwaySplice |
| StartedAt: 2020-10-16 23:33:08 -0400 (Fri, 16 Oct 2020) |
| EndedAt: 2020-10-16 23:34:37 -0400 (Fri, 16 Oct 2020) |
| EllapsedTime: 88.9 seconds |
| RetCode: 1 |
| Status: ERROR |
| PackageFile: PathwaySplice_1.12.0.tar.gz |
| PackageFileSize: 2.238 MiB |
##############################################################################
##############################################################################
###
### Running command:
###
### chmod a+r PathwaySplice -R && C:\Users\biocbuild\bbs-3.11-bioc\R\bin\R.exe CMD build --keep-empty-dirs --no-resave-data PathwaySplice
###
##############################################################################
##############################################################################
* checking for file 'PathwaySplice/DESCRIPTION' ... OK
* preparing 'PathwaySplice':
* checking DESCRIPTION meta-information ... OK
* installing the package to build vignettes
-----------------------------------
* installing *source* package 'PathwaySplice' ...
** using staged installation
** R
** data
*** moving datasets to lazyload DB
** inst
** byte-compile and prepare package for lazy loading
Error: object 'get.kegg.genesets' is not exported by 'namespace:EnrichmentBrowser'
Execution halted
ERROR: lazy loading failed for package 'PathwaySplice'
* removing 'C:/Users/biocbuild/bbs-3.11-bioc/tmpdir/RtmpGmpvae/Rinstfdc745e78d2/PathwaySplice'
-----------------------------------
ERROR: package installation failed