| lamb2 |
Linux (openSUSE 11.2) / x86_64 | | | |
| liverpool |
Windows Server 2003 R2 (32-bit) / x64 | | | |
| gewurz |
Windows Server 2008 R2 Enterprise (64-bit) / x64 | | | |
| pelham |
Mac OS X Leopard (10.5.8) / i386 | | | |
| [petty] |
Mac OS X Snow Leopard (10.6.4) / i386 | | | |
|
|
| A [A] B C D E F G H I J K L M N O P Q R S T U V W X Y Z |
| ABarray 1.19.0 | Yongming Andrew Sun | OK | OK | OK |
| aCGH 1.29.1 | Peter Dimitrov | OK | OK | OK |
| ACME 2.7.0 | Sean Davis | OK | OK | OK |
| ADaCGH2 1.1.0 | Ramon Diaz-Uriarte | OK | WARNINGS | OK |
| adSplit 1.21.0 | Claudio Lottaz | OK | OK | OK |
| affxparser 1.23.3 | Kasper Daniel Hansen | OK | ERROR | OK |
| affy 1.29.2 | Rafael A. Irizarry | OK | OK | OK |
| affycomp 1.27.0 | Rafael A. Irizarry | OK | OK | OK |
| AffyCompatible 1.11.0 | Martin Morgan | OK | OK | OK |
| affyContam 1.9.0 | V. Carey | OK | OK | OK |
| affycoretools 1.23.0 | James W. MacDonald | OK | OK | OK |
| AffyExpress 1.17.0 | Xuejun Arthur Li | OK | OK | OK |
| affyILM 1.3.0 | Myriam Kroll and Fabrice Berger | OK | WARNINGS | OK |
| affyio 1.19.4 | Benjamin Milo Bolstad | OK | WARNINGS | OK |
| affylmGUI 1.25.0 | Keith Satterley | OK | OK | OK |
| affyPara 1.11.2 | Markus Schmidberger | OK | WARNINGS | OK |
| affypdnn 1.25.0 | Laurent Gautier | OK | OK | OK |
| affyPLM 1.27.6 | Ben Bolstad | OK | OK | OK |
| affyQCReport 1.29.1 | Craig Parman | OK | OK | OK |
| AffyTiling 1.9.0 | Charles G. Danko | OK | OK | OK |
| Agi4x44PreProcess 1.11.0 | Pedro Lopez-Romero | OK | OK | OK |
| AgiMicroRna 2.0.2 | Pedro Lopez-Romero | OK | OK | OK |
| altcdfenvs 2.13.0 | Laurent Gautier | OK | OK | OK |
| annaffy 1.23.1 | Colin A. Smith | OK | OK | OK |
| annotate 1.29.2 | Biocore Team c/o BioC user list | OK | OK | OK |
| AnnotationDbi 1.13.14 | Biocore Team c/o BioC user list | OK | ERROR | OK |
| annotationTools 1.23.0 | Alexandre Kuhn | OK | OK | OK |
| apComplex 2.17.0 | Denise Scholtens | OK | OK | OK |
| aroma.light 1.19.3 | Henrik Bengtsson | OK | WARNINGS | OK |
| ArrayExpress 1.11.0 | Audrey Kauffmann | OK | OK | OK |
| arrayMvout 1.9.0 | V. Carey | OK | WARNINGS | OK |
| arrayQuality 1.29.0 | Agnes Paquet | OK | OK | OK |
| arrayQualityMetrics 3.5.8 | Audrey Kauffmann | OK | OK | OK |
| ArrayTools 1.11.0 | Arthur Li | OK | OK | OK |
| attract 1.0.9 | Jessica Mar | OK | ERROR | OK |
|
| B A [B] C D E F G H I J K L M N O P Q R S T U V W X Y Z |
| BAC 1.11.0 | Raphael Gottardo | OK | OK | OK |
| BayesPeak 1.3.4 | Jonathan Cairns | OK | OK | OK |
| baySeq 1.5.1 | Thomas J. Hardcastle | OK | OK | OK |
| BCRANK 1.13.0 | Adam Ameur | OK | OK | OK |
| beadarray 2.1.12 | Mark Dunning | OK | WARNINGS | OK |
| beadarraySNP 1.17.0 | Jan Oosting | OK | OK | OK |
| BeadDataPackR 1.3.3 | Mike Smith | OK | OK | OK |
| betr 1.7.1 | Martin Aryee | OK | OK | OK |
| bgafun 1.13.0 | Iain Wallace | OK | OK | OK |
| BGmix 1.11.1 | Alex Lewin | OK | OK | OK |
| bgx 1.15.0 | Ernest Turro | OK | OK | OK |
| BHC 1.3.0 | Rich Savage | OK | OK | OK |
| BicARE 1.9.1 | Pierre Gestraud | OK | OK | OK |
| Biobase 2.11.9 | Biocore Team c/o BioC user list | OK | OK | OK |
| BiocCaseStudies 1.13.0 | Biocore Team c/o BioC user list | OK | OK | OK |
| biocDatasets 1.7.1 | L. Gautier | OK | OK | OK |
| biocGraph 1.13.0 | Florian Hahne | OK | OK | OK |
| biocViews 1.19.2 | Biocore Team c/o BioC user list | OK | OK | OK |
| bioDist 1.23.0 | Biocore Team c/o BioC user list | OK | OK | OK |
| biomaRt 2.7.1 | Steffen Durinck | OK | OK | OK |
| BioMVCClass 1.19.0 | Elizabeth Whalen | OK | OK | OK |
| BioNet 1.9.0 | Marcus Dittrich | OK | OK | OK |
| BioSeqClass 1.9.0 | Li Hong | OK | OK | OK |
| Biostrings 2.19.11 | H. Pages | OK | WARNINGS | OK |
| bridge 1.15.1 | Raphael Gottardo | OK | OK | OK |
| BSgenome 1.19.3 | H. Pages | OK | OK | OK |
| BufferedMatrix 1.15.0 | Benjamin Milo Bolstad | OK | OK | OK |
| BufferedMatrixMethods 1.15.0 | B. M. Bolstad | OK | OK | OK |
| BUS 1.7.0 | Yuanhua Liu | OK | OK | OK |
|
| C A B [C] D E F G H I J K L M N O P Q R S T U V W X Y Z |
| CALIB 1.17.0 | Hui Zhao | OK | OK | OK |
| CAMERA 1.7.4 | Carsten Kuhl | OK | OK | OK |
| Category 2.17.2 | Biocore Team c/o BioC user list | OK | OK | OK |
| cellHTS 1.21.0 | Ligia Bras | OK | OK | OK |
| cellHTS2 2.15.4 | Florian Hahne | OK | OK | OK |
| CGEN 1.3.0 | William Wheeler | OK | OK | OK |
| CGHbase 1.9.0 | Sjoerd Vosse | OK | OK | OK |
| CGHcall 2.11.0 | Mark van de Wiel | OK | OK | OK |
| cghMCR 1.9.0 | J. Zhang | OK | OK | OK |
| CGHnormaliter 1.5.1 | Bart P.P. van Houte | OK | OK | OK |
| CGHregions 1.9.0 | Sjoerd Vosse | OK | OK | OK |
| charm 1.3.3 | Martin Aryee | OK | WARNINGS | OK |
| ChemmineR 2.1.6 | ChemmineR Team | OK | OK | OK |
| ChIPpeakAnno 1.7.0 | Lihua Julie Zhu | OK | OK | OK |
| chipseq 1.1.2 | Biocore Team c/o BioC user list | OK | OK | OK |
| ChIPseqR 1.5.1 | Peter Humburg | OK | WARNINGS | OK |
| ChIPsim 1.5.0 | Peter Humburg | OK | OK | OK |
| ChromHeatMap 1.5.0 | Tim F. Rayner | OK | OK | OK |
| clippda 1.5.0 | Stephen Nyangoma | OK | OK | OK |
| Clonality 0.99.1 | Irina Ostrovnaya | OK | OK | OK |
| clusterStab 1.23.0 | James W. MacDonald | OK | OK | OK |
| CMA 1.9.1 | Christoph Bernau | OK | OK | OK |
| CNTools 1.7.0 | J. Zhang | OK | OK | OK |
| CNVtools 1.45.0 | Chris Barnes | OK | OK | OK |
| CoCiteStats 1.23.0 | Biocore Team c/o BioC user list | OK | OK | OK |
| codelink 1.19.1 | Diego Diez | OK | OK | OK |
| CoGAPS 1.1.0 | Elana J. Fertig , Michael F. Ochs | N O T S U P P O R T E D |
| ConsensusClusterPlus 1.3.0 | Matt Wilkerson | OK | OK | OK |
| convert 1.27.0 | Yee Hwa (Jean) Yang | OK | OK | OK |
| copa 1.19.0 | James W. MacDonald | OK | OK | OK |
| coRNAi 1.1.0 | Elin Axelsson | ERROR | skipped | skipped |
| CORREP 1.17.0 | Dongxiao Zhu | OK | OK | OK |
| cosmo 1.17.0 | Oliver Bembom | OK | OK | OK |
| cosmoGUI 1.17.0 | Oliver Bembom | OK | OK | OK |
| CRImage 1.1.0 | Henrik Failmezger , Yinyin Yuan | N O T S U P P O R T E D |
| crlmm 1.9.14 | Benilton S Carvalho , Robert Scharpf , Matt Ritchie | OK | WARNINGS | OK |
| CSAR 1.3.3 | Jose M Muino | OK | OK | OK |
| ctc 1.25.1 | Antoine Lucas | OK | OK | OK |
| cycle 1.5.0 | Matthias Futschik | OK | OK | OK |
|
| D A B C [D] E F G H I J K L M N O P Q R S T U V W X Y Z |
| daMA 1.23.0 | Jobst Landgrebe | OK | OK | OK |
| DAVIDQuery 1.11.0 | Roger Day | OK | OK | OK |
| ddCt 1.5.0 | Jitao David Zhang | OK | WARNINGS | OK |
| DEDS 1.25.0 | Yuanyuan Xiao | OK | OK | OK |
| DEGraph 1.1.0 | Laurent Jacob | OK | OK | OK |
| DEGseq 1.5.3 | Likun Wang | OK | OK | OK |
| DESeq 1.3.1 | Simon Anders | OK | OK | OK |
| DFP 1.9.0 | Rodrigo Alvarez-Glez | OK | OK | OK |
| diffGeneAnalysis 1.33.0 | Choudary Jagarlamudi | OK | OK | OK |
| DNAcopy 1.25.0 | Venkatraman E. Seshan | OK | OK | OK |
| domainsignatures 1.11.0 | Florian Hahne | OK | OK | OK |
| dualKS 1.11.1 | Eric J. Kort | OK | OK | OK |
| dyebias 1.9.2 | Philip Lijnzaad | OK | ERROR | OK |
| DynDoc 1.29.1 | Biocore Team c/o BioC user list | OK | OK | OK |
|
| E A B C D [E] F G H I J K L M N O P Q R S T U V W X Y Z |
| EBarrays 2.15.1 | Ming Yuan | OK | OK | OK |
| EBImage 3.7.2 | Gregoire Pau | N O T S U P P O R T E D |
| ecolitk 1.23.0 | Laurent Gautier | OK | OK | OK |
| edd 1.29.0 | Vince Carey | OK | OK | OK |
| edgeR 2.1.12 | Mark Robinson , Davis McCarthy , Gordon Smyth | OK | WARNINGS | OK |
| eisa 1.3.0 | Gabor Csardi | OK | OK | OK |
| explorase 1.15.1 | Michael Lawrence | OK | OK | OK |
| ExpressionView 1.3.0 | Gabor Csardi | OK | OK | OK |
| externalVector 1.17.0 | Biocore Team c/o BioC user list | OK | OK | OK |
|
| F A B C D E [F] G H I J K L M N O P Q R S T U V W X Y Z |
| fabia 1.3.1 | Sepp Hochreiter | OK | OK | OK |
| factDesign 1.27.0 | Denise Scholtens | OK | OK | OK |
| farms 1.3.0 | Djork-Arne Clevert | OK | OK | OK |
| fbat 1.13.1 | The R Genetics Project | ERROR | skipped | skipped |
| fdrame 1.23.0 | Effi Kenigsberg | OK | WARNINGS | OK |
| flagme 1.7.0 | Mark Robinson | OK | OK | OK |
| flowClust 2.9.0 | Raphael Gottardo | OK | WARNINGS | OK |
| flowCore 1.17.2 | F. Hahne | OK | OK | OK |
| flowFlowJo 1.9.0 | John J. Gosink | OK | OK | OK |
| flowFP 1.7.0 | Herb Holyst | OK | OK | OK |
| flowMeans 1.3.0 | Nima Aghaeepour | OK | OK | OK |
| flowMerge 1.99.2 | Greg Finak | ERROR | skipped | skipped |
| flowPhyto 0.99.7 | David M. Schruth | OK | ERROR | OK |
| flowQ 1.11.0 | F. Hahne | OK | OK | OK |
| flowStats 1.9.0 | Florian Hahne and Chao-Jen Wong | OK | OK | OK |
| flowTrans 1.3.0 | Greg Finak | OK | OK | OK |
| flowUtils 1.11.0 | Nishant Gopalakrishnan | OK | OK | OK |
| flowViz 1.15.0 | Florian Hahne | OK | OK | OK |
| frma 1.3.10 | Matthew N. McCall | OK | OK | OK |
| frmaTools 1.3.11 | Matthew N. McCall | OK | WARNINGS | OK |
|
| G A B C D E F [G] H I J K L M N O P Q R S T U V W X Y Z |
| gaga 1.11.0 | David Rossell | OK | OK | OK |
| gage 2.1.0 | Weijun Luo | OK | OK | OK |
| gaggle 1.19.1 | Christopher Bare | OK | OK | OK |
| gaia 0.99.0 | S. Morganella | OK | OK | OK |
| gcrma 2.23.0 | Z. Wu | OK | OK | OK |
| genArise 1.27.0 | IFC Development Team | OK | OK | OK |
| gene2pathway 1.9.1 | Holger Froehlich | OK | OK | OK |
| GeneAnswers 1.7.0 | Gang Feng and Pan Du | OK | WARNINGS | OK |
| genefilter 1.33.0 | Biocore Team c/o BioC user list | OK | OK | OK |
| GeneGA 1.1.2 | Zhenpeng Li | OK | OK | OK |
| GeneMeta 1.23.0 | Biocore Team c/o BioC user list | OK | OK | OK |
| geneplotter 1.29.0 | Biocore Team c/o BioC user list | OK | OK | OK |
| GeneR 2.21.0 | Y. d'Aubenton-Carafa | OK | OK | OK |
| geneRecommender 1.23.1 | Greg Hather | OK | OK | OK |
| GeneRegionScan 1.7.1 | Lasse Folkersen | OK | OK | OK |
| GeneRfold 1.9.0 | Antoine Lucas | OK | OK | OK |
| GeneSelectMMD 1.7.1 | Weiliang Qiu | OK | OK | OK |
| GeneSelector 2.0.5 | Martin Slawski | OK | ERROR | OK |
| GeneSpring 2.25.0 | Thon de Boer | OK | OK | OK |
| GeneticsBase 1.15.1 | The R Genetics Project | ERROR | skipped | skipped |
| GeneticsDesign 1.19.1 | The R Genetics Project | OK | OK | OK |
| GeneticsPed 1.13.0 | David Henderson | OK | OK | OK |
| GeneTraffic 1.23.1 | Daniel Iordan | OK | OK | OK |
| genoCN 1.3.0 | Wei Sun | OK | OK | OK |
| GenomeGraphs 1.11.0 | Steffen Durinck | OK | OK | OK |
| genomeIntervals 1.7.3 | Julien Gagneur | OK | OK | OK |
| genomes 1.7.0 | Chris Stubben | OK | OK | OK |
| GenomicFeatures 1.3.11 | Biocore Team c/o BioC user list | OK | ERROR | OK |
| GenomicRanges 1.3.22 | Biocore Team c/o BioC user list | OK | OK | OK |
| Genominator 1.5.1 | James Bullard | OK | OK | OK |
| GEOmetadb 1.11.0 | Jack Zhu | OK | OK | OK |
| GEOquery 2.17.4 | Sean Davis | ERROR | skipped | skipped |
| GEOsubmission 1.3.0 | Alexandre Kuhn | OK | OK | OK |
| GGBase 3.11.5 | Vince Carey | OK | OK | OK |
| GGtools 3.9.53 | Vince Carey | OK | WARNINGS | OK |
| girafe 1.3.12 | J. Toedling | OK | OK | OK |
| GLAD 2.13.5 | Philippe Hupe | OK | OK | OK |
| GlobalAncova 3.19.0 | Manuela Hummel | OK | OK | OK |
| globaltest 5.5.1 | Jelle Goeman | OK | OK | OK |
| goProfiles 1.13.1 | Alex Sanchez | OK | OK | OK |
| GOSemSim 1.9.7 | Guangchuang Yu | OK | OK | OK |
| goseq 1.3.1 | Matthew Young | OK | OK | OK |
| GOstats 2.17.1 | Biocore Team c/o BioC user list | OK | OK | OK |
| goTools 1.25.1 | Agnes Paquet | OK | OK | OK |
| gpls 1.23.0 | Biocore Team c/o BioC user list | OK | OK | OK |
| graph 1.29.2 | Seth Falcon | OK | OK | OK |
| GraphAlignment 1.13.0 | Joern P. Meier | OK | OK | OK |
| GraphAT 1.23.0 | Thomas LaFramboise | OK | OK | OK |
| GSEABase 1.13.3 | Biocore Team c/o BioC user list | OK | OK | OK |
| GSEAlm 1.11.0 | Assaf Oron | OK | OK | OK |
| GSRI 1.3.2 | Julian Gehring | OK | WARNINGS | OK |
|
| H A B C D E F G [H] I J K L M N O P Q R S T U V W X Y Z |
| Harshlight 1.22.1 | Maurizio Pellegrino | OK | OK | OK |
| Heatplus 1.21.0 | Alexander Ploner | OK | OK | OK |
| HELP 1.9.0 | Reid F. Thompson | OK | OK | OK |
| HEM 1.23.0 | HyungJun Cho | OK | OK | OK |
| hexbin 1.25.1 | Nicholas Lewin-Koh | OK | OK | OK |
| HilbertVis 1.9.0 | Simon Anders | N O T S U P P O R T E D |
| HilbertVisGUI 1.9.0 | Simon Anders | OK | ERROR | OK |
| hopach 2.11.0 | Katherine S. Pollard | OK | OK | OK |
| HTqPCR 1.5.3 | Heidi Dvinge | OK | OK | OK |
| HTSanalyzeR 2.3.3 | Xin Wang | OK | OK | OK |
| hyperdraw 1.3.0 | Paul Murrell | OK | OK | OK |
| hypergraph 1.23.0 | Biocore Team c/o BioC user list | OK | OK | OK |
|
| I A B C D E F G H [I] J K L M N O P Q R S T U V W X Y Z |
| Icens 1.23.0 | Biocore Team c/o BioC user list | OK | OK | OK |
| iChip 1.5.0 | Qianxing Mo | OK | OK | OK |
| idiogram 1.27.0 | Karl J. Dykema | OK | OK | OK |
| iFlow 2.3.4 | Kyongryun Lee | OK | WARNINGS | OK |
| imageHTS 1.1.8 | Gregoire Pau | N O T S U P P O R T E D |
| impute 1.25.0 | Balasubramanian Narasimhan | OK | OK | OK |
| IPPD 0.99.1 | Martin Slawski | OK | OK | OK |
| IRanges 1.9.25 | Biocore Team c/o BioC user list | OK | WARNINGS | OK |
| iSeq 1.1.1 | Qianxing Mo | OK | OK | OK |
| IsoGeneGUI 1.3.1 | Setia Pramana | OK | WARNINGS | OK |
| ITALICS 2.11.1 | Guillem Rigaill | OK | OK | OK |
| iterativeBMA 1.9.0 | Ka Yee Yeung | OK | OK | OK |
| iterativeBMAsurv 1.9.0 | Ka Yee Yeung | OK | OK | OK |
|
| K A B C D E F G H I J [K] L M N O P Q R S T U V W X Y Z |
| KCsmart 2.9.1 | Jorma de Ronde | OK | OK | OK |
| KEGGgraph 1.7.0 | Jitao David Zhang | OK | OK | OK |
| keggorthology 2.3.0 | VJ Carey | OK | OK | OK |
| KEGGSOAP 1.25.0 | Biocore Team c/o BioC user list | OK | TIMEOUT | OK |
|
| L A B C D E F G H I J K [L] M N O P Q R S T U V W X Y Z |
| lapmix 1.17.0 | Yann Ruffieux | OK | OK | OK |
| LBE 1.19.0 | Cyril Dalmasso | OK | OK | OK |
| les 1.1.5 | Julian Gehring | OK | WARNINGS | OK |
| limma 3.7.24 | Gordon Smyth | OK | OK | OK |
| limmaGUI 1.27.0 | Keith Satterley | OK | OK | OK |
| LiquidAssociation 1.5.0 | Yen-Yi Ho | OK | OK | OK |
| LMGene 2.7.0 | Blythe Durbin-Johnson | OK | OK | OK |
| logicFS 1.21.0 | Holger Schwender | OK | OK | OK |
| logitT 1.9.0 | Tobias Guennel | OK | OK | OK |
| LPE 1.25.0 | Nitin Jain | OK | OK | OK |
| LPEadj 1.11.0 | Carl Murie | OK | OK | OK |
| lumi 2.3.7 | Pan Du | OK | OK | OK |
| LVSmiRNA 1.1.3 | Stefano Calza | OK | OK | OK |
|
| M A B C D E F G H I J K L [M] N O P Q R S T U V W X Y Z |
| maanova 1.21.0 | Keith Sheppard | OK | OK | OK |
| macat 1.25.0 | Joern Toedling | OK | OK | OK |
| maCorrPlot 1.21.0 | Alexander Ploner | OK | OK | OK |
| maDB 1.23.0 | Johannes Rainer | OK | ERROR | ERROR |
| made4 1.25.0 | Aedin Culhane | OK | OK | OK |
| maigesPack 1.15.0 | Gustavo H. Esteves | OK | ERROR | OK |
| makecdfenv 1.29.1 | James W. MacDonald | OK | OK | OK |
| makePlatformDesign 1.15.0 | Benilton Carvalho | OK | OK | OK |
| MANOR 1.23.2 | Pierre Neuvial | ERROR | skipped | skipped |
| MantelCorr 1.21.0 | Brian Steinmeyer | OK | OK | OK |
| marray 1.29.1 | Yee Hwa (Jean) Yang | OK | OK | OK |
| maSigPro 1.23.0 | Ana Conesa | OK | OK | OK |
| MassArray 1.3.1 | Reid F. Thompson | OK | OK | OK |
| MassSpecWavelet 1.17.1 | Pan Du | OK | OK | OK |
| MBCB 1.5.0 | Jeff Allen | OK | OK | OK |
| mBPCR 1.5.3 | P.M.V. Rancoita | OK | OK | OK |
| MCRestimate 2.7.0 | Marc Johannes | OK | OK | OK |
| mdqc 1.13.1 | Gabriela Cohen-Freue | OK | OK | OK |
| MeasurementError.cor 1.23.0 | Beiying Ding | OK | OK | OK |
| MEDIPS 1.1.2 | Lukas Chavez | OK | OK | OK |
| MEDME 1.11.0 | Mattia Pelizzola | OK | OK | OK |
| MergeMaid 2.23.0 | Xiaogang Zhong | OK | OK | OK |
| metaArray 1.27.0 | Hyungwon Choi | OK | OK | OK |
| metahdep 1.9.0 | John R. Stevens | OK | OK | OK |
| methVisual 1.3.0 | Arie Zackay | OK | OK | OK |
| methylumi 1.7.5 | Sean Davis | OK | OK | OK |
| Mfuzz 2.9.1 | Matthias Futschik | OK | OK | OK |
| mgsa 0.99.0 | Sebastian Bauer | OK | OK | OK |
| MiChip 1.5.0 | Jonathon Blake | OK | OK | OK |
| microRNA 1.9.0 | Chao-Jen Wong | OK | OK | OK |
| minet 3.5.0 | Patrick E. Meyer | OK | OK | OK |
| MiPP 1.23.0 | Sukwoo Kim | OK | OK | OK |
| miRNApath 1.11.0 | James M. Ward | OK | OK | OK |
| MLInterfaces 1.31.0 | V. Carey | OK | OK | OK |
| MLP 0.99.6 | Tobias Verbeke | ERROR | skipped | skipped |
| MotIV 1.5.0 | Eloi Mercier , Raphael Gottardo | OK | WARNINGS | OK |
| Mulcom 1.1.0 | Claudio Isella | OK | OK | OK |
| multiscan 1.11.0 | Mizanur Khondoker | OK | OK | OK |
| multtest 2.7.1 | Katherine S. Pollard | OK | OK | OK |
| MVCClass 1.25.0 | Elizabeth Whalen | OK | OK | OK |
|
| N A B C D E F G H I J K L M [N] O P Q R S T U V W X Y Z |
| nem 2.15.0 | Christian Bender | OK | OK | OK |
| netresponse 1.1.21 | Leo Lahti | OK | OK | OK |
| nnNorm 2.15.0 | Adi Laurentiu Tarca | OK | OK | OK |
| NTW 1.1.0 | Yuanhua Liu | OK | OK | OK |
| nudge 1.17.1 | N. Dean | OK | OK | OK |
| NuPoP 1.1.0 | Ji-Ping Wang | OK | OK | OK |
|
| O A B C D E F G H I J K L M N [O] P Q R S T U V W X Y Z |
| occugene 1.11.0 | Oliver Will | OK | OK | OK |
| OCplus 1.25.0 | Alexander Ploner | OK | OK | OK |
| oligo 1.15.4 | Benilton Carvalho | OK | OK | OK |
| oligoClasses 1.13.9 | Benilton Carvalho and Robert Scharpf | OK | WARNINGS | OK |
| OLIN 1.29.1 | Matthias Futschik | OK | OK | OK |
| OLINgui 1.25.1 | Matthias Futschik | OK | OK | OK |
| oneChannelGUI 1.17.10 | Raffaele A Calogero | OK | OK | OK |
| ontoCAT 1.1.0 | Natalja Kurbatova | ERROR | skipped | skipped |
| ontoTools 1.29.0 | Vince Carey | OK | OK | OK |
| OrderedList 1.23.0 | Claudio Lottaz | OK | OK | OK |
| OTUbase 1.1.1 | Daniel Beck | OK | OK | OK |
| OutlierD 1.15.0 | Sukwoo Kim | OK | OK | OK |
|
| P A B C D E F G H I J K L M N O [P] Q R S T U V W X Y Z |
| pamr 1.49.0 | Rob Tibshirani | OK | OK | OK |
| PAnnBuilder 1.15.0 | Li Hong | OK | OK | OK |
| panp 1.21.1 | Peter Warren | OK | OK | OK |
| parody 1.9.0 | VJ Carey | OK | OK | OK |
| pathRender 1.19.0 | Li Long | OK | OK | OK |
| PatientGeneSets 1.1.0 | Simina M. Boca | OK | OK | OK |
| pcaMethods 1.34.0 | Wolfram Stacklies | OK | OK | OK |
| pcot2 1.19.0 | Sarah Song | OK | OK | OK |
| PCpheno 1.13.0 | Nolwenn Le Meur | OK | OK | OK |
| pdInfoBuilder 1.15.2 | Benilton Carvalho | OK | WARNINGS | OK |
| pdmclass 1.23.0 | James W. MacDonald | OK | OK | OK |
| PGSEA 1.25.3 | Karl Dykema | OK | OK | OK |
| pgUtils 1.23.0 | Johannes Rainer | OK | ERROR | ERROR |
| phenoDist 0.99.1 | Xian Zhang | ERROR | skipped | skipped |
| phenoTest 0.99.3 | Evarist Planet | OK | OK | OK |
| pickgene 1.23.0 | Brian S. Yandell | OK | OK | OK |
| PICS 1.5.0 | Arnaud Droit , Xuekui Zhang , Raphael Gottardo | OK | OK | OK |
| pint 1.3.67 | Olli-Pekka Huovilainen | ERROR | skipped | skipped |
| pkgDepTools 1.17.0 | Seth Falcon | OK | OK | OK |
| plateCore 1.9.0 | Errol Strain | OK | OK | OK |
| plgem 1.23.1 | Norman Pavelka | OK | OK | OK |
| plier 1.21.1 | Crispin Miller | OK | OK | OK |
| PLPE 1.11.0 | Soo-heang Eo | OK | OK | OK |
| plw 1.11.1 | Magnus Astrand | OK | OK | OK |
| ppiStats 1.17.0 | Tony Chiang | OK | OK | OK |
| prada 1.27.0 | Florian Hahne | OK | OK | OK |
| preprocessCore 1.13.5 | Benjamin Milo Bolstad | OK | OK | OK |
| PROcess 1.27.0 | Xiaochun Li | OK | OK | OK |
| PROMISE 1.3.0 | Xueyuan Cao | OK | OK | OK |
| puma 2.2.0 | Richard Pearson , Li Zhang | OK | OK | OK |
|
| Q A B C D E F G H I J K L M N O P [Q] R S T U V W X Y Z |
| qpcrNorm 1.9.0 | Jessica Mar | OK | OK | OK |
| qpgraph 1.7.10 | Robert Castelo | ERROR | skipped | skipped |
| quantsmooth 1.17.0 | Jan Oosting | OK | OK | OK |
| qvalue 1.25.0 | John D. Storey | OK | OK | OK |
|
| R A B C D E F G H I J K L M N O P Q [R] S T U V W X Y Z |
| R453Plus1Toolbox 1.1.2 | Hans-Ulrich Klein | OK | OK | OK |
| rama 1.25.1 | Raphael Gottardo | OK | OK | OK |
| RankProd 2.23.0 | Fangxin Hong | OK | OK | OK |
| RbcBook1 1.19.1 | Vince Carey | OK | OK | OK |
| RBGL 1.27.1 | Li Long | ERROR | skipped | skipped |
| RBioinf 1.11.0 | Robert Gentleman | OK | OK | OK |
| rbsurv 2.9.0 | Soo-heang Eo | OK | OK | OK |
| RCytoscape 1.1.46 | Paul Shannon | OK | WARNINGS | OK |
| Rdbi 1.25.1 | Jianhua Zhang | OK | OK | OK |
| RdbiPgSQL 1.25.1 | Jianhua Zhang | OK | ERROR | ERROR |
| Rdisop 1.11.3 | Steffen Neumann | OK | OK | OK |
| RDRToolbox 1.1.0 | Christoph Bartenhagen | OK | ERROR | OK |
| reb 1.27.0 | Karl J. Dykema | OK | OK | OK |
| RefPlus 1.21.0 | Kai-Ming Chang | OK | OK | OK |
| Resourcerer 1.25.0 | Jianhua Zhang | OK | OK | OK |
| rflowcyt 1.23.0 | N. LeMeur | OK | OK | OK |
| rGADEM 1.3.0 | Arnaud Droit | OK | OK | OK |
| Rgraphviz 1.29.0 | Kasper Hansen | OK | OK | OK |
| rHVDM 1.17.0 | Martino Barenco | OK | OK | OK |
| Ringo 1.15.1 | J. Toedling | OK | OK | OK |
| RLMM 1.13.0 | Nusrat Rabbee | OK | OK | OK |
| RMAGEML 2.25.0 | Steffen Durinck | N O T S U P P O R T E D |
| Rmagpie 1.7.0 | Camille Maumet | OK | OK | OK |
| RMAPPER 1.1.1 | Heike Sichtig , Alberto Riva | OK | OK | OK |
| rMAT 3.1.0 | Arnaud Droit and Raphael Gottardo | OK | WARNINGS | OK |
| RmiR 1.7.0 | Francesco Favero | OK | OK | OK |
| RNAither 1.99.0 | Nora Rieber | OK | OK | OK |
| rnaSeqMap 1.1.0 | Michal Okoniewski | OK | OK | OK |
| ROC 1.27.0 | Vince Carey | OK | OK | OK |
| Rolexa 1.7.0 | Jacques Rougemont | OK | OK | OK |
| RPA 1.7.31 | Leo Lahti | OK | OK | OK |
| RpsiXML 1.11.0 | Jitao David Zhang | OK | OK | OK |
| Rredland 1.17.0 | VJ Carey | N O T S U P P O R T E D |
| Rsamtools 1.3.23 | Biocore Team c/o BioC user list | OK | WARNINGS | OK |
| rsbml 2.9.1 | Michael Lawrence | ERROR | skipped | skipped |
| RTCA 1.3.0 | Jitao David Zhang | OK | WARNINGS | OK |
| RTools4TB 1.7.0 | Aurelie Bergon | OK | OK | OK |
| rtracklayer 1.11.11 | Michael Lawrence | OK | WARNINGS | OK |
| Rtreemix 1.13.0 | Jasmina Bogojeska | OK | OK | OK |
| Ruuid 1.29.0 | Biocore Team c/o BioC user list | OK | OK | OK |
| RWebServices 1.15.1 | Martin Morgan | N O T S U P P O R T E D |
|
| S A B C D E F G H I J K L M N O P Q R [S] T U V W X Y Z |
| safe 2.11.1 | William T. Barry | OK | OK | OK |
| sagenhaft 1.21.0 | Tim Beissbarth | OK | OK | OK |
| SAGx 1.25.0 | Per Broberg, | OK | OK | OK |
| SamSPECTRAL 1.5.1 | Habil Zare | OK | OK | OK |
| SBMLR 1.47.0 | Tomas Radivoyevitch | OK | OK | OK |
| ScISI 1.23.0 | Tony Chiang | OK | OK | OK |
| segmentSeq 1.3.1 | Thomas J. Hardcastle | OK | OK | OK |
| seqbias 0.99.5 | Daniel Jones | OK | OK | OK |
| seqLogo 1.17.0 | Oliver Bembom | OK | OK | OK |
| ShortRead 1.9.14 | Biocore Team c/o BioC user list | OK | WARNINGS | OK |
| siggenes 1.25.0 | Holger Schwender | OK | OK | OK |
| sigPathway 1.19.0 | Weil Lai | OK | OK | OK |
| SIM 1.19.0 | Maarten van Iterson | OK | OK | OK |
| simpleaffy 2.27.1 | Crispin Miller | OK | OK | OK |
| simulatorAPMS 1.23.0 | Tony Chiang | OK | OK | OK |
| sizepower 1.21.0 | Weiliang Qiu | OK | OK | OK |
| SJava 0.77.0 | Martin Morgan | N O T S U P P O R T E D |
| SLGI 1.11.0 | Nolwenn Le Meur | OK | OK | OK |
| SLqPCR 1.17.0 | Matthias Kohl | OK | OK | OK |
| SMAP 1.15.0 | Robin Andersson | OK | OK | OK |
| snapCGH 1.21.0 | John Marioni | OK | OK | OK |
| snm 0.99.0 | Brig Mecham | OK | OK | OK |
| SNPchip 1.15.0 | Robert Scharpf | OK | OK | OK |
| snpMatrix 1.15.7 | David Clayton | OK | OK | OK |
| snpStats 1.1.10 | David Clayton | OK | OK | OK |
| SpeCond 1.5.0 | Florence Cavalli | ERROR | skipped | skipped |
| SPIA 1.9.0 | Adi Laurentiu Tarca | OK | OK | OK |
| spikeLI 2.11.1 | Enrico Carlon | OK | OK | OK |
| spkTools 1.7.0 | Matthew N McCall | OK | OK | OK |
| splicegear 1.23.0 | Laurent Gautier | OK | OK | OK |
| splots 1.17.1 | Wolfgang Huber | OK | OK | OK |
| spotSegmentation 1.25.0 | Chris Fraley | OK | OK | OK |
| SQUADD 1.1.0 | Martial Sankar | OK | OK | OK |
| SRAdb 1.5.1 | Jack Zhu | OK | OK | OK |
| sscore 1.23.0 | Richard Kennedy | OK | OK | OK |
| ssize 1.25.0 | Gregory R. Warnes | OK | OK | OK |
| SSPA 1.7.0 | Maarten van Iterson | OK | OK | OK |
| Starr 1.7.1 | Benedikt Zacher | OK | OK | OK |
| stepNorm 1.23.0 | Yuanyuan Xiao | OK | OK | OK |
|
| T A B C D E F G H I J K L M N O P Q R S [T] U V W X Y Z |
| TargetSearch 1.7.1 | Alvaro Cuadros-Inostroza | OK | OK | OK |
| TDARACNE 1.0.4 | Zoppoli Pietro | OK | OK | OK |
| TEQC 0.99.2 | Manuela Hummel | OK | OK | OK |
| tigre 1.5.2 | Antti Honkela | OK | OK | OK |
| tilingArray 1.29.0 | Zhenyu Xu | OK | OK | OK |
| timecourse 1.23.1 | Yu Chuan Tai | OK | OK | OK |
| tkWidgets 1.29.0 | J. Zhang | OK | OK | OK |
| topGO 2.3.1 | Adrian Alexa | OK | OK | OK |
| tspair 1.9.1 | Jeffrey T. Leek | OK | OK | OK |
| TurboNorm 0.99.0 | Maarten van Iterson | OK | OK | OK |
| twilight 1.27.0 | Stefanie Scheid | OK | OK | OK |
| TypeInfo 1.17.0 | Duncan Temple Lang | OK | OK | OK |
|
| V A B C D E F G H I J K L M N O P Q R S T U [V] W X Y Z |
| VanillaICE 1.13.3 | Robert Scharpf | OK | WARNINGS | OK |
| vbmp 1.19.0 | Nicola Lama | OK | OK | OK |
| Vega 0.99.2 | Sandro Morganella | OK | WARNINGS | OK |
| vsn 3.19.3 | Wolfgang Huber | OK | OK | OK |
|
| W A B C D E F G H I J K L M N O P Q R S T U V [W] X Y Z |
| weaver 1.17.0 | Seth Falcon | OK | OK | OK |
| webbioc 1.23.0 | Colin A. Smith | OK | OK | OK |
| widgetTools 1.29.0 | Jianhua Zhang | OK | OK | OK |
|
| X A B C D E F G H I J K L M N O P Q R S T U V W [X] Y Z |
| xcms 1.25.4 | Colin A. Smith | OK | OK | OK |
| XDE 1.11.0 | Robert Scharpf | OK | OK | OK |
| xmapbridge 1.9.1 | Tim Yates | OK | OK | OK |
| xmapcore 1.5.3 | Tim Yates | OK | OK | OK |
| xps 1.11.3 | Christian Stratowa | OK | OK | OK |
|
| Y A B C D E F G H I J K L M N O P Q R S T U V W X [Y] Z |
| yaqcaffy 1.11.4 | Laurent Gatto | OK | WARNINGS | OK |