| frmaTools 1.3.11 Matthew N. McCall
 
 | Snapshot Date: 2011-02-24 11:26:35 -0800 (Thu, 24 Feb 2011) |  | URL: https://hedgehog.fhcrc.org/bioconductor/trunk/madman/Rpacks/frmaTools |  | Last Changed Rev: 52954 / Revision: 53255 |  | Last Changed Date: 2011-02-17 12:17:35 -0800 (Thu, 17 Feb 2011) | 
 | lamb2 | Linux (openSUSE 11.2) / x86_64 | OK | WARNINGS |  | 
| liverpool | Windows Server 2003 R2 (32-bit) / x64 | OK | WARNINGS | OK | 
| gewurz | Windows Server 2008 R2 Enterprise (64-bit) / x64 | OK | WARNINGS | OK | 
| pelham | Mac OS X Leopard (10.5.8) / i386 | OK | WARNINGS | OK | 
| petty | Mac OS X Snow Leopard (10.6.4) / i386 | [ OK ] | WARNINGS | OK | 
* checking for file 'frmaTools/DESCRIPTION' ... OK
* preparing 'frmaTools':
* checking DESCRIPTION meta-information ... OK
* installing the package to re-build vignettes
* creating vignettes ... OK
* checking for LF line-endings in source and make files
* checking for empty or unneeded directories
* building 'frmaTools_1.3.11.tar.gz'