| Back to the "Multiple platform build/check report" | A B C D E F G H I J K L M N O [P] Q R S T U V W X Y Z |
| Package 310/436 | Hostname | OS / Arch | BUILD | CHECK | BUILD BIN | ||||
| pgUtils 1.23.0 Johannes Rainer
| lamb2 | Linux (openSUSE 11.2) / x86_64 | OK | OK | |||||
| liverpool | Windows Server 2003 R2 (32-bit) / x64 | N O T S U P P O R T E D | |||||||
| gewurz | Windows Server 2008 R2 Enterprise (64-bit) / x64 | N O T S U P P O R T E D | |||||||
| pelham | Mac OS X Leopard (10.5.8) / i386 | OK | OK | OK | |||||
| petty | Mac OS X Snow Leopard (10.6.4) / i386 | OK | ERROR | [ ERROR ] | |||||
| Package: pgUtils |
| Version: 1.23.0 |
| Command: /Users/biocbuild/BBS/utils/build-universal.sh pgUtils_1.23.0.tar.gz /Library/Frameworks/R.framework/Versions/2.13/Resources/bin/R pgUtils.buildbin-libdir |
| StartedAt: 2011-02-24 17:23:31 -0800 (Thu, 24 Feb 2011) |
| EndedAt: 2011-02-24 17:23:33 -0800 (Thu, 24 Feb 2011) |
| EllapsedTime: 2.1 seconds |
| RetCode: 1 |
| Status: ERROR |
| PackageFile: None |
| PackageFileSize: NA |
>>>>>>> >>>>>>> INSTALLATION WITH 'R CMD INSTALL --preclean --library=pgUtils.buildbin-libdir pgUtils_1.23.0.tar.gz' >>>>>>> ERROR: dependency 'RdbiPgSQL' is not available for package 'pgUtils' * removing '/Users/biocbuild/bbs-2.8-bioc/meat/pgUtils.buildbin-libdir/pgUtils'