| CGHnormaliter 1.5.1 Bart P.P. van Houte
 
 | Snapshot Date: 2011-02-24 11:26:35 -0800 (Thu, 24 Feb 2011) |  | URL: https://hedgehog.fhcrc.org/bioconductor/trunk/madman/Rpacks/CGHnormaliter |  | Last Changed Rev: 51621 / Revision: 53255 |  | Last Changed Date: 2010-12-20 09:00:50 -0800 (Mon, 20 Dec 2010) | 
 | lamb2 | Linux (openSUSE 11.2) / x86_64 | OK | OK |  | 
| liverpool | Windows Server 2003 R2 (32-bit) / x64 | OK | OK | OK | 
| gewurz | Windows Server 2008 R2 Enterprise (64-bit) / x64 | OK | OK | OK | 
| pelham | Mac OS X Leopard (10.5.8) / i386 | OK | OK | OK | 
| petty | Mac OS X Snow Leopard (10.6.4) / i386 | OK | OK | [ OK ] | 
>>>>>>> 
>>>>>>> INSTALLATION WITH 'R CMD INSTALL --preclean --library=CGHnormaliter.buildbin-libdir CGHnormaliter_1.5.1.tar.gz'
>>>>>>> 
* installing *source* package 'CGHnormaliter' ...
** R
** data
** inst
** preparing package for lazy loading
Loading required package: impute
Loading required package: DNAcopy
**************************************************************************
   The plan to change the data format for CNA object has been postponed   
 in order to ensure backward compatibility with older versions of DNAcopy 
**************************************************************************
Loading required package: Biobase
Welcome to Bioconductor
  Vignettes contain introductory material. To view, type
  'browseVignettes()'. To cite Bioconductor, see
  'citation("Biobase")' and for packages 'citation(pkgname)'.
Loading required package: CGHbase
Loading required package: marray
Loading required package: limma
Attaching package: 'CGHcall'
The following object(s) are masked from 'package:CGHbase':
    bpend, bpstart, calls, calls<-, chromosomes, copynumber,
    copynumber<-, probamp, probamp<-, probgain, probgain<-, probloss,
    probloss<-, probnorm, probnorm<-, segmented, segmented<-
** help
*** installing help indices
** building package indices ...
** testing if installed package can be loaded
* DONE (CGHnormaliter)