| Package STATUS - Package status is indicated by one of the following glyphs: | 
| -  TIMEOUT | BUILD, CHECK or BUILD BIN of package took more than 40 minutes | 
| -  ERROR | BUILD, CHECK or BUILD BIN of package returned an error | 
| -  WARNINGS | CHECK of package produced warnings | 
| -  OK | BUILD, CHECK or BUILD BIN of package was OK | 
| - skipped | CHECK or BUILD BIN of package was skipped because the BUILD step failed (or because something bad happened with the Build System itself) | 
| Click on any glyph in the report below to see the status details (command output). | 
| lamb1 | Linux (SUSE 10.1) / x86_64 |  |  |  | 
| wilson2 | Linux (openSUSE 10.3) / x86_64 |  |  |  | 
| [wellington] | Linux (openSUSE 10.3) / i686 |  |  |  | 
| liverpool | Windows Server 2003 R2 (32-bit) / x64 |  |  |  | 
| lemming | Windows Server 2003 (32-bit) / x64 |  |  |  | 
| pitt | Mac OS X Tiger (10.4.11) / i386 |  |  |  | 
|  | 
| A [A] B  C  D  E  F  G  H  I  J  K  L  M  N  O  P  Q  R  S  T  U  V  W  X  Y  Z | 
| ABarray 1.6.0 | Yongming Andrew Sun | OK | OK |  | 
| aCGH 1.12.0 | Jane Fridlyand | OK | WARNINGS |  | 
| ACME 1.4.0 | Sean Davis | OK | OK |  | 
| adSplit 1.8.0 | Claudio Lottaz | OK | OK |  | 
| affxparser 1.10.2 | Kasper Daniel Hansen | OK | OK |  | 
| affy 1.16.0 | Rafael A. Irizarry | OK | OK |  | 
| affycomp 1.14.0 | Rafael A. Irizarry | OK | OK |  | 
| affycoretools 1.10.2 | James W. MacDonald | OK | OK |  | 
| AffyExpress 1.2.0 | Xuejun Arthur Li | OK | OK |  | 
| affyio 1.6.1 | Benjamin Milo Bolstad | OK | OK |  | 
| affylmGUI 1.12.0 | Keith Satterley | OK | OK |  | 
| affypdnn 1.12.0 | Laurent Gautier | OK | OK |  | 
| affyPLM 1.14.0 | Ben Bolstad | OK | OK |  | 
| affyQCReport 1.16.0 | Craig Parman | OK | OK |  | 
| altcdfenvs 1.12.0 | Laurent Gautier | OK | OK |  | 
| annaffy 1.10.1 | Colin A. Smith | OK | OK |  | 
| AnnBuilder 1.16.0 | J. Zhang | OK | OK |  | 
| annotate 1.16.1 | Biocore Team c/o BioC user list | OK | OK |  | 
| AnnotationDbi 1.0.6 | Biocore Team c/o BioC user list | OK | OK |  | 
| annotationTools 1.8.0 | Alexandre Kuhn | OK | OK |  | 
| apComplex 2.4.0 | Denise Scholtens | OK | OK |  | 
| aroma.light 1.6.0 | Henrik Bengtsson | OK | OK |  | 
| arrayMagic 1.16.1 | Andreas Buness | OK | OK |  | 
| arrayQuality 1.14.0 | Agnes Paquet | OK | OK |  | 
| arrayQualityMetrics 1.2.1 | Audrey Kauffmann | OK | OK |  | 
|  | 
| B  A [B] C  D  E  F  G  H  I  J  K  L  M  N  O  P  Q  R  S  T  U  V  W  X  Y  Z | 
| beadarray 1.6.0 | Mark Dunning | OK | OK |  | 
| beadarraySNP 1.4.0 | Jan Oosting | OK | OK |  | 
| BeadExplorer 1.4.0 | Gareth Elvidge | OK | OK |  | 
| bgafun 1.1.0 | Iain Wallace | OK | OK |  | 
| bgx 1.2.2 | Ernest Turro | OK | OK |  | 
| Biobase 1.16.3 | Biocore Team c/o BioC user list | OK | OK |  | 
| biocGraph 1.0.0 | Li Long | OK | OK |  | 
| biocViews 1.6.1 | Biocore Team c/o BioC user list | OK | OK |  | 
| bioDist 1.10.0 | Biocore Team c/o BioC user list | OK | OK |  | 
| biomaRt 1.12.2 | Steffen Durinck | OK | OK |  | 
| BioMVCClass 1.6.0 | Elizabeth Whalen | OK | OK |  | 
| Biostrings 2.6.6 | H. Pages | OK | OK |  | 
| bridge 1.10.0 | Raphael Gottardo | OK | OK |  | 
| BSgenome 1.6.2 | H. Pages | OK | OK |  | 
| BufferedMatrix 1.2.0 | Benjamin Milo Bolstad | OK | OK |  | 
| BufferedMatrixMethods 1.2.0 | B. M. Bolstad | OK | OK |  | 
|  | 
| C  A  B [C] D  E  F  G  H  I  J  K  L  M  N  O  P  Q  R  S  T  U  V  W  X  Y  Z | 
| CALIB 1.4.0 | Hui Zhao | OK | OK |  | 
| Category 2.4.0 | Robert Gentleman | OK | OK |  | 
| cellHTS 1.8.0 | Ligia Bras | OK | OK |  | 
| cellHTS2 2.2.5 | Ligia Bras | OK | OK |  | 
| CGHcall 1.0.1 | Sjoerd Vosse | OK | OK |  | 
| cghMCR 1.8.0 | J. Zhang | OK | OK |  | 
| ChromoViz 1.10.2 | Jihoon Kim | OK | WARNINGS |  | 
| clusterStab 1.10.0 | James W. MacDonald | OK | OK |  | 
| CoCiteStats 1.10.0 | R. Gentleman | OK | OK |  | 
| codelink 1.6.0 | Diego Diez | OK | OK |  | 
| convert 1.14.0 | Yee Hwa (Jean) Yang | OK | OK |  | 
| copa 1.6.0 | James W. MacDonald | OK | OK |  | 
| CORREP 1.4.0 | Dongxiao Zhu | OK | OK |  | 
| cosmo 1.4.0 | Oliver Bembom | OK | OK |  | 
| cosmoGUI 1.4.0 | Oliver Bembom | OK | OK |  | 
| ctc 1.12.0 | Antoine Lucas | OK | OK |  | 
|  | 
| D  A  B  C [D] E  F  G  H  I  J  K  L  M  N  O  P  Q  R  S  T  U  V  W  X  Y  Z | 
| daMA 1.10.0 | Jobst Landgrebe | OK | OK |  | 
| DEDS 1.12.1 | Yuanyuan Xiao | OK | OK |  | 
| diffGeneAnalysis 1.20.0 | Choudary Jagarlamudi | OK | OK |  | 
| DNAcopy 1.12.0 | Venkatraman E. Seshan | OK | OK |  | 
| DynDoc 1.16.0 | Biocore Team c/o BioC user list | OK | OK |  | 
|  | 
| E  A  B  C  D [E] F  G  H  I  J  K  L  M  N  O  P  Q  R  S  T  U  V  W  X  Y  Z | 
| EBarrays 2.2.0 | Ming Yuan | OK | OK |  | 
| EBImage 2.2.0 | Oleg Sklyar | OK | OK |  | 
| ecolitk 1.10.1 | Laurent | OK | OK |  | 
| edd 1.16.0 | Vince Carey | OK | OK |  | 
| exonmap 1.4.3 | Crispin Miller | OK | WARNINGS |  | 
| explorase 1.2.0 | Michael Lawrence | OK | OK |  | 
|  | 
| F  A  B  C  D  E [F] G  H  I  J  K  L  M  N  O  P  Q  R  S  T  U  V  W  X  Y  Z | 
| factDesign 1.12.0 | Denise Scholtens | OK | OK |  | 
| fbat 1.2.0 | Weiliang Qiu | OK | OK |  | 
| fdrame 1.10.1 | Effi Kenigsberg | OK | OK |  | 
| flowCore 1.4.0 | Nolwenn Le Meur | OK | OK |  | 
| flowViz 1.2.0 | Florian Hahne | OK | OK |  | 
|  | 
| G  A  B  C  D  E  F [G] H  I  J  K  L  M  N  O  P  Q  R  S  T  U  V  W  X  Y  Z | 
| gaggle 1.6.0 | Dan Tenenbaum | OK | OK |  | 
| gcrma 2.10.0 | Z. Wu | OK | OK |  | 
| genArise 1.14.0 | IFC Development Team | OK | OK |  | 
| genefilter 1.16.0 | Biocore Team c/o BioC user list | OK | OK |  | 
| GeneMeta 1.10.0 | Biocore Team c/o BioC user list | OK | OK |  | 
| geneplotter 1.16.0 | Biocore Team c/o BioC user list | OK | OK |  | 
| GeneR 2.8.0 | Y. d'Aubenton-Carafa | OK | OK |  | 
| geneRecommender 1.10.0 | Greg Hather | OK | OK |  | 
| GeneSpring 2.12.0 | Thon de Boer | OK | OK |  | 
| GeneticsBase 1.2.0 | Gregory Warnes | OK | OK |  | 
| GeneticsDesign 1.4.0 | Weiliang Qiu | OK | OK |  | 
| GeneTraffic 1.10.0 | Daniel Iordan | OK | OK |  | 
| GeneTS 2.16.1 | Korbinian Strimmer | OK | OK |  | 
| GEOquery 2.2.1 | Sean Davis | OK | OK |  | 
| GGtools 1.6.1 | Vince Carey | OK | OK |  | 
| GLAD 1.12.0 | Philippe Hupe | OK | OK |  | 
| GlobalAncova 3.4.0 | R. Meister | OK | OK |  | 
| globaltest 4.8.0 | Jelle Goeman | OK | OK |  | 
| GOstats 2.4.0 | Robert Gentleman | OK | OK |  | 
| goTools 1.10.0 | Agnes Paquet | OK | OK |  | 
| gpls 1.10.0 | Biocore Team c/o BioC user list | OK | OK |  | 
| graph 1.16.1 | Robert Gentleman | OK | OK |  | 
| GraphAT 1.10.0 | Thomas LaFramboise | OK | OK |  | 
| GSEABase 1.0.3 | Biocore Team c/o BioC user list | OK | OK |  | 
|  | 
| H  A  B  C  D  E  F  G [H] I  J  K  L  M  N  O  P  Q  R  S  T  U  V  W  X  Y  Z | 
| Harshlight 1.8.0 | Maurizio Pellegrino | OK | OK |  | 
| Heatplus 1.8.0 | Alexander Ploner | OK | OK |  | 
| HEM 1.10.0 | HyungJun Cho | OK | OK |  | 
| hexbin 1.12.0 | Nicholas Lewin-Koh | OK | OK |  | 
| hopach 1.12.0 | Katherine S. Pollard | OK | OK |  | 
| hypergraph 1.10.0 | Robert Gentleman | OK | OK |  | 
|  | 
| I  A  B  C  D  E  F  G  H [I] J  K  L  M  N  O  P  Q  R  S  T  U  V  W  X  Y  Z | 
| Icens 1.10.0 | Biocore Team c/o BioC user list | OK | OK |  | 
| idiogram 1.12.0 | Karl J. Dykema | OK | OK |  | 
| impute 1.10.0 | Balasubramanian Narasimhan | OK | OK |  | 
| iSNetwork 1.8.0 | Elizabeth Whalen | OK | OK |  | 
| iSPlot 1.12.0 | Elizabeth Whalen | OK | OK |  | 
|  | 
| K  A  B  C  D  E  F  G  H  I  J [K] L  M  N  O  P  Q  R  S  T  U  V  W  X  Y  Z | 
| keggorth 1.0.0 | VJ Carey | OK | OK |  | 
| KEGGSOAP 1.12.0 | Robert Gentleman | OK | OK |  | 
|  | 
| L  A  B  C  D  E  F  G  H  I  J  K [L] M  N  O  P  Q  R  S  T  U  V  W  X  Y  Z | 
| lapmix 1.4.0 | Yann Ruffieux | OK | OK |  | 
| LBE 1.6.0 | Cyril Dalmasso | OK | OK |  | 
| limma 2.12.0 | Gordon Smyth | OK | OK |  | 
| limmaGUI 1.14.1 | Keith Satterley | OK | OK |  | 
| LMGene 1.8.0 | John Tillinghast | OK | OK |  | 
| logicFS 1.8.0 | Holger Schwender | OK | OK |  | 
| LPE 1.12.0 | Nitin Jain | OK | OK |  | 
| lumi 1.4.0 | Pan Du | OK | OK |  | 
|  | 
| M  A  B  C  D  E  F  G  H  I  J  K  L [M] N  O  P  Q  R  S  T  U  V  W  X  Y  Z | 
| maanova 1.8.1 | Hyuna Yang | OK | OK |  | 
| macat 1.12.0 | Joern Toedling | OK | OK |  | 
| maCorrPlot 1.8.0 | Alexander Ploner | OK | OK |  | 
| maDB 1.10.0 | Johannes Rainer | OK | OK |  | 
| made4 1.12.1 | Aedin Culhane | OK | OK |  | 
| maigesPack 1.2.1 | Gustavo H. Esteves | OK | OK |  | 
| makecdfenv 1.16.0 | James W. MacDonald | OK | OK |  | 
| makePlatformDesign 1.2.0 | Benilton Carvalho | OK | OK |  | 
| MANOR 1.10.0 | Pierre Neuvial | OK | OK |  | 
| MantelCorr 1.8.0 | Brian Steinmeyer | OK | OK |  | 
| marray 1.16.0 | Yee Hwa (Jean) Yang | OK | OK |  | 
| maSigPro 1.10.0 | Ana Conesa | OK | OK |  | 
| MassSpecWavelet 1.4.0 | Pan Du | OK | OK |  | 
| matchprobes 1.10.0 | Biocore Team c/o BioC user list | OK | OK |  | 
| MCRestimate 1.10.5 | Markus Ruschhaupt | OK | OK |  | 
| MeasurementError.cor 1.10.0 | Beiying Ding | OK | OK |  | 
| MergeMaid 2.10.0 | Xiaogang Zhong | OK | OK |  | 
| metaArray 1.12.0 | Hyungwon Choi | OK | OK |  | 
| Mfuzz 1.8.0 | Matthias Futschik | OK | OK |  | 
| MiPP 1.10.0 | Sukwoo Kim | OK | OK |  | 
| MLInterfaces 1.12.0 | V. Carey | OK | OK |  | 
| multtest 1.18.0 | Katherine S. Pollard | OK | OK |  | 
| MVCClass 1.12.0 | Elizabeth Whalen | OK | OK |  | 
|  | 
| N  A  B  C  D  E  F  G  H  I  J  K  L  M [N] O  P  Q  R  S  T  U  V  W  X  Y  Z | 
| nem 2.2.1 | Florian Markowetz | OK | OK |  | 
| nnNorm 2.2.0 | Adi Laurentiu Tarca | OK | OK |  | 
|  | 
| O  A  B  C  D  E  F  G  H  I  J  K  L  M  N [O] P  Q  R  S  T  U  V  W  X  Y  Z | 
| OCplus 1.12.0 | Alexander Ploner | OK | OK |  | 
| oligo 1.2.2 | Benilton Carvalho | OK | OK |  | 
| oligoClasses 1.0.3 | Benilton Carvalho | OK | OK |  | 
| OLIN 1.14.0 | Matthias Futschik | OK | OK |  | 
| OLINgui 1.12.0 | Matthias Futschik | OK | OK |  | 
| oneChannelGUI 1.4.5 | Raffaele A Calogero | OK | OK |  | 
| ontoTools 1.14.0 | Vince Carey | OK | OK |  | 
| OrderedList 1.10.0 | Claudio Lottaz | OK | OK |  | 
| OutlierD 1.2.0 | Sukwoo Kim | OK | OK |  | 
|  | 
| P  A  B  C  D  E  F  G  H  I  J  K  L  M  N  O [P] Q  R  S  T  U  V  W  X  Y  Z | 
| pamr 1.36.0 | Rob Tibshirani | OK | WARNINGS |  | 
| panp 1.8.0 | Peter Warren | OK | OK |  | 
| pathRender 1.6.1 | Li Long | OK | OK |  | 
| pcaMethods 1.14.0 | Wolfram Stacklies | OK | OK |  | 
| pcot2 1.6.0 | Sarah Song | OK | OK |  | 
| pdInfoBuilder 1.2.0 | Vince Carey | OK | OK |  | 
| pdmclass 1.10.0 | James W. MacDonald | OK | OK |  | 
| PGSEA 1.6.0 | Karl Dykema | OK | OK |  | 
| pgUtils 1.10.0 | Johannes Rainer | OK | OK |  | 
| pickgene 1.10.0 | Brian S. Yandell | OK | OK |  | 
| pkgDepTools 1.4.1 | Seth Falcon | OK | OK |  | 
| plgem 1.10.1 | Mattia Pelizzola | OK | OK |  | 
| plier 1.8.0 | Crispin Miller | OK | OK |  | 
| ppiStats 1.4.1 | Tony Chiang | OK | ERROR |  | 
| prada 1.14.0 | Florian Hahne | OK | OK |  | 
| preprocessCore 1.0.0 | Benjamin Milo Bolstad | OK | OK |  | 
| PROcess 1.14.0 | Xiaochun Li | OK | OK |  | 
| puma 1.4.3 | Richard Pearson | OK | OK |  | 
|  | 
| Q  A  B  C  D  E  F  G  H  I  J  K  L  M  N  O  P [Q] R  S  T  U  V  W  X  Y  Z | 
| quantsmooth 1.4.0 | Jan Oosting | OK | OK |  | 
| qvalue 1.12.0 | John D. Storey | OK | OK |  | 
|  | 
| R  A  B  C  D  E  F  G  H  I  J  K  L  M  N  O  P  Q [R] S  T  U  V  W  X  Y  Z | 
| rama 1.10.0 | Raphael Gottardo | OK | OK |  | 
| RankProd 2.10.0 | Fangxin Hong | OK | OK |  | 
| RbcBook1 1.6.0 | Vince Carey | OK | OK |  | 
| RBGL 1.14.0 | Li Long | OK | WARNINGS |  | 
| rbsurv 1.4.0 | Sukwoo Kim | OK | OK |  | 
| Rdbi 1.12.0 | Jianhua Zhang | OK | OK |  | 
| RdbiPgSQL 1.12.0 | Jianhua Zhang | OK | OK |  | 
| reb 1.12.0 | Karl J. Dykema | OK | OK |  | 
| RefPlus 1.8.1 | Kai-Ming Chang | OK | OK |  | 
| Resourcerer 1.12.0 | Jianhua Zhang | OK | OK |  | 
| rflowcyt 1.10.1 | N. LeMeur | OK | OK |  | 
| Rgraphviz 1.16.0 | Li Long | OK | OK |  | 
| rHVDM 1.4.0 | Martino Barenco | OK | OK |  | 
| Ringo 1.2.0 | J. Toedling | OK | OK |  | 
| Rintact 1.0.0 | Tony Chiang | OK | OK |  | 
| RLMM 1.0.0 | Nusrat Rabbee | OK | OK |  | 
| RMAGEML 2.12.0 | Steffen Durinck | OK | OK |  | 
| RMAPPER 1.8.2 | VJ Carey | OK | OK |  | 
| ROC 1.12.0 | Vince Carey | OK | OK |  | 
| rsbml 1.4.0 | Michael Lawrence | OK | OK |  | 
| RSNPper 1.12.0 | VJ Carey | OK | OK |  | 
| Ruuid 1.16.1 | Biocore Team c/o BioC user list | OK | OK |  | 
| RWebServices 1.2.0 | Biocore Team c/o BioC user list | OK | OK |  | 
|  | 
| S  A  B  C  D  E  F  G  H  I  J  K  L  M  N  O  P  Q  R [S] T  U  V  W  X  Y  Z | 
| safe 1.10.0 | William T. Barry | OK | OK |  | 
| SAGElyzer 1.16.0 | Jianhua Zhang | OK | WARNINGS |  | 
| sagenhaft 1.8.0 | Tim Beissbarth | OK | OK |  | 
| SAGx 1.12.0 | Per Broberg | OK | OK |  | 
| SBMLR 1.32.0 | Tomas Radivoyevitch | OK | OK |  | 
| ScISI 1.10.0 | Tony Chiang | ERROR | skipped |  | 
| SemSim 1.4.0 | Xiang Guo | OK | OK |  | 
| seqLogo 1.4.0 | Oliver Bembom | OK | OK |  | 
| siggenes 1.12.0 | Holger Schwender | OK | OK |  | 
| sigPathway 1.6.0 | Weil Lai | OK | OK |  | 
| simpleaffy 2.14.05 | Crispin Miller | OK | OK |  | 
| simulatorAPMS 1.10.0 | Tony Chiang | OK | OK |  | 
| sizepower 1.8.0 | Weiliang Qiu | OK | OK |  | 
| SLqPCR 1.4.0 | Matthias Kohl | OK | OK |  | 
| SMAP 1.2.0 | Robin Andersson | OK | OK |  | 
| snapCGH 1.6.0 | John Marioni | OK | OK |  | 
| SNPchip 1.2.1 | Robert Scharpf | OK | OK |  | 
| spikeLI 1.6.0 | Enrico Carlon | OK | OK |  | 
| splicegear 1.10.0 | Laurent | OK | OK |  | 
| splots 1.4.0 | Oleg Sklyar | OK | OK |  | 
| spotSegmentation 1.12.0 | Chris Fraley | OK | OK |  | 
| sscore 1.10.0 | Richard Kennedy | OK | OK |  | 
| ssize 1.10.0 | Gregory R. Warnes | OK | OK |  | 
| stepNorm 1.10.0 | Yuanyuan Xiao | OK | OK |  | 
|  | 
| T  A  B  C  D  E  F  G  H  I  J  K  L  M  N  O  P  Q  R  S [T] U  V  W  X  Y  Z | 
| tilingArray 1.16.0 | W. Huber | OK | OK |  | 
| timecourse 1.10.0 | Yu Chuan Tai | OK | OK |  | 
| tkWidgets 1.16.0 | J. Zhang | OK | OK |  | 
| topGO 1.4.0 | Adrian Alexa | OK | OK |  | 
| twilight 1.14.1 | Stefanie Scheid | OK | OK |  | 
| TypeInfo 1.4.0 | Duncan Temple Lang | OK | OK |  | 
|  | 
| V  A  B  C  D  E  F  G  H  I  J  K  L  M  N  O  P  Q  R  S  T  U [V] W  X  Y  Z | 
| VanillaICE 1.0.2 | Robert Scharpf | OK | OK |  | 
| vbmp 1.6.0 | Nicola Lama | OK | OK |  | 
| vsn 3.2.1 | Wolfgang Huber | OK | OK |  | 
|  | 
| W  A  B  C  D  E  F  G  H  I  J  K  L  M  N  O  P  Q  R  S  T  U  V [W] X  Y  Z | 
| weaver 1.4.0 | Seth Falcon | OK | OK |  | 
| webbioc 1.10.0 | Colin A. Smith | OK | OK |  | 
| widgetInvoke 1.10.0 | Jeff Gentry | OK | OK |  | 
| widgetTools 1.14.0 | Jianhua Zhang | OK | OK |  | 
|  | 
| X  A  B  C  D  E  F  G  H  I  J  K  L  M  N  O  P  Q  R  S  T  U  V  W [X] Y  Z | 
| xcms 1.10.7 | Colin A. Smith | OK | OK |  |