| limmaGUI 1.14.1 Keith Satterley
 
 | Snapshot Date: 2008-04-09 12:13:20 -0700 (Wed, 09 Apr 2008) |  | URL: https://hedgehog.fhcrc.org/bioconductor/branches/RELEASE_2_1/madman/Rpacks/limmaGUI |  | Last Changed Rev: 27741 / Revision: 30966 |  | Last Changed Date: 2007-10-03 19:51:29 -0700 (Wed, 03 Oct 2007) | 
 | lamb1 | Linux (SUSE 10.1) / x86_64 | OK | OK |  | 
| wilson2 | Linux (openSUSE 10.3) / x86_64 | OK | OK |  | 
| wellington | Linux (openSUSE 10.3) / i686 | [ OK ] | OK |  | 
| liverpool | Windows Server 2003 R2 (32-bit) / x64 | OK | OK | OK | 
| lemming | Windows Server 2003 (32-bit) / x64 | OK | OK | OK | 
| pitt | Mac OS X Tiger (10.4.11) / i386 | OK | OK | OK | 
* checking for file 'limmaGUI/DESCRIPTION' ... OK
* preparing 'limmaGUI':
* checking DESCRIPTION meta-information ... OK
* installing the package to re-build vignettes
* Installing *source* package 'limmaGUI' ...
** R
** inst
** preparing package for lazy loading
Loading required package: limma
Loading required package: tcltk
Loading Tcl/Tk interface ... done
** help
Note: unmatched right brace in 'limmaGUI' on or after line 139
 >>> Building/Updating help pages for package 'limmaGUI'
     Formats: text html latex example 
  LGchangelog                       text    html    latex
  limmaGUI                          text    html    latex
** building package indices ...
* DONE (limmaGUI)
* creating vignettes ... OK
* removing junk files
* checking for LF line-endings in source and make files
* checking for empty or unneeded directories
* building 'limmaGUI_1.14.1.tar.gz'