| prada 1.14.0 Florian Hahne
 
 | Snapshot Date: 2008-04-09 12:13:20 -0700 (Wed, 09 Apr 2008) |  | URL: https://hedgehog.fhcrc.org/bioconductor/branches/RELEASE_2_1/madman/Rpacks/prada |  | Last Changed Rev: 27709 / Revision: 30966 |  | Last Changed Date: 2007-10-02 17:41:09 -0700 (Tue, 02 Oct 2007) | 
 | lamb1 | Linux (SUSE 10.1) / x86_64 | OK | OK |  | 
| wilson2 | Linux (openSUSE 10.3) / x86_64 | OK | OK |  | 
| wellington | Linux (openSUSE 10.3) / i686 | [ OK ] | OK |  | 
| liverpool | Windows Server 2003 R2 (32-bit) / x64 | OK | OK | OK | 
| lemming | Windows Server 2003 (32-bit) / x64 | OK | OK | OK | 
| pitt | Mac OS X Tiger (10.4.11) / i386 | OK | OK | OK | 
* checking for file 'prada/DESCRIPTION' ... OK
* preparing 'prada':
* checking DESCRIPTION meta-information ... OK
* cleaning src
* installing the package to re-build vignettes
* Installing *source* package 'prada' ...
** libs
gcc -std=gnu99 -I/home/biocbuild/bbs-2.1-bioc/R/include -I/home/biocbuild/bbs-2.1-bioc/R/include  -I/usr/local/include    -fpic  -g -O2 -Wall -c inPolygon.c -o inPolygon.o
gcc -std=gnu99 -shared -L/usr/local/lib -o prada.so inPolygon.o   -L/home/biocbuild/bbs-2.1-bioc/R/lib -lR
** R
** data
** inst
** preparing package for lazy loading
Loading required package: Biobase
Loading required package: tools
Welcome to Bioconductor
  Vignettes contain introductory material. To view, type
  'openVignette()'. To cite Bioconductor, see
  'citation("Biobase")' and for packages 'citation(pkgname)'.
Loading required package: RColorBrewer
Loading required package: grid
Loading required package: rrcov
Loading required package: robustbase
Scalable Robust Estimators with High Breakdown Point (version 0.4-05)
Attaching package: 'rrcov'
	The following object(s) are masked from package:stats :
	 biplot,
	 predict,
	 screeplot 
KernSmooth 2.22 installed
Copyright M. P. Wand 1997
** help
 >>> Building/Updating help pages for package 'prada'
     Formats: text html latex example 
  analysePlate                      text    html    latex   example
  as.all                            text    html    latex   example
  barploterrbar                     text    html    latex   example
  combineFrames                     text    html    latex   example
  csApply                           text    html    latex   example
  cytoFrame-class                   text    html    latex   example
  cytoSet-class                     text    html    latex   example
  data-cytoFrame                    text    html    latex   example
  data-cytoSet                      text    html    latex   example
  devDims                           text    html    latex   example
  devRes                            text    html    latex   example
  fitNorm2                          text    html    latex   example
  gate-class                        text    html    latex   example
  gateSet-class                     text    html    latex   example
  getPradaPar                       text    html    latex   example
  new-internal                      text    html    latex
  plotNorm2                         text    html    latex   example
  plotPlate                         text    html    latex   example
  readCytoSet                       text    html    latex   example
  readFCS                           text    html    latex   example
  readFCSaux                        text    html    latex   example
  removeCensored                    text    html    latex   example
  tcltkProgress                     text    html    latex   example
  threePanelPlot                    text    html    latex   example
  thresholds                        text    html    latex   example
  touchFCS                          text    html    latex
  vpLocation                        text    html    latex   example
** building package indices ...
KernSmooth 2.22 installed
Copyright M. P. Wand 1997
Loading required package: methods
* DONE (prada)
* creating vignettes ... OK
* cleaning src
* removing junk files
* checking for LF line-endings in source and make files
* checking for empty or unneeded directories
* building 'prada_1.14.0.tar.gz'