| Category 2.4.0 Robert Gentleman
 
 | Snapshot Date: 2008-04-09 12:13:20 -0700 (Wed, 09 Apr 2008) |  | URL: https://hedgehog.fhcrc.org/bioconductor/branches/RELEASE_2_1/madman/Rpacks/Category |  | Last Changed Rev: 27709 / Revision: 30966 |  | Last Changed Date: 2007-10-02 17:41:09 -0700 (Tue, 02 Oct 2007) | 
 | lamb1 | Linux (SUSE 10.1) / x86_64 | OK | OK |  | 
| wilson2 | Linux (openSUSE 10.3) / x86_64 | OK | OK |  | 
| wellington | Linux (openSUSE 10.3) / i686 | [ OK ] | OK |  | 
| liverpool | Windows Server 2003 R2 (32-bit) / x64 | OK | OK | OK | 
| lemming | Windows Server 2003 (32-bit) / x64 | OK | OK | OK | 
| pitt | Mac OS X Tiger (10.4.11) / i386 | OK | OK | OK | 
* checking for file 'Category/DESCRIPTION' ... OK
* preparing 'Category':
* checking DESCRIPTION meta-information ... OK
* installing the package to re-build vignettes
* Installing *source* package 'Category' ...
** R
** inst
** preparing package for lazy loading
Loading required package: Biobase
Loading required package: tools
Welcome to Bioconductor
  Vignettes contain introductory material. To view, type
  'openVignette()'. To cite Bioconductor, see
  'citation("Biobase")' and for packages 'citation(pkgname)'.
Loading required package: graph
Loading required package: annotate
Loading required package: AnnotationDbi
Loading required package: DBI
Loading required package: RSQLite
Loading required package: xtable
Loading required package: genefilter
Loading required package: survival
Loading required package: splines
** help
 >>> Building/Updating help pages for package 'Category'
     Formats: text html latex example 
  ChrBandTree-class                 text    html    latex   example
  ChrMapHyperGParams-class          text    html    latex   example
  ChrMapHyperGResult-class          text    html    latex   example
  DatPkg-class                      text    html    latex   example
  GOHyperGParams-class              text    html    latex
  HyperGParams-class                text    html    latex
  HyperGResult-accessors            text    html    latex   example
  HyperGResult-class                text    html    latex
  HyperGResultBase-class            text    html    latex
  KEGGHyperGParams-class            text    html    latex
  MAPAmat                           text    html    latex   example
  NewChrBandTree                    text    html    latex
  applyByCategory                   text    html    latex   example
  cateGOryMatrix                    text    html    latex   example
  categoryToEntrezBuilder           text    html    latex
  cb_contingency                    text    html    latex
  cb_parse_band_Hs                  text    html    latex   example
  cb_parse_band_Mm                  text    html    latex   example
  cb_test                           text    html    latex
  exampleLevels                     text    html    latex
  findAMstats                       text    html    latex   example
  geneGoHyperGeoTest                text    html    latex
  geneKeggHyperGeoTest              text    html    latex
  getPathNames                      text    html    latex   example
  gseattperm                        text    html    latex   example
  hyperGTest                        text    html    latex
  local_test_factory                text    html    latex   example
  makeChrBandGraph                  text    html    latex   example
  makeEBcontr                       text    html    latex   example
  makeValidParams                   text    html    latex
  probes2MAP                        text    html    latex   example
  probes2Path                       text    html    latex   example
  tree_visitor                      text    html    latex
  ttperm                            text    html    latex   example
  universeBuilder                   text    html    latex
** building package indices ...
* DONE (Category)
* creating vignettes ... OK
* removing junk files
* checking for LF line-endings in source and make files
* checking for empty or unneeded directories
* building 'Category_2.4.0.tar.gz'