Back to the "Multiple platform build/check report"
| Package 160/234 | Hostname | OS | Arch | BUILD | CHECK | BUILD BIN |
pdInfoBuilder1.1.1Seth FalconLast Changed Date: 2007-04-24 17:54:20 -0700 Last Changed Rev: 24241 | lamb1 | Linux (SUSE 10.1) | x86_64 | OK | WARNINGS | |
| wellington | Linux (SUSE 9.2) | i686 | OK | WARNINGS | ||
| churchill | Solaris 2.9 | sparc | OK | WARNINGS | ||
| lemming | Windows Server 2003 (32-bit) | x64 | OK | OK | [ OK ] |
| Package: pdInfoBuilder |
| Version: 1.1.1 |
| Command: D:\biocbld\bbs-2.1-bioc\R\bin\R.exe CMD INSTALL --build --library=pdInfoBuilder.BUILDBINinstdir pdInfoBuilder_1.1.1.tar.gz |
| RetCode: 0 |
| Time: 14.0 seconds |
| Status: OK |
| PackageFile: pdInfoBuilder_1.1.1.zip |
installing R.css in D:/biocbld/bbs-2.1-bioc/meat/pdInfoBuilder.BUILDBINinstdir
Using auto-selected zip options ''
---------- Making package pdInfoBuilder ------------
adding build stamp to DESCRIPTION
installing NAMESPACE file and metadata
making DLL ...
making pdInfoBuilder.d from pdInfoBuilder.c
gcc -ID:/biocbld/bbs-2.1-bioc/R/include -Wall -O3 -std=gnu99 -c pdInfoBuilder.c -o pdInfoBuilder.o
windres -I D:/biocbld/bbs-2.1-bioc/R/include -i pdInfoBuilder_res.rc -o pdInfoBuilder_res.o
gcc -shared -s -o pdInfoBuilder.dll pdInfoBuilder.def pdInfoBuilder.o pdInfoBuilder_res.o -LD:/biocbld/bbs-2.1-bioc/R/bin -lR
... DLL made
installing DLL
installing R files
installing inst files
installing man source files
installing indices
installing help
>>> Building/Updating help pages for package 'pdInfoBuilder'
Formats: text html latex example chm
AffySNPPDInfoPkgSeed-class text html latex example chm
PDInfoPkgSeed-class text html latex example chm
PkgSeed-class text html latex example chm
chipName text html latex chm
makePdInfoPackage text html latex example chm
Microsoft HTML Help Compiler 4.74.8702
Compiling d:\biocbld\bbs-2.1-bioc\meat\R.INSTALL.4044\pdInfoBuilder\chm\pdInfoBuilder.chm
Compile time: 0 minutes, 0 seconds
6 Topics
16 Local links
0 Internet links
1 Graphic
Created d:\biocbld\bbs-2.1-bioc\meat\R.INSTALL.4044\pdInfoBuilder\chm\pdInfoBuilder.chm, 21,654 bytes
Compression increased file by 609 bytes.
preparing package pdInfoBuilder for lazy loading
Loading required package: Biobase
Loading required package: tools
Welcome to Bioconductor
Vignettes contain introductory material. To view, type
'openVignette()'. To cite Bioconductor, see
'citation("Biobase")' and for packages 'citation(pkgname)'.
Loading required package: RSQLite
Loading required package: DBI
Loading required package: affxparser
Loading required package: oligo
Loading required package: affyio
Loading required package: splines
Loading required package: BufferedMatrix
Loading required package: BufferedMatrixMethods
This is the oligo package
adding MD5 sums
packaged installation of package 'pdInfoBuilder' as pdInfoBuilder_1.1.1.zip
* DONE (pdInfoBuilder)