Back to the "Multiple platform build/check report"
| Package 160/234 | Hostname | OS | Arch | BUILD | CHECK | BUILD BIN | 
| pdInfoBuilder1.1.1Seth FalconLast Changed Date: 2007-04-24 17:54:20 -0700 Last Changed Rev: 24241 | lamb1 | Linux (SUSE 10.1) | x86_64 | [ OK ] | WARNINGS | |
| wellington | Linux (SUSE 9.2) | i686 | OK | WARNINGS | ||
| churchill | Solaris 2.9 | sparc | OK | WARNINGS | ||
| lemming | Windows Server 2003 (32-bit) | x64 | OK | OK | OK | 
| Package: pdInfoBuilder | 
| Version: 1.1.1 | 
| Command: /home/biocbuild/bbs-2.1-bioc/R/bin/R CMD build pdInfoBuilder | 
| RetCode: 0 | 
| Time: 6.5 seconds | 
| Status: OK | 
| PackageFile: pdInfoBuilder_1.1.1.tar.gz | 
* checking for file 'pdInfoBuilder/DESCRIPTION' ... OK
* preparing 'pdInfoBuilder':
* checking DESCRIPTION meta-information ... OK
* cleaning src
* installing the package to re-build vignettes
* Installing *source* package 'pdInfoBuilder' ...
** libs
gcc -std=gnu99 -I/home/biocbuild/bbs-2.1-bioc/R/include -I/home/biocbuild/bbs-2.1-bioc/R/include  -I/usr/local/include    -fpic  -g -O2 -Wall -c pdInfoBuilder.c -o pdInfoBuilder.o
gcc -std=gnu99 -shared -L/usr/local/lib64 -o pdInfoBuilder.so pdInfoBuilder.o   -L/home/biocbuild/bbs-2.1-bioc/R/lib -lR
** R
** inst
** preparing package for lazy loading
Loading required package: Biobase
Loading required package: tools
Welcome to Bioconductor
  Vignettes contain introductory material. To view, type
  'openVignette()'. To cite Bioconductor, see
  'citation("Biobase")' and for packages 'citation(pkgname)'.
Loading required package: RSQLite
Loading required package: DBI
Loading required package: affxparser
Loading required package: oligo
Loading required package: affyio
Loading required package: splines
Loading required package: BufferedMatrix
Loading required package: BufferedMatrixMethods
This is the oligo package
** help
 >>> Building/Updating help pages for package 'pdInfoBuilder'
     Formats: text html latex example 
  AffySNPPDInfoPkgSeed-class        text    html    latex   example
  PDInfoPkgSeed-class               text    html    latex   example
  PkgSeed-class                     text    html    latex   example
  chipName                          text    html    latex
  makePdInfoPackage                 text    html    latex   example
** building package indices ...
* DONE (pdInfoBuilder)
* creating vignettes ... OK
* cleaning src
* removing junk files
* checking for LF line-endings in source files
* checking for empty or unneeded directories
* building 'pdInfoBuilder_1.1.1.tar.gz'