Back to the "Multiple platform build/check report"
| Package 160/234 | Hostname | OS | Arch | BUILD | CHECK | BUILD BIN |
pdInfoBuilder1.1.1Seth FalconLast Changed Date: 2007-04-24 17:54:20 -0700 Last Changed Rev: 24241 | lamb1 | Linux (SUSE 10.1) | x86_64 | OK | WARNINGS | |
| wellington | Linux (SUSE 9.2) | i686 | OK | WARNINGS | ||
| churchill | Solaris 2.9 | sparc | OK | WARNINGS | ||
| lemming | Windows Server 2003 (32-bit) | x64 | OK | [ OK ] | OK |
| Package: pdInfoBuilder |
| Version: 1.1.1 |
| Command: D:\biocbld\bbs-2.1-bioc\R\bin\R.exe CMD check pdInfoBuilder_1.1.1.tar.gz |
| RetCode: 0 |
| Time: 90.4 seconds |
| Status: OK |
| CheckDir: pdInfoBuilder.Rcheck |
| Warnings: 0 |
* checking for working latex ... OK * using log directory 'D:/biocbld/bbs-2.1-bioc/meat/pdInfoBuilder.Rcheck' * using R version 2.6.0 Under development (unstable) (2007-04-17 r41210) * checking for file 'pdInfoBuilder/DESCRIPTION' ... OK * this is package 'pdInfoBuilder' version '1.1.1' * checking package dependencies ... OK * checking if this is a source package ... OK * checking whether package 'pdInfoBuilder' can be installed ... OK * checking package directory ... OK * checking for portable file names ... OK * checking DESCRIPTION meta-information ... OK * checking top-level files ... OK * checking index information ... OK * checking package subdirectories ... OK * checking R files for non-ASCII characters ... OK * checking R files for syntax errors ... OK * checking whether the package can be loaded ... OK * checking whether the package can be loaded with stated dependencies ... OK * checking whether the name space can be loaded with stated dependencies ... OK * checking for unstated dependencies in R code ... OK * checking S3 generic/method consistency ... OK * checking replacement functions ... OK * checking foreign function calls ... OK * checking R code for possible problems ... OK * checking Rd files ... OK * checking Rd cross-references ... OK * checking for missing documentation entries ... OK * checking for code/documentation mismatches ... OK * checking Rd \usage sections ... OK * checking for CRLF line endings in C/C++/Fortran sources/headers ... OK * checking for portable use of $BLAS_LIBS ... OK * creating pdInfoBuilder-Ex.R ... OK * checking examples ... OK * checking package vignettes in 'inst/doc' ... OK * creating pdInfoBuilder-manual.tex ... OK * checking pdInfoBuilder-manual.tex ... OK
pdInfoBuilder.Rcheck/00install.out:
installing R.css in D:/biocbld/bbs-2.1-bioc/meat/pdInfoBuilder.Rcheck
---------- Making package pdInfoBuilder ------------
adding build stamp to DESCRIPTION
installing NAMESPACE file and metadata
making DLL ...
making pdInfoBuilder.d from pdInfoBuilder.c
gcc -Id:/biocbld/bbs-2.1-bioc/R/include -Wall -O3 -std=gnu99 -c pdInfoBuilder.c -o pdInfoBuilder.o
windres -I d:/biocbld/bbs-2.1-bioc/R/include -i pdInfoBuilder_res.rc -o pdInfoBuilder_res.o
gcc -shared -s -o pdInfoBuilder.dll pdInfoBuilder.def pdInfoBuilder.o pdInfoBuilder_res.o -Ld:/biocbld/bbs-2.1-bioc/R/bin -lR
... DLL made
installing DLL
installing R files
installing inst files
installing man source files
installing indices
installing help
>>> Building/Updating help pages for package 'pdInfoBuilder'
Formats: text html latex example chm
AffySNPPDInfoPkgSeed-class text html latex example chm
PDInfoPkgSeed-class text html latex example chm
PkgSeed-class text html latex example chm
chipName text html latex chm
makePdInfoPackage text html latex example chm
Microsoft HTML Help Compiler 4.74.8702
Compiling d:\biocbld\bbs-2.1-bioc\meat\pdInfoBuilder.Rcheck\00_pkg_src\pdInfoBuilder\chm\pdInfoBuilder.chm
Compile time: 0 minutes, 0 seconds
6 Topics
16 Local links
0 Internet links
1 Graphic
Created d:\biocbld\bbs-2.1-bioc\meat\pdInfoBuilder.Rcheck\00_pkg_src\pdInfoBuilder\chm\pdInfoBuilder.chm, 21,654 bytes
Compression increased file by 609 bytes.
preparing package pdInfoBuilder for lazy loading
Loading required package: Biobase
Loading required package: tools
Welcome to Bioconductor
Vignettes contain introductory material. To view, type
'openVignette()'. To cite Bioconductor, see
'citation("Biobase")' and for packages 'citation(pkgname)'.
Loading required package: RSQLite
Loading required package: DBI
Loading required package: affxparser
Loading required package: oligo
Loading required package: affyio
Loading required package: splines
Loading required package: BufferedMatrix
Loading required package: BufferedMatrixMethods
This is the oligo package
adding MD5 sums
* DONE (pdInfoBuilder)