| Back to Multiple platform build/check report for BioC 3.22: simplified long |
|
This page was generated on 2025-10-31 12:03 -0400 (Fri, 31 Oct 2025).
| Hostname | OS | Arch (*) | R version | Installed pkgs |
|---|---|---|---|---|
| nebbiolo2 | Linux (Ubuntu 24.04.3 LTS) | x86_64 | 4.5.1 Patched (2025-08-23 r88802) -- "Great Square Root" | 4901 |
| lconway | macOS 12.7.6 Monterey | x86_64 | 4.5.1 Patched (2025-09-10 r88807) -- "Great Square Root" | 4691 |
| kjohnson3 | macOS 13.7.7 Ventura | arm64 | 4.5.1 Patched (2025-09-10 r88807) -- "Great Square Root" | 4637 |
| Click on any hostname to see more info about the system (e.g. compilers) (*) as reported by 'uname -p', except on Windows and Mac OS X | ||||
| Package 2078/2361 | Hostname | OS / Arch | INSTALL | BUILD | CHECK | BUILD BIN | ||||||||
| spatialDE 1.16.0 (landing page) Gabriele Sales
| nebbiolo2 | Linux (Ubuntu 24.04.3 LTS) / x86_64 | OK | OK | OK | |||||||||
| lconway | macOS 12.7.6 Monterey / x86_64 | OK | ERROR | skipped | skipped | |||||||||
| kjohnson3 | macOS 13.7.7 Ventura / arm64 | OK | ERROR | skipped | skipped | |||||||||
|
To the developers/maintainers of the spatialDE package: - Allow up to 24 hours (and sometimes 48 hours) for your latest push to git@git.bioconductor.org:packages/spatialDE.git to reflect on this report. See Troubleshooting Build Report for more information. - Use the following Renviron settings to reproduce errors and warnings. - If 'R CMD check' started to fail recently on the Linux builder(s) over a missing dependency, add the missing dependency to 'Suggests:' in your DESCRIPTION file. See Renviron.bioc for more information. |
| Package: spatialDE |
| Version: 1.16.0 |
| Command: /home/biocbuild/bbs-3.22-bioc/R/bin/R CMD check --install=check:spatialDE.install-out.txt --library=/home/biocbuild/bbs-3.22-bioc/R/site-library --timings spatialDE_1.16.0.tar.gz |
| StartedAt: 2025-10-31 04:20:35 -0400 (Fri, 31 Oct 2025) |
| EndedAt: 2025-10-31 04:26:05 -0400 (Fri, 31 Oct 2025) |
| EllapsedTime: 330.2 seconds |
| RetCode: 0 |
| Status: OK |
| CheckDir: spatialDE.Rcheck |
| Warnings: 0 |
##############################################################################
##############################################################################
###
### Running command:
###
### /home/biocbuild/bbs-3.22-bioc/R/bin/R CMD check --install=check:spatialDE.install-out.txt --library=/home/biocbuild/bbs-3.22-bioc/R/site-library --timings spatialDE_1.16.0.tar.gz
###
##############################################################################
##############################################################################
* using log directory ‘/home/biocbuild/bbs-3.22-bioc/meat/spatialDE.Rcheck’
* using R version 4.5.1 Patched (2025-08-23 r88802)
* using platform: x86_64-pc-linux-gnu
* R was compiled by
gcc (Ubuntu 13.3.0-6ubuntu2~24.04) 13.3.0
GNU Fortran (Ubuntu 13.3.0-6ubuntu2~24.04) 13.3.0
* running under: Ubuntu 24.04.3 LTS
* using session charset: UTF-8
* checking for file ‘spatialDE/DESCRIPTION’ ... OK
* this is package ‘spatialDE’ version ‘1.16.0’
* package encoding: UTF-8
* checking package namespace information ... OK
* checking package dependencies ... OK
* checking if this is a source package ... OK
* checking if there is a namespace ... OK
* checking for hidden files and directories ... OK
* checking for portable file names ... OK
* checking for sufficient/correct file permissions ... OK
* checking whether package ‘spatialDE’ can be installed ... NOTE
Found the following notes/warnings:
Non-staged installation was used
See ‘/home/biocbuild/bbs-3.22-bioc/meat/spatialDE.Rcheck/00install.out’ for details.
* checking installed package size ... OK
* checking package directory ... OK
* checking ‘build’ directory ... OK
* checking DESCRIPTION meta-information ... OK
* checking top-level files ... OK
* checking for left-over files ... OK
* checking index information ... OK
* checking package subdirectories ... OK
* checking code files for non-ASCII characters ... OK
* checking R files for syntax errors ... OK
* checking whether the package can be loaded ... OK
* checking whether the package can be loaded with stated dependencies ... OK
* checking whether the package can be unloaded cleanly ... OK
* checking whether the namespace can be loaded with stated dependencies ... OK
* checking whether the namespace can be unloaded cleanly ... OK
* checking loading without being on the library search path ... OK
* checking dependencies in R code ... OK
* checking S3 generic/method consistency ... OK
* checking replacement functions ... OK
* checking foreign function calls ... OK
* checking R code for possible problems ... OK
* checking Rd files ... OK
* checking Rd metadata ... OK
* checking Rd cross-references ... NOTE
Found the following Rd file(s) with Rd \link{} targets missing package
anchors:
mockSVG.Rd: SpatialExperiment-class
modelSearch.Rd: SpatialExperiment-class
multiGenePlots.Rd: SpatialExperiment-class
spatialDE.Rd: SpatialExperiment-class
spatialPatterns.Rd: SpatialExperiment-class
Please provide package anchors for all Rd \link{} targets not in the
package itself and the base packages.
* checking for missing documentation entries ... OK
* checking for code/documentation mismatches ... OK
* checking Rd \usage sections ... OK
* checking Rd contents ... OK
* checking for unstated dependencies in examples ... OK
* checking contents of ‘data’ directory ... OK
* checking data for non-ASCII characters ... OK
* checking data for ASCII and uncompressed saves ... OK
* checking line endings in shell scripts ... OK
* checking files in ‘vignettes’ ... OK
* checking examples ... OK
Examples with CPU (user + system) or elapsed time > 5s
user system elapsed
spatial_patterns 11.756 6.473 9.114
* checking for unstated dependencies in ‘tests’ ... OK
* checking tests ...
Running ‘testthat.R’
OK
* checking for unstated dependencies in vignettes ... OK
* checking package vignettes ... OK
* checking re-building of vignette outputs ... OK
* checking PDF version of manual ... OK
* DONE
Status: 2 NOTEs
See
‘/home/biocbuild/bbs-3.22-bioc/meat/spatialDE.Rcheck/00check.log’
for details.
spatialDE.Rcheck/00install.out
############################################################################## ############################################################################## ### ### Running command: ### ### /home/biocbuild/bbs-3.22-bioc/R/bin/R CMD INSTALL spatialDE ### ############################################################################## ############################################################################## * installing to library ‘/home/biocbuild/bbs-3.22-bioc/R/site-library’ * installing *source* package ‘spatialDE’ ... ** this is package ‘spatialDE’ version ‘1.16.0’ ** using non-staged installation via StagedInstall field ** R ** data ** inst ** byte-compile and prepare package for lazy loading ** help *** installing help indices ** building package indices ** installing vignettes ** testing if installed package can be loaded * DONE (spatialDE)
spatialDE.Rcheck/tests/testthat.Rout
R version 4.5.1 Patched (2025-08-23 r88802) -- "Great Square Root"
Copyright (C) 2025 The R Foundation for Statistical Computing
Platform: x86_64-pc-linux-gnu
R is free software and comes with ABSOLUTELY NO WARRANTY.
You are welcome to redistribute it under certain conditions.
Type 'license()' or 'licence()' for distribution details.
R is a collaborative project with many contributors.
Type 'contributors()' for more information and
'citation()' on how to cite R or R packages in publications.
Type 'demo()' for some demos, 'help()' for on-line help, or
'help.start()' for an HTML browser interface to help.
Type 'q()' to quit R.
> library(testthat)
> library(spatialDE)
>
> test_check("spatialDE")
Loading required package: SingleCellExperiment
Loading required package: SummarizedExperiment
Loading required package: MatrixGenerics
Loading required package: matrixStats
Attaching package: 'MatrixGenerics'
The following objects are masked from 'package:matrixStats':
colAlls, colAnyNAs, colAnys, colAvgsPerRowSet, colCollapse,
colCounts, colCummaxs, colCummins, colCumprods, colCumsums,
colDiffs, colIQRDiffs, colIQRs, colLogSumExps, colMadDiffs,
colMads, colMaxs, colMeans2, colMedians, colMins, colOrderStats,
colProds, colQuantiles, colRanges, colRanks, colSdDiffs, colSds,
colSums2, colTabulates, colVarDiffs, colVars, colWeightedMads,
colWeightedMeans, colWeightedMedians, colWeightedSds,
colWeightedVars, rowAlls, rowAnyNAs, rowAnys, rowAvgsPerColSet,
rowCollapse, rowCounts, rowCummaxs, rowCummins, rowCumprods,
rowCumsums, rowDiffs, rowIQRDiffs, rowIQRs, rowLogSumExps,
rowMadDiffs, rowMads, rowMaxs, rowMeans2, rowMedians, rowMins,
rowOrderStats, rowProds, rowQuantiles, rowRanges, rowRanks,
rowSdDiffs, rowSds, rowSums2, rowTabulates, rowVarDiffs, rowVars,
rowWeightedMads, rowWeightedMeans, rowWeightedMedians,
rowWeightedSds, rowWeightedVars
Loading required package: GenomicRanges
Loading required package: stats4
Loading required package: BiocGenerics
Loading required package: generics
Attaching package: 'generics'
The following objects are masked from 'package:base':
as.difftime, as.factor, as.ordered, intersect, is.element, setdiff,
setequal, union
Attaching package: 'BiocGenerics'
The following objects are masked from 'package:stats':
IQR, mad, sd, var, xtabs
The following objects are masked from 'package:base':
Filter, Find, Map, Position, Reduce, anyDuplicated, aperm, append,
as.data.frame, basename, cbind, colnames, dirname, do.call,
duplicated, eval, evalq, get, grep, grepl, is.unsorted, lapply,
mapply, match, mget, order, paste, pmax, pmax.int, pmin, pmin.int,
rank, rbind, rownames, sapply, saveRDS, table, tapply, unique,
unsplit, which.max, which.min
Loading required package: S4Vectors
Attaching package: 'S4Vectors'
The following object is masked from 'package:utils':
findMatches
The following objects are masked from 'package:base':
I, expand.grid, unname
Loading required package: IRanges
Loading required package: Seqinfo
Loading required package: Biobase
Welcome to Bioconductor
Vignettes contain introductory material; view with
'browseVignettes()'. To cite Bioconductor, see
'citation("Biobase")', and for packages 'citation("pkgname")'.
Attaching package: 'Biobase'
The following object is masked from 'package:MatrixGenerics':
rowMedians
The following objects are masked from 'package:matrixStats':
anyMissing, rowMedians
Models: 0%| | 0/10 [00:00<?, ?it/s]
0%| | 0/100 [00:00<?, ?it/s][A
58%|█████▊ | 58/100 [00:00<00:00, 572.24it/s][A
[A
Models: 10%|█ | 1/10 [00:00<00:01, 5.41it/s]
0%| | 0/100 [00:00<?, ?it/s][A
38%|███▊ | 38/100 [00:00<00:00, 377.33it/s][A
76%|███████▌ | 76/100 [00:00<00:00, 376.89it/s][A
[A
Models: 20%|██ | 2/10 [00:00<00:01, 4.34it/s]
0%| | 0/100 [00:00<?, ?it/s][A
37%|███▋ | 37/100 [00:00<00:00, 362.23it/s][A
74%|███████▍ | 74/100 [00:00<00:00, 366.38it/s][A
[A
Models: 30%|███ | 3/10 [00:00<00:01, 3.90it/s]
0%| | 0/100 [00:00<?, ?it/s][A
34%|███▍ | 34/100 [00:00<00:00, 337.81it/s][A
69%|██████▉ | 69/100 [00:00<00:00, 341.28it/s][A
[A
Models: 40%|████ | 4/10 [00:01<00:01, 3.68it/s]
0%| | 0/100 [00:00<?, ?it/s][A
36%|███▌ | 36/100 [00:00<00:00, 350.42it/s][A
72%|███████▏ | 72/100 [00:00<00:00, 346.96it/s][A
[A
Models: 50%|█████ | 5/10 [00:01<00:01, 3.59it/s]
0%| | 0/100 [00:00<?, ?it/s][A
36%|███▌ | 36/100 [00:00<00:00, 349.54it/s][A
72%|███████▏ | 72/100 [00:00<00:00, 351.03it/s][A
[A
Models: 60%|██████ | 6/10 [00:01<00:01, 3.54it/s]
0%| | 0/100 [00:00<?, ?it/s][A
37%|███▋ | 37/100 [00:00<00:00, 362.88it/s][A
74%|███████▍ | 74/100 [00:00<00:00, 359.02it/s][A
[A
Models: 70%|███████ | 7/10 [00:01<00:00, 3.54it/s]
0%| | 0/100 [00:00<?, ?it/s][A
37%|███▋ | 37/100 [00:00<00:00, 360.81it/s][A
74%|███████▍ | 74/100 [00:00<00:00, 355.28it/s][A
[A
Models: 80%|████████ | 8/10 [00:02<00:00, 3.54it/s]
0%| | 0/100 [00:00<?, ?it/s][A
36%|███▌ | 36/100 [00:00<00:00, 358.50it/s][A
72%|███████▏ | 72/100 [00:00<00:00, 283.91it/s][A
[A
Models: 90%|█████████ | 9/10 [00:02<00:00, 3.39it/s]
0%| | 0/100 [00:00<?, ?it/s][A
40%|████ | 40/100 [00:00<00:00, 398.49it/s][A
80%|████████ | 80/100 [00:00<00:00, 394.00it/s][A
[A
Models: 100%|██████████| 10/10 [00:02<00:00, 3.54it/s]
Models: 100%|██████████| 10/10 [00:02<00:00, 3.63it/s]
Models: 0%| | 0/10 [00:00<?, ?it/s]
0%| | 0/100 [00:00<?, ?it/s][A
55%|█████▌ | 55/100 [00:00<00:00, 545.53it/s][A
[A
Models: 10%|█ | 1/10 [00:00<00:01, 5.38it/s]
0%| | 0/100 [00:00<?, ?it/s][A
43%|████▎ | 43/100 [00:00<00:00, 427.29it/s][A
86%|████████▌ | 86/100 [00:00<00:00, 406.84it/s][A
[A
Models: 20%|██ | 2/10 [00:00<00:01, 4.48it/s]
0%| | 0/100 [00:00<?, ?it/s][A
40%|████ | 40/100 [00:00<00:00, 398.50it/s][A
80%|████████ | 80/100 [00:00<00:00, 383.48it/s][A
[A
Models: 30%|███ | 3/10 [00:00<00:01, 4.12it/s]
0%| | 0/100 [00:00<?, ?it/s][A
40%|████ | 40/100 [00:00<00:00, 391.16it/s][A
80%|████████ | 80/100 [00:00<00:00, 373.43it/s][A
[A
Models: 40%|████ | 4/10 [00:00<00:01, 3.94it/s]
0%| | 0/100 [00:00<?, ?it/s][A
39%|███▉ | 39/100 [00:00<00:00, 385.98it/s][A
78%|███████▊ | 78/100 [00:00<00:00, 366.62it/s][A
[A
Models: 50%|█████ | 5/10 [00:01<00:01, 3.81it/s]
0%| | 0/100 [00:00<?, ?it/s][A
39%|███▉ | 39/100 [00:00<00:00, 387.21it/s][A
78%|███████▊ | 78/100 [00:00<00:00, 369.19it/s][A
[A
Models: 60%|██████ | 6/10 [00:01<00:01, 3.75it/s]
0%| | 0/100 [00:00<?, ?it/s][A
40%|████ | 40/100 [00:00<00:00, 394.12it/s][A
80%|████████ | 80/100 [00:00<00:00, 376.78it/s][A
[A
Models: 70%|███████ | 7/10 [00:01<00:00, 3.75it/s]
0%| | 0/100 [00:00<?, ?it/s][A
39%|███▉ | 39/100 [00:00<00:00, 387.62it/s][A
78%|███████▊ | 78/100 [00:00<00:00, 372.91it/s][A
[A
Models: 80%|████████ | 8/10 [00:02<00:00, 3.73it/s]
0%| | 0/100 [00:00<?, ?it/s][A
40%|████ | 40/100 [00:00<00:00, 390.51it/s][A
80%|████████ | 80/100 [00:00<00:00, 379.50it/s][A
[A
Models: 90%|█████████ | 9/10 [00:02<00:00, 3.75it/s]
0%| | 0/100 [00:00<?, ?it/s][A
41%|████ | 41/100 [00:00<00:00, 409.10it/s][A
82%|████████▏ | 82/100 [00:00<00:00, 406.58it/s][A
[A
Models: 100%|██████████| 10/10 [00:02<00:00, 3.83it/s]
Models: 100%|██████████| 10/10 [00:02<00:00, 3.88it/s]
/var/cache/basilisk/1.22.0/spatialDE/1.16.0/env/lib/python3.11/site-packages/pandas/core/internals/blocks.py:351: RuntimeWarning: invalid value encountered in log
result = func(self.values, **kwargs)
Models: 0%| | 0/10 [00:00<?, ?it/s]
0%| | 0/100 [00:00<?, ?it/s][A
54%|█████▍ | 54/100 [00:00<00:00, 533.91it/s][A
[A
Models: 10%|█ | 1/10 [00:00<00:01, 5.42it/s]
0%| | 0/100 [00:00<?, ?it/s][A
44%|████▍ | 44/100 [00:00<00:00, 432.61it/s][A
88%|████████▊ | 88/100 [00:00<00:00, 412.13it/s][A
[A
Models: 20%|██ | 2/10 [00:00<00:01, 4.54it/s]
0%| | 0/100 [00:00<?, ?it/s][A
40%|████ | 40/100 [00:00<00:00, 398.61it/s][A
80%|████████ | 80/100 [00:00<00:00, 384.04it/s][A
[A
Models: 30%|███ | 3/10 [00:00<00:01, 4.19it/s]
0%| | 0/100 [00:00<?, ?it/s][A
38%|███▊ | 38/100 [00:00<00:00, 376.50it/s][A
76%|███████▌ | 76/100 [00:00<00:00, 365.98it/s][A
[A
Models: 40%|████ | 4/10 [00:00<00:01, 3.95it/s]
0%| | 0/100 [00:00<?, ?it/s][A
38%|███▊ | 38/100 [00:00<00:00, 375.00it/s][A
76%|███████▌ | 76/100 [00:00<00:00, 363.64it/s][A
[A
Models: 50%|█████ | 5/10 [00:01<00:01, 3.84it/s]
0%| | 0/100 [00:00<?, ?it/s][A
39%|███▉ | 39/100 [00:00<00:00, 381.39it/s][A
78%|███████▊ | 78/100 [00:00<00:00, 365.71it/s][A
[A
Models: 60%|██████ | 6/10 [00:01<00:01, 3.77it/s]
0%| | 0/100 [00:00<?, ?it/s][A
40%|████ | 40/100 [00:00<00:00, 391.99it/s][A
80%|████████ | 80/100 [00:00<00:00, 374.91it/s][A
[A
Models: 70%|███████ | 7/10 [00:01<00:00, 3.75it/s]
0%| | 0/100 [00:00<?, ?it/s][A
40%|████ | 40/100 [00:00<00:00, 390.64it/s][A
80%|████████ | 80/100 [00:00<00:00, 378.85it/s][A
[A
Models: 80%|████████ | 8/10 [00:02<00:00, 3.76it/s]
0%| | 0/100 [00:00<?, ?it/s][A
42%|████▏ | 42/100 [00:00<00:00, 416.41it/s][A
84%|████████▍ | 84/100 [00:00<00:00, 389.92it/s][A
[A
Models: 90%|█████████ | 9/10 [00:02<00:00, 3.80it/s]
0%| | 0/100 [00:00<?, ?it/s][A
44%|████▍ | 44/100 [00:00<00:00, 429.21it/s][A
87%|████████▋ | 87/100 [00:00<00:00, 413.94it/s][A
[A
Models: 100%|██████████| 10/10 [00:02<00:00, 3.90it/s]
Models: 100%|██████████| 10/10 [00:02<00:00, 3.93it/s]
Models: 0%| | 0/10 [00:00<?, ?it/s]
0%| | 0/100 [00:00<?, ?it/s][A
54%|█████▍ | 54/100 [00:00<00:00, 533.38it/s][A
[A
Models: 10%|█ | 1/10 [00:00<00:01, 5.45it/s]
0%| | 0/100 [00:00<?, ?it/s][A
46%|████▌ | 46/100 [00:00<00:00, 452.65it/s][A
92%|█████████▏| 92/100 [00:00<00:00, 423.08it/s][A
[A
Models: 20%|██ | 2/10 [00:00<00:01, 4.65it/s]
0%| | 0/100 [00:00<?, ?it/s][A
41%|████ | 41/100 [00:00<00:00, 409.69it/s][A
82%|████████▏ | 82/100 [00:00<00:00, 390.76it/s][A
[A
Models: 30%|███ | 3/10 [00:00<00:01, 4.29it/s]
0%| | 0/100 [00:00<?, ?it/s][A
39%|███▉ | 39/100 [00:00<00:00, 388.70it/s][A
78%|███████▊ | 78/100 [00:00<00:00, 374.38it/s][A
[A
Models: 40%|████ | 4/10 [00:00<00:01, 4.06it/s]
0%| | 0/100 [00:00<?, ?it/s][A
39%|███▉ | 39/100 [00:00<00:00, 382.42it/s][A
78%|███████▊ | 78/100 [00:00<00:00, 370.84it/s][A
[A
Models: 50%|█████ | 5/10 [00:01<00:01, 3.93it/s]
0%| | 0/100 [00:00<?, ?it/s][A
39%|███▉ | 39/100 [00:00<00:00, 381.26it/s][A
78%|███████▊ | 78/100 [00:00<00:00, 368.89it/s][A
[A
Models: 60%|██████ | 6/10 [00:01<00:01, 3.84it/s]
0%| | 0/100 [00:00<?, ?it/s][A
40%|████ | 40/100 [00:00<00:00, 393.80it/s][A
80%|████████ | 80/100 [00:00<00:00, 375.74it/s][A
[A
Models: 70%|███████ | 7/10 [00:01<00:00, 3.82it/s]
0%| | 0/100 [00:00<?, ?it/s][A
40%|████ | 40/100 [00:00<00:00, 397.09it/s][A
80%|████████ | 80/100 [00:00<00:00, 379.69it/s][A
[A
Models: 80%|████████ | 8/10 [00:02<00:00, 3.81it/s]
0%| | 0/100 [00:00<?, ?it/s][A
43%|████▎ | 43/100 [00:00<00:00, 418.38it/s][A
85%|████████▌ | 85/100 [00:00<00:00, 396.05it/s][A
[A
Models: 90%|█████████ | 9/10 [00:02<00:00, 3.85it/s]
0%| | 0/100 [00:00<?, ?it/s][A
44%|████▍ | 44/100 [00:00<00:00, 438.59it/s][A
88%|████████▊ | 88/100 [00:00<00:00, 421.75it/s][A
[A
Models: 100%|██████████| 10/10 [00:02<00:00, 3.95it/s]
Models: 100%|██████████| 10/10 [00:02<00:00, 4.00it/s]
Models: 0%| | 0/10 [00:00<?, ?it/s]
0%| | 0/100 [00:00<?, ?it/s][A
57%|█████▋ | 57/100 [00:00<00:00, 562.03it/s][A
[A
Models: 10%|█ | 1/10 [00:00<00:01, 5.59it/s]
0%| | 0/100 [00:00<?, ?it/s][A
45%|████▌ | 45/100 [00:00<00:00, 449.42it/s][A
90%|█████████ | 90/100 [00:00<00:00, 423.29it/s][A
[A
Models: 20%|██ | 2/10 [00:00<00:01, 4.69it/s]
0%| | 0/100 [00:00<?, ?it/s][A
41%|████ | 41/100 [00:00<00:00, 405.69it/s][A
82%|████████▏ | 82/100 [00:00<00:00, 390.56it/s][A
[A
Models: 30%|███ | 3/10 [00:00<00:01, 4.30it/s]
0%| | 0/100 [00:00<?, ?it/s][A
39%|███▉ | 39/100 [00:00<00:00, 389.28it/s][A
78%|███████▊ | 78/100 [00:00<00:00, 376.34it/s][A
[A
Models: 40%|████ | 4/10 [00:00<00:01, 4.06it/s]
0%| | 0/100 [00:00<?, ?it/s][A
35%|███▌ | 35/100 [00:00<00:00, 343.57it/s][A
71%|███████ | 71/100 [00:00<00:00, 350.17it/s][A
[A
Models: 50%|█████ | 5/10 [00:01<00:01, 3.84it/s]
0%| | 0/100 [00:00<?, ?it/s][A
39%|███▉ | 39/100 [00:00<00:00, 384.05it/s][A
78%|███████▊ | 78/100 [00:00<00:00, 364.99it/s][A
[A
Models: 60%|██████ | 6/10 [00:01<00:01, 3.78it/s]
0%| | 0/100 [00:00<?, ?it/s][A
40%|████ | 40/100 [00:00<00:00, 397.17it/s][A
80%|████████ | 80/100 [00:00<00:00, 373.55it/s][A
[A
Models: 70%|███████ | 7/10 [00:01<00:00, 3.77it/s]
0%| | 0/100 [00:00<?, ?it/s][A
40%|████ | 40/100 [00:00<00:00, 392.59it/s][A
80%|████████ | 80/100 [00:00<00:00, 380.57it/s][A
[A
Models: 80%|████████ | 8/10 [00:02<00:00, 3.78it/s]
0%| | 0/100 [00:00<?, ?it/s][A
42%|████▏ | 42/100 [00:00<00:00, 419.01it/s][A
84%|████████▍ | 84/100 [00:00<00:00, 398.82it/s][A
[A
Models: 90%|█████████ | 9/10 [00:02<00:00, 3.84it/s]
0%| | 0/100 [00:00<?, ?it/s][A
44%|████▍ | 44/100 [00:00<00:00, 429.36it/s][A
87%|████████▋ | 87/100 [00:00<00:00, 417.03it/s][A
[A
Models: 100%|██████████| 10/10 [00:02<00:00, 3.93it/s]
Models: 100%|██████████| 10/10 [00:02<00:00, 3.97it/s]
[ FAIL 0 | WARN 0 | SKIP 0 | PASS 29 ]
>
> proc.time()
user system elapsed
41.209 7.526 40.932
spatialDE.Rcheck/spatialDE-Ex.timings
| name | user | system | elapsed | |
| FSV_sig | 2.909 | 1.505 | 3.352 | |
| mockSVG | 0.142 | 0.002 | 0.143 | |
| modelSearch | 1.270 | 0.653 | 1.075 | |
| model_search | 1.068 | 0.632 | 0.863 | |
| multiGenePlots | 2.440 | 0.589 | 2.497 | |
| regress_out | 0.090 | 0.001 | 0.091 | |
| run | 0.564 | 0.264 | 0.492 | |
| spatialDE | 0.670 | 0.343 | 0.565 | |
| spatialPatterns | 0.894 | 0.576 | 0.748 | |
| spatial_patterns | 11.756 | 6.473 | 9.114 | |
| stabilize | 0.057 | 0.034 | 0.045 | |