Back to Multiple platform build/check report for BioC 3.20:   simplified   long
ABCDEFGHIJKLMNOPQR[S]TUVWXYZ

This page was generated on 2025-02-03 12:12 -0500 (Mon, 03 Feb 2025).

HostnameOSArch (*)R versionInstalled pkgs
nebbiolo2Linux (Ubuntu 24.04.1 LTS)x86_644.4.2 (2024-10-31) -- "Pile of Leaves" 4746
palomino8Windows Server 2022 Datacenterx644.4.2 (2024-10-31 ucrt) -- "Pile of Leaves" 4494
merida1macOS 12.7.5 Montereyx86_644.4.2 (2024-10-31) -- "Pile of Leaves" 4517
kjohnson1macOS 13.6.6 Venturaarm644.4.2 (2024-10-31) -- "Pile of Leaves" 4469
taishanLinux (openEuler 24.03 LTS)aarch644.4.2 (2024-10-31) -- "Pile of Leaves" 4400
Click on any hostname to see more info about the system (e.g. compilers)      (*) as reported by 'uname -p', except on Windows and Mac OS X

Package 1903/2289HostnameOS / ArchINSTALLBUILDCHECKBUILD BIN
scRepertoire 2.2.1  (landing page)
Nick Borcherding
Snapshot Date: 2025-01-30 13:00 -0500 (Thu, 30 Jan 2025)
git_url: https://git.bioconductor.org/packages/scRepertoire
git_branch: RELEASE_3_20
git_last_commit: 356de29
git_last_commit_date: 2024-11-04 14:26:59 -0500 (Mon, 04 Nov 2024)
nebbiolo2Linux (Ubuntu 24.04.1 LTS) / x86_64  OK    OK    OK  UNNEEDED, same version is already published
palomino8Windows Server 2022 Datacenter / x64  OK    OK    OK    OK  UNNEEDED, same version is already published
merida1macOS 12.7.5 Monterey / x86_64  OK    OK    OK    OK  UNNEEDED, same version is already published
kjohnson1macOS 13.6.6 Ventura / arm64  OK    OK    OK    OK  UNNEEDED, same version is already published
taishanLinux (openEuler 24.03 LTS) / aarch64  OK    OK    OK  


CHECK results for scRepertoire on taishan

To the developers/maintainers of the scRepertoire package:
- Allow up to 24 hours (and sometimes 48 hours) for your latest push to git@git.bioconductor.org:packages/scRepertoire.git to reflect on this report. See Troubleshooting Build Report for more information.
- Use the following Renviron settings to reproduce errors and warnings.
- If 'R CMD check' started to fail recently on the Linux builder(s) over a missing dependency, add the missing dependency to 'Suggests:' in your DESCRIPTION file. See Renviron.bioc for more information.
- See Martin Grigorov's blog post for how to debug Linux ARM64 related issues on a x86_64 host.

raw results


Summary

Package: scRepertoire
Version: 2.2.1
Command: /home/biocbuild/R/R/bin/R CMD check --install=check:scRepertoire.install-out.txt --library=/home/biocbuild/R/R/site-library --no-vignettes --timings scRepertoire_2.2.1.tar.gz
StartedAt: 2025-01-31 10:15:53 -0000 (Fri, 31 Jan 2025)
EndedAt: 2025-01-31 10:26:32 -0000 (Fri, 31 Jan 2025)
EllapsedTime: 639.6 seconds
RetCode: 0
Status:   OK  
CheckDir: scRepertoire.Rcheck
Warnings: 0

Command output

##############################################################################
##############################################################################
###
### Running command:
###
###   /home/biocbuild/R/R/bin/R CMD check --install=check:scRepertoire.install-out.txt --library=/home/biocbuild/R/R/site-library --no-vignettes --timings scRepertoire_2.2.1.tar.gz
###
##############################################################################
##############################################################################


* using log directory ‘/home/biocbuild/bbs-3.20-bioc/meat/scRepertoire.Rcheck’
* using R version 4.4.2 (2024-10-31)
* using platform: aarch64-unknown-linux-gnu
* R was compiled by
    aarch64-unknown-linux-gnu-gcc (GCC) 14.2.0
    GNU Fortran (GCC) 12.3.1 (openEuler 12.3.1-36.oe2403)
* running under: openEuler 24.03 (LTS)
* using session charset: UTF-8
* using option ‘--no-vignettes’
* checking for file ‘scRepertoire/DESCRIPTION’ ... OK
* this is package ‘scRepertoire’ version ‘2.2.1’
* package encoding: UTF-8
* checking package namespace information ... OK
* checking package dependencies ... OK
* checking if this is a source package ... OK
* checking if there is a namespace ... OK
* checking for hidden files and directories ... OK
* checking for portable file names ... OK
* checking for sufficient/correct file permissions ... OK
* checking whether package ‘scRepertoire’ can be installed ... OK
* used C++ compiler: ‘aarch64-unknown-linux-gnu-g++ (GCC) 14.2.0’
* checking installed package size ... NOTE
  installed size is  6.8Mb
  sub-directories of 1Mb or more:
    data   2.5Mb
    libs   3.5Mb
* checking package directory ... OK
* checking ‘build’ directory ... OK
* checking DESCRIPTION meta-information ... NOTE
License stub is invalid DCF.
* checking top-level files ... OK
* checking for left-over files ... OK
* checking index information ... OK
* checking package subdirectories ... OK
* checking code files for non-ASCII characters ... OK
* checking R files for syntax errors ... OK
* checking whether the package can be loaded ... OK
* checking whether the package can be loaded with stated dependencies ... OK
* checking whether the package can be unloaded cleanly ... OK
* checking whether the namespace can be loaded with stated dependencies ... OK
* checking whether the namespace can be unloaded cleanly ... OK
* checking loading without being on the library search path ... OK
* checking whether startup messages can be suppressed ... OK
* checking dependencies in R code ... OK
* checking S3 generic/method consistency ... OK
* checking replacement functions ... OK
* checking foreign function calls ... OK
* checking R code for possible problems ... OK
* checking Rd files ... OK
* checking Rd metadata ... OK
* checking Rd cross-references ... OK
* checking for missing documentation entries ... OK
* checking for code/documentation mismatches ... OK
* checking Rd \usage sections ... OK
* checking Rd contents ... OK
* checking for unstated dependencies in examples ... OK
* checking contents of ‘data’ directory ... OK
* checking data for non-ASCII characters ... OK
* checking LazyData ... OK
* checking data for ASCII and uncompressed saves ... OK
* checking line endings in C/C++/Fortran sources/headers ... OK
* checking compiled code ... NOTE
Note: information on .o files is not available
* checking files in ‘vignettes’ ... OK
* checking examples ... OK
Examples with CPU (user + system) or elapsed time > 5s
                         user system elapsed
clonalSizeDistribution 48.466  0.271  48.828
StartracDiversity       7.688  0.264   7.967
clonalDiversity         5.144  0.064   5.218
positionalProperty      5.071  0.128   5.213
* checking for unstated dependencies in ‘tests’ ... OK
* checking tests ...
  Running ‘spelling.R’
  Running ‘testthat.R’
 OK
* checking for unstated dependencies in vignettes ... OK
* checking package vignettes ... OK
* checking running R code from vignettes ... SKIPPED
* checking re-building of vignette outputs ... SKIPPED
* checking PDF version of manual ... OK
* DONE

Status: 3 NOTEs
See
  ‘/home/biocbuild/bbs-3.20-bioc/meat/scRepertoire.Rcheck/00check.log’
for details.


Installation output

scRepertoire.Rcheck/00install.out

##############################################################################
##############################################################################
###
### Running command:
###
###   /home/biocbuild/R/R/bin/R CMD INSTALL scRepertoire
###
##############################################################################
##############################################################################


* installing to library ‘/home/biocbuild/R/R-4.4.2/site-library’
* installing *source* package ‘scRepertoire’ ...
** using staged installation
** libs
using C++ compiler: ‘aarch64-unknown-linux-gnu-g++ (GCC) 14.2.0’
/opt/ohpc/pub/compiler/gcc/14.2.0/bin/aarch64-unknown-linux-gnu-g++ -std=gnu++17 -I"/home/biocbuild/R/R/include" -DNDEBUG  -I'/home/biocbuild/R/R-4.4.2/site-library/Rcpp/include' -I/usr/local/include    -fPIC  -g -O2  -Wall -Werror=format-security  -c RcppExports.cpp -o RcppExports.o
/opt/ohpc/pub/compiler/gcc/14.2.0/bin/aarch64-unknown-linux-gnu-g++ -std=gnu++17 -I"/home/biocbuild/R/R/include" -DNDEBUG  -I'/home/biocbuild/R/R-4.4.2/site-library/Rcpp/include' -I/usr/local/include    -fPIC  -g -O2  -Wall -Werror=format-security  -c aaKmers.cpp -o aaKmers.o
/opt/ohpc/pub/compiler/gcc/14.2.0/bin/aarch64-unknown-linux-gnu-g++ -std=gnu++17 -I"/home/biocbuild/R/R/include" -DNDEBUG  -I'/home/biocbuild/R/R-4.4.2/site-library/Rcpp/include' -I/usr/local/include    -fPIC  -g -O2  -Wall -Werror=format-security  -c constructConDfAndParseBCR.cpp -o constructConDfAndParseBCR.o
/opt/ohpc/pub/compiler/gcc/14.2.0/bin/aarch64-unknown-linux-gnu-g++ -std=gnu++17 -I"/home/biocbuild/R/R/include" -DNDEBUG  -I'/home/biocbuild/R/R-4.4.2/site-library/Rcpp/include' -I/usr/local/include    -fPIC  -g -O2  -Wall -Werror=format-security  -c constructConDfAndparseTCR.cpp -o constructConDfAndparseTCR.o
/opt/ohpc/pub/compiler/gcc/14.2.0/bin/aarch64-unknown-linux-gnu-g++ -std=gnu++17 -I"/home/biocbuild/R/R/include" -DNDEBUG  -I'/home/biocbuild/R/R-4.4.2/site-library/Rcpp/include' -I/usr/local/include    -fPIC  -g -O2  -Wall -Werror=format-security  -c lvCompare.cpp -o lvCompare.o
/opt/ohpc/pub/compiler/gcc/14.2.0/bin/aarch64-unknown-linux-gnu-g++ -std=gnu++17 -I"/home/biocbuild/R/R/include" -DNDEBUG  -I'/home/biocbuild/R/R-4.4.2/site-library/Rcpp/include' -I/usr/local/include    -fPIC  -g -O2  -Wall -Werror=format-security  -c ntKmers.cpp -o ntKmers.o
/opt/ohpc/pub/compiler/gcc/14.2.0/bin/aarch64-unknown-linux-gnu-g++ -std=gnu++17 -shared -L/home/biocbuild/R/R/lib -L/usr/local/lib -o scRepertoire.so RcppExports.o aaKmers.o constructConDfAndParseBCR.o constructConDfAndparseTCR.o lvCompare.o ntKmers.o -L/home/biocbuild/R/R/lib -lR
installing to /home/biocbuild/R/R-4.4.2/site-library/00LOCK-scRepertoire/00new/scRepertoire/libs
** R
** data
*** moving datasets to lazyload DB
** inst
** byte-compile and prepare package for lazy loading
** help
*** installing help indices
*** copying figures
** building package indices
** installing vignettes
** testing if installed package can be loaded from temporary location
** checking absolute paths in shared objects and dynamic libraries
** testing if installed package can be loaded from final location
** testing if installed package keeps a record of temporary installation path
* DONE (scRepertoire)

Tests output

scRepertoire.Rcheck/tests/spelling.Rout


R version 4.4.2 (2024-10-31) -- "Pile of Leaves"
Copyright (C) 2024 The R Foundation for Statistical Computing
Platform: aarch64-unknown-linux-gnu

R is free software and comes with ABSOLUTELY NO WARRANTY.
You are welcome to redistribute it under certain conditions.
Type 'license()' or 'licence()' for distribution details.

R is a collaborative project with many contributors.
Type 'contributors()' for more information and
'citation()' on how to cite R or R packages in publications.

Type 'demo()' for some demos, 'help()' for on-line help, or
'help.start()' for an HTML browser interface to help.
Type 'q()' to quit R.

> if(requireNamespace('spelling', quietly = TRUE))
+   spelling::spell_check_test(vignettes = TRUE, error = FALSE,
+                              skip_on_cran = TRUE)
NULL
> 
> proc.time()
   user  system elapsed 
  0.171   0.052   0.208 

scRepertoire.Rcheck/tests/testthat.Rout


R version 4.4.2 (2024-10-31) -- "Pile of Leaves"
Copyright (C) 2024 The R Foundation for Statistical Computing
Platform: aarch64-unknown-linux-gnu

R is free software and comes with ABSOLUTELY NO WARRANTY.
You are welcome to redistribute it under certain conditions.
Type 'license()' or 'licence()' for distribution details.

R is a collaborative project with many contributors.
Type 'contributors()' for more information and
'citation()' on how to cite R or R packages in publications.

Type 'demo()' for some demos, 'help()' for on-line help, or
'help.start()' for an HTML browser interface to help.
Type 'q()' to quit R.

> # This file is part of the standard setup for testthat.
> # It is recommended that you do not modify it.
> #
> # Where should you do additional test configuration?
> # Learn more about the roles of various files in:
> # * https://r-pkgs.org/tests.html
> # * https://testthat.r-lib.org/reference/test_package.html#special-files
> 
> library(testthat)
> library(scRepertoire)
Loading required package: ggplot2
> 
> test_check("scRepertoire")
[ FAIL 0 | WARN 0 | SKIP 23 | PASS 93 ]

══ Skipped tests (23) ══════════════════════════════════════════════════════════
• On CRAN (23): 'test-StartractDiversity.R:10:3', 'test-alluvialClones.R:10:3',
  'test-clonalAbundance.R:4:3', 'test-clonalCompare.R:7:3',
  'test-clonalDiversity.R:8:3', 'test-clonalHomeostasis.R:7:3',
  'test-clonalLength.R:4:3', 'test-clonalNetwork.R:9:3',
  'test-clonalOccupy.R:8:3', 'test-clonalOverlap.R:7:3',
  'test-clonalOverlay.R:10:3', 'test-clonalProportion.R:7:3',
  'test-clonalQuant.R:10:2', 'test-clonalRarefaction.R:9:3',
  'test-clonalScatter.R:5:3', 'test-clonalSizeDistribution.R:7:3',
  'test-percentAA.R:8:3', 'test-percentGenes.R:8:3', 'test-percentKmer.R:26:3',
  'test-percentVJ.R:8:3', 'test-positionalEntropy.R:6:3',
  'test-positionalProperty.R:6:3', 'test-vizGenes.R:7:3'

[ FAIL 0 | WARN 0 | SKIP 23 | PASS 93 ]
Deleting unused snapshots:
• alluvialClones/alluvialclones-alpha-plot.svg
• alluvialClones/alluvialclones-alphapluscolor-plot.svg
• alluvialClones/alluvialclones-facet-plot.svg
• alluvialClones/alluvialclones-nocolor-plot.svg
• alluvialClones/alluvialclones-trb-plot.svg
• clonalAbundance/clonalabundance-group-plot.svg
• clonalAbundance/clonalabundance-order-plot.svg
• clonalAbundance/clonalabundance-scaled-plot.svg
• clonalCompare/clonalcompare-alluvial-order-plot.svg
• clonalCompare/clonalcompare-area-plot.svg
• clonalCompare/clonalcompare-highlight-relabel-plot.svg
• clonalHomeostasis/clonalhomeostasis-order-plot.svg
• clonalLength/clonallength-both-chain-order-plot.svg
• clonalLength/clonallength-groupby-plot.svg
• clonalLength/clonallength-scaled-plot.svg
• clonalLength/clonallength-tra-plot.svg
• clonalLength/clonallength-trb-plot.svg
• clonalNetwork/clonalnetwork-filterclones-1-plot.svg
• clonalOccupy/clonaloccupy-proportion-plot.svg
• clonalOverlap/clonaloverlap-cosine-plot.svg
• clonalOverlap/clonaloverlap-coverlap-plot.svg
• clonalOverlap/clonaloverlap-jaccard-plot.svg
• clonalOverlap/clonaloverlap-morisita-plot.svg
• clonalOverlap/clonaloverlap-order-plot.svg
• clonalOverlap/clonaloverlap-reorder-plot.svg
• clonalOverlay/clonaloverlay-clonalproportion-plot.svg
• clonalProportion/clonalproportion-order-plot.svg
• clonalQuant/clonalquant-order-plot.svg
• clonalQuant/clonalquant-unscaled-plot.svg
• clonalRarefaction/clonalclonalrarefaction-h1-p2-plot.svg
• clonalRarefaction/clonalclonalrarefaction-h2-p3-plot.svg
• clonalScatter/clonalscatter-raw-plot.svg
• percentAA/percentaa-plot.svg
• percentGenes/percentgenes-order-plot.svg
• percentKmer/percentkmer-group-motif2-order-plot.svg
• percentVJ/percentvj-order-plot.svg
• positionalEntropy/positionalentropy-tra-plot.svg
• positionalEntropy/positionalentropy-trb-order-plot.svg
• positionalProperty/positionalentropy-kidera-plot.svg
• positionalProperty/positionalentropy-stscales-plot.svg
• positionalProperty/positionalentropy-tra-plot.svg
• positionalProperty/positionalentropy-trb-order-plot.svg
• positionalProperty/positionalentropy-tscales-plot.svg
• positionalProperty/positionalentropy-vhse-plot.svg
• vizGenes/vizgenes-heatmap-vignette-plot.svg
> 
> proc.time()
   user  system elapsed 
195.912   2.743 213.176 

Example timings

scRepertoire.Rcheck/scRepertoire-Ex.timings

nameusersystemelapsed
StartracDiversity7.6880.2647.967
addVariable1.8250.0441.872
alluvialClones3.6220.1403.770
clonalAbundance1.8770.0351.917
clonalBias2.4150.0202.442
clonalCluster1.4240.0041.432
clonalCompare2.0780.0282.110
clonalDiversity5.1440.0645.218
clonalHomeostasis1.2530.0281.284
clonalLength2.1980.0042.206
clonalNetwork000
clonalOccupy2.0800.0482.133
clonalOverlap1.2510.0001.253
clonalOverlay2.0690.0162.089
clonalProportion2.1280.0682.200
clonalQuant1.3160.0001.319
clonalRarefaction4.3880.0444.440
clonalScatter1.3570.0001.360
clonalSizeDistribution48.466 0.27148.828
combineBCR3.3730.0124.790
combineExpression1.6230.0201.648
combineTCR0.9760.0000.979
createHTOContigList000
exportClones000
getCirclize1.6940.0001.699
highlightClones1.6310.0001.636
loadContigs0.3820.0103.157
percentAA3.9910.3114.314
percentGenes1.3800.0911.476
percentKmer2.1340.1042.244
percentVJ2.1740.0762.256
positionalEntropy2.2520.0872.347
positionalProperty5.0710.1285.213
subsetClones0.9840.0401.027
vizGenes1.5130.0361.553