| Back to Multiple platform build/check report for BioC 3.22: simplified long |
|
This page was generated on 2025-10-29 12:05 -0400 (Wed, 29 Oct 2025).
| Hostname | OS | Arch (*) | R version | Installed pkgs |
|---|---|---|---|---|
| nebbiolo2 | Linux (Ubuntu 24.04.3 LTS) | x86_64 | 4.5.1 Patched (2025-08-23 r88802) -- "Great Square Root" | 4901 |
| lconway | macOS 12.7.6 Monterey | x86_64 | 4.5.1 Patched (2025-09-10 r88807) -- "Great Square Root" | 4691 |
| kjohnson3 | macOS 13.7.7 Ventura | arm64 | 4.5.1 Patched (2025-09-10 r88807) -- "Great Square Root" | 4637 |
| Click on any hostname to see more info about the system (e.g. compilers) (*) as reported by 'uname -p', except on Windows and Mac OS X | ||||
| Package 1955/2361 | Hostname | OS / Arch | INSTALL | BUILD | CHECK | BUILD BIN | ||||||||
| scRepertoire 2.5.8 (landing page) Nick Borcherding
| nebbiolo2 | Linux (Ubuntu 24.04.3 LTS) / x86_64 | OK | OK | OK | |||||||||
| lconway | macOS 12.7.6 Monterey / x86_64 | OK | OK | OK | OK | |||||||||
| kjohnson3 | macOS 13.7.7 Ventura / arm64 | OK | OK | OK | OK | |||||||||
|
To the developers/maintainers of the scRepertoire package: - Allow up to 24 hours (and sometimes 48 hours) for your latest push to git@git.bioconductor.org:packages/scRepertoire.git to reflect on this report. See Troubleshooting Build Report for more information. - Use the following Renviron settings to reproduce errors and warnings. - If 'R CMD check' started to fail recently on the Linux builder(s) over a missing dependency, add the missing dependency to 'Suggests:' in your DESCRIPTION file. See Renviron.bioc for more information. |
| Package: scRepertoire |
| Version: 2.5.8 |
| Command: /home/biocbuild/bbs-3.22-bioc/R/bin/R CMD check --install=check:scRepertoire.install-out.txt --library=/home/biocbuild/bbs-3.22-bioc/R/site-library --timings scRepertoire_2.5.8.tar.gz |
| StartedAt: 2025-10-29 03:45:42 -0400 (Wed, 29 Oct 2025) |
| EndedAt: 2025-10-29 03:58:10 -0400 (Wed, 29 Oct 2025) |
| EllapsedTime: 747.7 seconds |
| RetCode: 0 |
| Status: OK |
| CheckDir: scRepertoire.Rcheck |
| Warnings: 0 |
##############################################################################
##############################################################################
###
### Running command:
###
### /home/biocbuild/bbs-3.22-bioc/R/bin/R CMD check --install=check:scRepertoire.install-out.txt --library=/home/biocbuild/bbs-3.22-bioc/R/site-library --timings scRepertoire_2.5.8.tar.gz
###
##############################################################################
##############################################################################
* using log directory ‘/home/biocbuild/bbs-3.22-bioc/meat/scRepertoire.Rcheck’
* using R version 4.5.1 Patched (2025-08-23 r88802)
* using platform: x86_64-pc-linux-gnu
* R was compiled by
gcc (Ubuntu 13.3.0-6ubuntu2~24.04) 13.3.0
GNU Fortran (Ubuntu 13.3.0-6ubuntu2~24.04) 13.3.0
* running under: Ubuntu 24.04.3 LTS
* using session charset: UTF-8
* checking for file ‘scRepertoire/DESCRIPTION’ ... OK
* this is package ‘scRepertoire’ version ‘2.5.8’
* package encoding: UTF-8
* checking package namespace information ... OK
* checking package dependencies ... OK
* checking if this is a source package ... OK
* checking if there is a namespace ... OK
* checking for hidden files and directories ... OK
* checking for portable file names ... OK
* checking for sufficient/correct file permissions ... OK
* checking whether package ‘scRepertoire’ can be installed ... OK
* used C++ compiler: ‘g++ (Ubuntu 13.3.0-6ubuntu2~24.04) 13.3.0’
* checking installed package size ... INFO
installed size is 5.1Mb
sub-directories of 1Mb or more:
data 2.3Mb
libs 2.0Mb
* checking package directory ... OK
* checking ‘build’ directory ... OK
* checking DESCRIPTION meta-information ... OK
* checking top-level files ... OK
* checking for left-over files ... OK
* checking index information ... OK
* checking package subdirectories ... OK
* checking code files for non-ASCII characters ... OK
* checking R files for syntax errors ... OK
* checking whether the package can be loaded ... OK
* checking whether the package can be loaded with stated dependencies ... OK
* checking whether the package can be unloaded cleanly ... OK
* checking whether the namespace can be loaded with stated dependencies ... OK
* checking whether the namespace can be unloaded cleanly ... OK
* checking loading without being on the library search path ... OK
* checking whether startup messages can be suppressed ... OK
* checking dependencies in R code ... OK
* checking S3 generic/method consistency ... OK
* checking replacement functions ... OK
* checking foreign function calls ... OK
* checking R code for possible problems ... NOTE
clonalSizeDistribution: no visible binding for global variable ‘y’
combineExpression: no visible binding for global variable
‘clonalFrequency’
Undefined global functions or variables:
clonalFrequency y
* checking Rd files ... OK
* checking Rd metadata ... OK
* checking Rd cross-references ... NOTE
Non-topic package-anchored link(s) in Rd file 'StartracDiversity.Rd':
‘[grDevices:palettes]{hcl.pals}’
Non-topic package-anchored link(s) in Rd file 'alluvialClones.Rd':
‘[grDevices:palettes]{hcl.pals}’
Non-topic package-anchored link(s) in Rd file 'clonalAbundance.Rd':
‘[grDevices:palettes]{hcl.pals}’
Non-topic package-anchored link(s) in Rd file 'clonalBias.Rd':
‘[grDevices:palettes]{hcl.pals}’
Non-topic package-anchored link(s) in Rd file 'clonalDiversity.Rd':
‘[grDevices:palettes]{hcl.pals}’
Non-topic package-anchored link(s) in Rd file 'clonalHomeostasis.Rd':
‘[grDevices:palettes]{hcl.pals}’
Non-topic package-anchored link(s) in Rd file 'clonalLength.Rd':
‘[grDevices:palettes]{hcl.pals}’
Non-topic package-anchored link(s) in Rd file 'clonalNetwork.Rd':
‘[grDevices:palettes]{hcl.pals}’
Non-topic package-anchored link(s) in Rd file 'clonalOccupy.Rd':
‘[grDevices:palettes]{hcl.pals}’
Non-topic package-anchored link(s) in Rd file 'clonalOverlap.Rd':
‘[grDevices:palettes]{hcl.pals}’
Non-topic package-anchored link(s) in Rd file 'clonalProportion.Rd':
‘[grDevices:palettes]{hcl.pals}’
Non-topic package-anchored link(s) in Rd file 'clonalQuant.Rd':
‘[grDevices:palettes]{hcl.pals}’
Non-topic package-anchored link(s) in Rd file 'clonalRarefaction.Rd':
‘[grDevices:palettes]{hcl.pals}’
Non-topic package-anchored link(s) in Rd file 'clonalScatter.Rd':
‘[grDevices:palettes]{hcl.pals}’
Non-topic package-anchored link(s) in Rd file 'clonalSizeDistribution.Rd':
‘[grDevices:palettes]{hcl.pals}’
Non-topic package-anchored link(s) in Rd file 'percentAA.Rd':
‘[grDevices:palettes]{hcl.pals}’
Non-topic package-anchored link(s) in Rd file 'percentGeneUsage.Rd':
‘[grDevices:palettes]{hcl.pals}’
Non-topic package-anchored link(s) in Rd file 'percentKmer.Rd':
‘[grDevices:palettes]{hcl.pals}’
Non-topic package-anchored link(s) in Rd file 'positionalEntropy.Rd':
‘[grDevices:palettes]{hcl.pals}’
Non-topic package-anchored link(s) in Rd file 'positionalProperty.Rd':
‘[grDevices:palettes]{hcl.pals}’
See section 'Cross-references' in the 'Writing R Extensions' manual.
* checking for missing documentation entries ... OK
* checking for code/documentation mismatches ... OK
* checking Rd \usage sections ... OK
* checking Rd contents ... OK
* checking for unstated dependencies in examples ... OK
* checking contents of ‘data’ directory ... OK
* checking data for non-ASCII characters ... OK
* checking LazyData ... OK
* checking data for ASCII and uncompressed saves ... OK
* checking line endings in C/C++/Fortran sources/headers ... OK
* checking compiled code ... NOTE
Note: information on .o files is not available
* checking files in ‘vignettes’ ... OK
* checking examples ... OK
Examples with CPU (user + system) or elapsed time > 5s
user system elapsed
StartracDiversity 9.620 0.331 9.951
clonalCluster 9.341 0.373 9.044
clonalSizeDistribution 7.643 0.016 7.660
percentGeneUsage 6.829 0.040 6.869
* checking for unstated dependencies in ‘tests’ ... OK
* checking tests ...
Running ‘spelling.R’
Running ‘testthat.R’
OK
* checking for unstated dependencies in vignettes ... OK
* checking package vignettes ... OK
* checking re-building of vignette outputs ... OK
* checking PDF version of manual ... OK
* DONE
Status: 3 NOTEs
See
‘/home/biocbuild/bbs-3.22-bioc/meat/scRepertoire.Rcheck/00check.log’
for details.
scRepertoire.Rcheck/00install.out
############################################################################## ############################################################################## ### ### Running command: ### ### /home/biocbuild/bbs-3.22-bioc/R/bin/R CMD INSTALL scRepertoire ### ############################################################################## ############################################################################## * installing to library ‘/home/biocbuild/bbs-3.22-bioc/R/site-library’ * installing *source* package ‘scRepertoire’ ... ** this is package ‘scRepertoire’ version ‘2.5.8’ ** using staged installation ** libs using C++ compiler: ‘g++ (Ubuntu 13.3.0-6ubuntu2~24.04) 13.3.0’ g++ -std=gnu++17 -I"/home/biocbuild/bbs-3.22-bioc/R/include" -DNDEBUG -I'/home/biocbuild/bbs-3.22-bioc/R/site-library/Rcpp/include' -I/usr/local/include -fpic -g -O2 -Wall -Werror=format-security -c RcppExports.cpp -o RcppExports.o g++ -std=gnu++17 -I"/home/biocbuild/bbs-3.22-bioc/R/include" -DNDEBUG -I'/home/biocbuild/bbs-3.22-bioc/R/site-library/Rcpp/include' -I/usr/local/include -fpic -g -O2 -Wall -Werror=format-security -c constructConDfAndParseBCR.cpp -o constructConDfAndParseBCR.o g++ -std=gnu++17 -I"/home/biocbuild/bbs-3.22-bioc/R/include" -DNDEBUG -I'/home/biocbuild/bbs-3.22-bioc/R/site-library/Rcpp/include' -I/usr/local/include -fpic -g -O2 -Wall -Werror=format-security -c constructConDfAndparseTCR.cpp -o constructConDfAndparseTCR.o g++ -std=gnu++17 -shared -L/home/biocbuild/bbs-3.22-bioc/R/lib -L/usr/local/lib -o scRepertoire.so RcppExports.o constructConDfAndParseBCR.o constructConDfAndparseTCR.o -L/home/biocbuild/bbs-3.22-bioc/R/lib -lR installing to /home/biocbuild/bbs-3.22-bioc/R/site-library/00LOCK-scRepertoire/00new/scRepertoire/libs ** R ** data *** moving datasets to lazyload DB ** inst ** byte-compile and prepare package for lazy loading Note: wrong number of arguments to 'floor' Note: wrong number of arguments to 'floor' ** help *** installing help indices *** copying figures ** building package indices ** installing vignettes ** testing if installed package can be loaded from temporary location ** checking absolute paths in shared objects and dynamic libraries ** testing if installed package can be loaded from final location ** testing if installed package keeps a record of temporary installation path * DONE (scRepertoire)
scRepertoire.Rcheck/tests/spelling.Rout
R version 4.5.1 Patched (2025-08-23 r88802) -- "Great Square Root"
Copyright (C) 2025 The R Foundation for Statistical Computing
Platform: x86_64-pc-linux-gnu
R is free software and comes with ABSOLUTELY NO WARRANTY.
You are welcome to redistribute it under certain conditions.
Type 'license()' or 'licence()' for distribution details.
R is a collaborative project with many contributors.
Type 'contributors()' for more information and
'citation()' on how to cite R or R packages in publications.
Type 'demo()' for some demos, 'help()' for on-line help, or
'help.start()' for an HTML browser interface to help.
Type 'q()' to quit R.
> if(requireNamespace('spelling', quietly = TRUE))
+ spelling::spell_check_test(vignettes = TRUE, error = FALSE,
+ skip_on_cran = TRUE)
All Done!
>
> proc.time()
user system elapsed
0.146 0.032 0.165
scRepertoire.Rcheck/tests/testthat.Rout
R version 4.5.1 Patched (2025-08-23 r88802) -- "Great Square Root"
Copyright (C) 2025 The R Foundation for Statistical Computing
Platform: x86_64-pc-linux-gnu
R is free software and comes with ABSOLUTELY NO WARRANTY.
You are welcome to redistribute it under certain conditions.
Type 'license()' or 'licence()' for distribution details.
R is a collaborative project with many contributors.
Type 'contributors()' for more information and
'citation()' on how to cite R or R packages in publications.
Type 'demo()' for some demos, 'help()' for on-line help, or
'help.start()' for an HTML browser interface to help.
Type 'q()' to quit R.
> # This file is part of the standard setup for testthat.
> # It is recommended that you do not modify it.
> #
> # Where should you do additional test configuration?
> # Learn more about the roles of various files in:
> # * https://r-pkgs.org/tests.html
> # * https://testthat.r-lib.org/reference/test_package.html#special-files
>
> library(testthat)
> library(scRepertoire)
Loading required package: ggplot2
>
> test_check("scRepertoire")
Attaching package: 'igraph'
The following object is masked from 'package:testthat':
compare
The following objects are masked from 'package:stats':
decompose, spectrum
The following object is masked from 'package:base':
union
[ FAIL 0 | WARN 1 | SKIP 0 | PASS 781 ]
[ FAIL 0 | WARN 1 | SKIP 0 | PASS 781 ]
>
> proc.time()
user system elapsed
187.296 2.343 192.795
scRepertoire.Rcheck/scRepertoire-Ex.timings
| name | user | system | elapsed | |
| StartracDiversity | 9.620 | 0.331 | 9.951 | |
| addVariable | 0.870 | 0.013 | 0.882 | |
| alluvialClones | 3.823 | 0.121 | 3.944 | |
| annotateInvariant | 3.548 | 0.021 | 3.569 | |
| clonalAbundance | 1.745 | 0.023 | 1.767 | |
| clonalBias | 1.892 | 0.010 | 1.902 | |
| clonalCluster | 9.341 | 0.373 | 9.044 | |
| clonalCompare | 2.323 | 0.024 | 2.347 | |
| clonalDiversity | 1.608 | 0.004 | 1.613 | |
| clonalHomeostasis | 1.181 | 0.000 | 1.181 | |
| clonalLength | 1.890 | 0.008 | 1.897 | |
| clonalNetwork | 0.001 | 0.000 | 0.000 | |
| clonalOccupy | 1.895 | 0.006 | 1.900 | |
| clonalOverlap | 2.170 | 0.000 | 2.171 | |
| clonalOverlay | 1.614 | 0.000 | 1.613 | |
| clonalProportion | 1.092 | 0.001 | 1.093 | |
| clonalQuant | 1.162 | 0.001 | 1.163 | |
| clonalRarefaction | 4.062 | 0.001 | 4.063 | |
| clonalScatter | 1.139 | 0.028 | 1.168 | |
| clonalSizeDistribution | 7.643 | 0.016 | 7.660 | |
| combineBCR | 1.703 | 0.037 | 2.201 | |
| combineExpression | 1.229 | 0.020 | 1.249 | |
| combineTCR | 0.798 | 0.004 | 0.802 | |
| createHTOContigList | 0 | 0 | 0 | |
| exportClones | 0.000 | 0.001 | 0.000 | |
| getCirclize | 1.412 | 0.008 | 1.422 | |
| highlightClones | 1.265 | 0.040 | 1.306 | |
| loadContigs | 0.720 | 0.019 | 1.901 | |
| percentAA | 2.052 | 0.013 | 2.064 | |
| percentGeneUsage | 6.829 | 0.040 | 6.869 | |
| percentKmer | 1.528 | 0.006 | 1.534 | |
| positionalEntropy | 2.452 | 0.084 | 2.536 | |
| positionalProperty | 2.271 | 0.021 | 2.292 | |
| quietVDJgenes | 0.077 | 0.000 | 0.078 | |
| subsetClones | 0.750 | 0.000 | 0.751 | |